BEGIN:VCALENDAR
VERSION:2.0
PRODID:-//Southern Prairie Library - ECPv6.15.14//NONSGML v1.0//EN
CALSCALE:GREGORIAN
METHOD:PUBLISH
X-ORIGINAL-URL:https://spls.lib.ok.us
X-WR-CALDESC:Events for Southern Prairie Library
REFRESH-INTERVAL;VALUE=DURATION:PT1H
X-Robots-Tag:noindex
X-PUBLISHED-TTL:PT1H
BEGIN:VTIMEZONE
TZID:America/Chicago
BEGIN:DAYLIGHT
TZOFFSETFROM:-0600
TZOFFSETTO:-0500
TZNAME:CDT
DTSTART:20250309T080000
END:DAYLIGHT
BEGIN:STANDARD
TZOFFSETFROM:-0500
TZOFFSETTO:-0600
TZNAME:CST
DTSTART:20251102T070000
END:STANDARD
BEGIN:DAYLIGHT
TZOFFSETFROM:-0600
TZOFFSETTO:-0500
TZNAME:CDT
DTSTART:20260308T080000
END:DAYLIGHT
BEGIN:STANDARD
TZOFFSETFROM:-0500
TZOFFSETTO:-0600
TZNAME:CST
DTSTART:20261101T070000
END:STANDARD
BEGIN:DAYLIGHT
TZOFFSETFROM:-0600
TZOFFSETTO:-0500
TZNAME:CDT
DTSTART:20270314T080000
END:DAYLIGHT
BEGIN:STANDARD
TZOFFSETFROM:-0500
TZOFFSETTO:-0600
TZNAME:CST
DTSTART:20271107T070000
END:STANDARD
END:VTIMEZONE
BEGIN:VEVENT
DTSTART;TZID=America/Chicago:20260331T110000
DTEND;TZID=America/Chicago:20260331T120000
DTSTAMP:20260421T003259
CREATED:20250814T145520Z
LAST-MODIFIED:20260330T152644Z
UID:9746-1774954800-1774958400@spls.lib.ok.us
SUMMARY:Chair Yoga @ 11 a.m.
DESCRIPTION:Chair Yoga is taught by licensed instructor Erin Martinez. \nThis free event is held every Tuesday and Thursday from 11 a.m. to 11:45 a.m. at the Altus Public Library. \nYou will learn safe and easy exercises to keep your muscles and joints strong as well as tips on proper breathing. \nFor more information\, or to sign up\, call the Altus Public Library at 580-477-2890.
URL:https://spls.lib.ok.us/event/chair-yoga-11-a-m-78/2026-03-31/
CATEGORIES:Adults,Literacy Event
END:VEVENT
BEGIN:VEVENT
DTSTART;TZID=America/Chicago:20260401T100000
DTEND;TZID=America/Chicago:20260401T110000
DTSTAMP:20260421T003259
CREATED:20260330T153139Z
LAST-MODIFIED:20260330T164020Z
UID:9827-1775037600-1775041200@spls.lib.ok.us
SUMMARY:Coffee Cup @ 10 a.m. w/ George Getschow
DESCRIPTION:We hope you will join us this Wednesday\, April 1st\, 2026\, to enjoy a book review and discussion of the life and legacy of Pulitzer Prize winning author\, Larry McMurtry. \nGeorge Getschow\, editor of “Pastures of the Empty Page\,” will be discussing his book and his personal knowledge of Larry McMurtry. \nThe program is held at 10:00 am at the Altus Public Library\, 421 N. Hudson. This program is free and open to the public.
URL:https://spls.lib.ok.us/event/coffee-cup-10-a-m-w-george-getschow/
CATEGORIES:Adults
END:VEVENT
BEGIN:VEVENT
DTSTART;TZID=America/Chicago:20260401T110000
DTEND;TZID=America/Chicago:20260401T120000
DTSTAMP:20260421T003259
CREATED:20260330T163812Z
LAST-MODIFIED:20260330T163812Z
UID:9830-1775041200-1775044800@spls.lib.ok.us
SUMMARY:Story Time & Craft @ 11 a.m.
DESCRIPTION:April Story Time is Here! \nJoin us at the Altus Public Library all month long for stories and crafts designed for ages Pre-K & up! Each week brings a brand-new theme and a fun hands-on activity your little ones will love. \nApril Story Time Schedule (11 AM):\nApril 1 (Wed) – Ducks | Craft: Duck Finger Puppets\nApril 8 (Wed) – Books | Craft: DIY Bookmarks\nApril 14 (Tues) – Bilingual Story Time: Colors | Craft: Rainbow Dot Marker Pages\nApril 22 (Wed) – Earth Day | Craft: Earth Craft\nApril 29 (Wed) – Music | Craft: DIY Maracas \nBring your little readers for a month full of learning\, creativity\, and fun! \nAltus Public Library – 421 N Hudson\n(580) 477-2890
URL:https://spls.lib.ok.us/event/story-time-craft-11-a-m-44/2026-04-01/
CATEGORIES:Family,Infants & Toddlers up to age 5
END:VEVENT
BEGIN:VEVENT
DTSTART;TZID=America/Chicago:20260402T110000
DTEND;TZID=America/Chicago:20260402T120000
DTSTAMP:20260421T003259
CREATED:20250814T145520Z
LAST-MODIFIED:20250814T145520Z
UID:9802-1775127600-1775131200@spls.lib.ok.us
SUMMARY:Chair Yoga @ 11 a.m.
DESCRIPTION:Chair Yoga is taught by licensed instructor Erin Martinez. \nThis free event is held every Tuesday and Thursday from 11 a.m. to 11:45 a.m. at the Altus Public Library. \nYou will learn safe and easy exercises to keep your muscles and joints strong as well as tips on proper breathing. \nFor more information\, or to sign up\, call the Altus Public Library at 580-477-2890.
URL:https://spls.lib.ok.us/event/chair-yoga-11-a-m-78/2026-04-02/
CATEGORIES:Adults,Literacy Event
END:VEVENT
BEGIN:VEVENT
DTSTART;TZID=America/Chicago:20260402T160000
DTEND;TZID=America/Chicago:20260402T170000
DTSTAMP:20260421T003259
CREATED:20250814T142928Z
LAST-MODIFIED:20260330T163939Z
UID:9818-1775145600-1775149200@spls.lib.ok.us
SUMMARY:Zumba Gold @ 4 p.m.
DESCRIPTION:Zumba Gold is taught by licensed instructor Janel Picinich. \nThis free event is held every Thursday from 4 p.m. to 4:45 p.m. at the Altus Public Library. \nThe health benefits of Zumba Gold include a full body workout\, calorie burning\, adaptability of any fitness level\, improved blood pressure\, and building endurance! \nFor more information\, or to sign up\, call the Altus Public Library at 580-477-2890.
URL:https://spls.lib.ok.us/event/zumba-gold-4-p-m-39/2026-04-02/
CATEGORIES:Adults,Literacy Event
END:VEVENT
BEGIN:VEVENT
DTSTART;TZID=America/Chicago:20260403T160000
DTEND;TZID=America/Chicago:20260403T170000
DTSTAMP:20260421T003259
CREATED:20260330T191109Z
LAST-MODIFIED:20260330T191109Z
UID:9844-1775232000-1775235600@spls.lib.ok.us
SUMMARY:STEAM Day @ 4 p.m.
DESCRIPTION:BINGO… but make it STEAM! \nJoin us for a fun and interactive STEAM Day where we’ll be playing STEAM Bingo! Test your knowledge\, learn something new\, and enjoy hands-on fun—and the best part? Everyone walks away with a prize! \nFriday\, April 3rd\n4:00 PM\nAltus Public Library – 421 N Hudson \nBring your curiosity and get ready for an exciting afternoon of science\, technology\, engineering\, art\, and math!
URL:https://spls.lib.ok.us/event/steam-day-4-p-m-7/
CATEGORIES:Ages 8-18,Family
END:VEVENT
END:VCALENDAR