BEGIN:VCALENDAR
VERSION:2.0
PRODID:-//Southern Prairie Library - ECPv6.15.14//NONSGML v1.0//EN
CALSCALE:GREGORIAN
METHOD:PUBLISH
X-ORIGINAL-URL:https://spls.lib.ok.us
X-WR-CALDESC:Events for Southern Prairie Library
REFRESH-INTERVAL;VALUE=DURATION:PT1H
X-Robots-Tag:noindex
X-PUBLISHED-TTL:PT1H
BEGIN:VTIMEZONE
TZID:America/Chicago
BEGIN:DAYLIGHT
TZOFFSETFROM:-0600
TZOFFSETTO:-0500
TZNAME:CDT
DTSTART:20250309T080000
END:DAYLIGHT
BEGIN:STANDARD
TZOFFSETFROM:-0500
TZOFFSETTO:-0600
TZNAME:CST
DTSTART:20251102T070000
END:STANDARD
BEGIN:DAYLIGHT
TZOFFSETFROM:-0600
TZOFFSETTO:-0500
TZNAME:CDT
DTSTART:20260308T080000
END:DAYLIGHT
BEGIN:STANDARD
TZOFFSETFROM:-0500
TZOFFSETTO:-0600
TZNAME:CST
DTSTART:20261101T070000
END:STANDARD
BEGIN:DAYLIGHT
TZOFFSETFROM:-0600
TZOFFSETTO:-0500
TZNAME:CDT
DTSTART:20270314T080000
END:DAYLIGHT
BEGIN:STANDARD
TZOFFSETFROM:-0500
TZOFFSETTO:-0600
TZNAME:CST
DTSTART:20271107T070000
END:STANDARD
END:VTIMEZONE
BEGIN:VEVENT
DTSTART;TZID=America/Chicago:20260224T110000
DTEND;TZID=America/Chicago:20260224T120000
DTSTAMP:20260420T225015
CREATED:20250814T145520Z
LAST-MODIFIED:20260330T152643Z
UID:9642-1771930800-1771934400@spls.lib.ok.us
SUMMARY:Chair Yoga @ 11 a.m.
DESCRIPTION:Chair Yoga is taught by licensed instructor Erin Martinez. \nThis free event is held every Tuesday and Thursday from 11 a.m. to 11:45 a.m. at the Altus Public Library. \nYou will learn safe and easy exercises to keep your muscles and joints strong as well as tips on proper breathing. \nFor more information\, or to sign up\, call the Altus Public Library at 580-477-2890.
URL:https://spls.lib.ok.us/event/chair-yoga-11-a-m-78/2026-02-24/
CATEGORIES:Adults,Literacy Event
END:VEVENT
BEGIN:VEVENT
DTSTART;TZID=America/Chicago:20260225T110000
DTEND;TZID=America/Chicago:20260225T120000
DTSTAMP:20260420T225015
CREATED:20260203T201356Z
LAST-MODIFIED:20260203T201356Z
UID:9694-1772017200-1772020800@spls.lib.ok.us
SUMMARY:Story Time @ 11 a.m.
DESCRIPTION:February Story Time at Altus Public Library! \nJoin us every week in February for Story Time at 11 AM\, perfect for ages Pre-K & up! Each week features a fun theme\, stories\, and a simple craft to enjoy together. \nFebruary Story Time Schedule:\n-Wednesday\, February 4 – Funny Stories | Craft: Hot Cocoa Craft\n-Wednesday\, February 11 – Valentine’s Day | Craft: Heart Wreath\n-Wednesday\, February 25 – Fairytales | Dragon Headband \nAltus Public Library – 421 N Hudson St.\n(580) 477-2890 \nWe can’t wait to read\, laugh\, and create with you this February!
URL:https://spls.lib.ok.us/event/story-time-11-a-m/2026-02-25/
CATEGORIES:Family,Infants & Toddlers up to age 5
END:VEVENT
BEGIN:VEVENT
DTSTART;TZID=America/Chicago:20260226T110000
DTEND;TZID=America/Chicago:20260226T120000
DTSTAMP:20260420T225015
CREATED:20250814T145520Z
LAST-MODIFIED:20260330T152643Z
UID:9643-1772103600-1772107200@spls.lib.ok.us
SUMMARY:Chair Yoga @ 11 a.m.
DESCRIPTION:Chair Yoga is taught by licensed instructor Erin Martinez. \nThis free event is held every Tuesday and Thursday from 11 a.m. to 11:45 a.m. at the Altus Public Library. \nYou will learn safe and easy exercises to keep your muscles and joints strong as well as tips on proper breathing. \nFor more information\, or to sign up\, call the Altus Public Library at 580-477-2890.
URL:https://spls.lib.ok.us/event/chair-yoga-11-a-m-78/2026-02-26/
CATEGORIES:Adults,Literacy Event
END:VEVENT
BEGIN:VEVENT
DTSTART;TZID=America/Chicago:20260226T160000
DTEND;TZID=America/Chicago:20260226T170000
DTSTAMP:20260420T225015
CREATED:20250814T142928Z
LAST-MODIFIED:20260330T163937Z
UID:9655-1772121600-1772125200@spls.lib.ok.us
SUMMARY:Zumba Gold @ 4 p.m.
DESCRIPTION:Zumba Gold is taught by licensed instructor Janel Picinich. \nThis free event is held every Thursday from 4 p.m. to 4:45 p.m. at the Altus Public Library. \nThe health benefits of Zumba Gold include a full body workout\, calorie burning\, adaptability of any fitness level\, improved blood pressure\, and building endurance! \nFor more information\, or to sign up\, call the Altus Public Library at 580-477-2890.
URL:https://spls.lib.ok.us/event/zumba-gold-4-p-m-39/2026-02-26/
CATEGORIES:Adults,Literacy Event
END:VEVENT
BEGIN:VEVENT
DTSTART;TZID=America/Chicago:20260226T170000
DTEND;TZID=America/Chicago:20260226T190000
DTSTAMP:20260420T225015
CREATED:20260203T184058Z
LAST-MODIFIED:20260203T184058Z
UID:9671-1772125200-1772132400@spls.lib.ok.us
SUMMARY:Silent Book Club @ 5 p.m.
DESCRIPTION:Looking for a calm\, cozy way to spend your Monday? Join us for Silent Book Club at the Altus Public Library! \nBring your current read\, something from your TBR\, or grab a book from our shelves. \nSettle in and enjoy two uninterrupted hours of reading time—no assigned book\, no discussion required. \n-Thursday\, February 26\n-5:00 PM – 7:00 PM\n-Altus Public Library – 421 N Hudson \nCome as you are\, read what you love\, and enjoy the quiet together.
URL:https://spls.lib.ok.us/event/silent-book-club-5-p-m-6/
CATEGORIES:Adults
END:VEVENT
BEGIN:VEVENT
DTSTART;TZID=America/Chicago:20260227T110000
DTEND;TZID=America/Chicago:20260227T120000
DTSTAMP:20260420T225015
CREATED:20260203T184503Z
LAST-MODIFIED:20260203T184602Z
UID:9675-1772190000-1772193600@spls.lib.ok.us
SUMMARY:Ya Ya Yarn @ 11 a.m.
DESCRIPTION:  \n\n\nDo you knit or crochet—or have you always wanted to learn? Join us for Ya Ya Yarn at the Altus Public Library! \nWhether you’re an experienced crafter or a total beginner\, this relaxed and friendly group is open to everyone. Bring your current project\, start something new\, or just come to learn and connect with others who love yarn crafts. \n-Friday\, February 27\n-11:00 AM\n-Altus Public Library – 421 N Hudson \nAll skill levels are welcome—no experience required!
URL:https://spls.lib.ok.us/event/ya-ya-yarn-11-a-m-30/
CATEGORIES:Adults,Family
END:VEVENT
END:VCALENDAR