BEGIN:VCALENDAR
VERSION:2.0
PRODID:-//Southern Prairie Library - ECPv6.15.14//NONSGML v1.0//EN
CALSCALE:GREGORIAN
METHOD:PUBLISH
X-WR-CALNAME:Southern Prairie Library
X-ORIGINAL-URL:https://spls.lib.ok.us
X-WR-CALDESC:Events for Southern Prairie Library
REFRESH-INTERVAL;VALUE=DURATION:PT1H
X-Robots-Tag:noindex
X-PUBLISHED-TTL:PT1H
BEGIN:VTIMEZONE
TZID:America/Chicago
BEGIN:DAYLIGHT
TZOFFSETFROM:-0600
TZOFFSETTO:-0500
TZNAME:CDT
DTSTART:20250309T080000
END:DAYLIGHT
BEGIN:STANDARD
TZOFFSETFROM:-0500
TZOFFSETTO:-0600
TZNAME:CST
DTSTART:20251102T070000
END:STANDARD
BEGIN:DAYLIGHT
TZOFFSETFROM:-0600
TZOFFSETTO:-0500
TZNAME:CDT
DTSTART:20260308T080000
END:DAYLIGHT
BEGIN:STANDARD
TZOFFSETFROM:-0500
TZOFFSETTO:-0600
TZNAME:CST
DTSTART:20261101T070000
END:STANDARD
BEGIN:DAYLIGHT
TZOFFSETFROM:-0600
TZOFFSETTO:-0500
TZNAME:CDT
DTSTART:20270314T080000
END:DAYLIGHT
BEGIN:STANDARD
TZOFFSETFROM:-0500
TZOFFSETTO:-0600
TZNAME:CST
DTSTART:20271107T070000
END:STANDARD
END:VTIMEZONE
BEGIN:VEVENT
DTSTART;TZID=America/Chicago:20260210T093000
DTEND;TZID=America/Chicago:20260210T113000
DTSTAMP:20260420T171327
CREATED:20260203T185922Z
LAST-MODIFIED:20260203T190023Z
UID:9684-1770715800-1770723000@spls.lib.ok.us
SUMMARY:Jackson County Health Department Community Outreach @ 9:30 a.m.
DESCRIPTION:Do you have questions about food assistance\, insurance\, local services or specialized help? Thanks to a partnership with the District 5 Southwest Oklahoma County Health Departments\, help is available! \nA Community Health Worker (CHW) can help you navigate your unique situation. Stop by the Altus Public Library\, 421 N. Hudson\, from 9:30 AM to 11:30 AM Tuesday\, February 10th! There will be a CHW here to help you find the right solutions to your specific needs. \nThis program is FREE and open to the public! Come see us!
URL:https://spls.lib.ok.us/event/jackson-county-health-department-community-outreach-12-p-m-9/
CATEGORIES:Family
END:VEVENT
BEGIN:VEVENT
DTSTART;TZID=America/Chicago:20260210T110000
DTEND;TZID=America/Chicago:20260210T120000
DTSTAMP:20260420T171327
CREATED:20250814T145520Z
LAST-MODIFIED:20260330T152643Z
UID:9638-1770721200-1770724800@spls.lib.ok.us
SUMMARY:Chair Yoga @ 11 a.m.
DESCRIPTION:Chair Yoga is taught by licensed instructor Erin Martinez. \nThis free event is held every Tuesday and Thursday from 11 a.m. to 11:45 a.m. at the Altus Public Library. \nYou will learn safe and easy exercises to keep your muscles and joints strong as well as tips on proper breathing. \nFor more information\, or to sign up\, call the Altus Public Library at 580-477-2890.
URL:https://spls.lib.ok.us/event/chair-yoga-11-a-m-78/2026-02-10/
CATEGORIES:Adults,Literacy Event
END:VEVENT
BEGIN:VEVENT
DTSTART;TZID=America/Chicago:20260211T110000
DTEND;TZID=America/Chicago:20260211T120000
DTSTAMP:20260420T171327
CREATED:20260203T201356Z
LAST-MODIFIED:20260203T201356Z
UID:9693-1770807600-1770811200@spls.lib.ok.us
SUMMARY:Story Time @ 11 a.m.
DESCRIPTION:February Story Time at Altus Public Library! \nJoin us every week in February for Story Time at 11 AM\, perfect for ages Pre-K & up! Each week features a fun theme\, stories\, and a simple craft to enjoy together. \nFebruary Story Time Schedule:\n-Wednesday\, February 4 – Funny Stories | Craft: Hot Cocoa Craft\n-Wednesday\, February 11 – Valentine’s Day | Craft: Heart Wreath\n-Wednesday\, February 25 – Fairytales | Dragon Headband \nAltus Public Library – 421 N Hudson St.\n(580) 477-2890 \nWe can’t wait to read\, laugh\, and create with you this February!
URL:https://spls.lib.ok.us/event/story-time-11-a-m/2026-02-11/
CATEGORIES:Family,Infants & Toddlers up to age 5
END:VEVENT
BEGIN:VEVENT
DTSTART;TZID=America/Chicago:20260211T153000
DTEND;TZID=America/Chicago:20260211T173000
DTSTAMP:20260420T171327
CREATED:20260203T190108Z
LAST-MODIFIED:20260203T190108Z
UID:9688-1770823800-1770831000@spls.lib.ok.us
SUMMARY:Group Connection @ 3:30 p.m.
DESCRIPTION:
URL:https://spls.lib.ok.us/event/group-connection-330-p-m-2/
CATEGORIES:Family,Infants & Toddlers up to age 5
END:VEVENT
BEGIN:VEVENT
DTSTART;TZID=America/Chicago:20260212T110000
DTEND;TZID=America/Chicago:20260212T120000
DTSTAMP:20260420T171327
CREATED:20250814T145520Z
LAST-MODIFIED:20260330T152643Z
UID:9639-1770894000-1770897600@spls.lib.ok.us
SUMMARY:Chair Yoga @ 11 a.m.
DESCRIPTION:Chair Yoga is taught by licensed instructor Erin Martinez. \nThis free event is held every Tuesday and Thursday from 11 a.m. to 11:45 a.m. at the Altus Public Library. \nYou will learn safe and easy exercises to keep your muscles and joints strong as well as tips on proper breathing. \nFor more information\, or to sign up\, call the Altus Public Library at 580-477-2890.
URL:https://spls.lib.ok.us/event/chair-yoga-11-a-m-78/2026-02-12/
CATEGORIES:Adults,Literacy Event
END:VEVENT
BEGIN:VEVENT
DTSTART;TZID=America/Chicago:20260212T160000
DTEND;TZID=America/Chicago:20260212T170000
DTSTAMP:20260420T171327
CREATED:20250814T142928Z
LAST-MODIFIED:20260330T163937Z
UID:9653-1770912000-1770915600@spls.lib.ok.us
SUMMARY:Zumba Gold @ 4 p.m.
DESCRIPTION:Zumba Gold is taught by licensed instructor Janel Picinich. \nThis free event is held every Thursday from 4 p.m. to 4:45 p.m. at the Altus Public Library. \nThe health benefits of Zumba Gold include a full body workout\, calorie burning\, adaptability of any fitness level\, improved blood pressure\, and building endurance! \nFor more information\, or to sign up\, call the Altus Public Library at 580-477-2890.
URL:https://spls.lib.ok.us/event/zumba-gold-4-p-m-39/2026-02-12/
CATEGORIES:Adults,Literacy Event
END:VEVENT
END:VCALENDAR