BEGIN:VCALENDAR
VERSION:2.0
PRODID:-//Southern Prairie Library - ECPv6.15.14//NONSGML v1.0//EN
CALSCALE:GREGORIAN
METHOD:PUBLISH
X-ORIGINAL-URL:https://spls.lib.ok.us
X-WR-CALDESC:Events for Southern Prairie Library
REFRESH-INTERVAL;VALUE=DURATION:PT1H
X-Robots-Tag:noindex
X-PUBLISHED-TTL:PT1H
BEGIN:VTIMEZONE
TZID:America/Chicago
BEGIN:DAYLIGHT
TZOFFSETFROM:-0600
TZOFFSETTO:-0500
TZNAME:CDT
DTSTART:20220313T080000
END:DAYLIGHT
BEGIN:STANDARD
TZOFFSETFROM:-0500
TZOFFSETTO:-0600
TZNAME:CST
DTSTART:20221106T070000
END:STANDARD
BEGIN:DAYLIGHT
TZOFFSETFROM:-0600
TZOFFSETTO:-0500
TZNAME:CDT
DTSTART:20230312T080000
END:DAYLIGHT
BEGIN:STANDARD
TZOFFSETFROM:-0500
TZOFFSETTO:-0600
TZNAME:CST
DTSTART:20231105T070000
END:STANDARD
BEGIN:DAYLIGHT
TZOFFSETFROM:-0600
TZOFFSETTO:-0500
TZNAME:CDT
DTSTART:20240310T080000
END:DAYLIGHT
BEGIN:STANDARD
TZOFFSETFROM:-0500
TZOFFSETTO:-0600
TZNAME:CST
DTSTART:20241103T070000
END:STANDARD
END:VTIMEZONE
BEGIN:VEVENT
DTSTART;TZID=America/Chicago:20230401T090000
DTEND;TZID=America/Chicago:20230401T120000
DTSTAMP:20260420T151834
CREATED:20230328T163907Z
LAST-MODIFIED:20230328T163907Z
UID:5966-1680339600-1680350400@spls.lib.ok.us
SUMMARY:"Grate" Spelling Bee @ 9 a.m. at WOSC
DESCRIPTION:
URL:https://spls.lib.ok.us/event/grate-spelling-bee-9-a-m-at-wosc/
CATEGORIES:Adults,Family,Literacy Event
END:VEVENT
BEGIN:VEVENT
DTSTART;TZID=America/Chicago:20230405T100000
DTEND;TZID=America/Chicago:20230405T110000
DTSTAMP:20260420T151834
CREATED:20230328T163050Z
LAST-MODIFIED:20230403T134842Z
UID:5906-1680688800-1680692400@spls.lib.ok.us
SUMMARY:Coffee Cup @ 10 a.m. w/ Jay Snider
DESCRIPTION:The Coffee Cup Bunch Friends of the Library welcomes Oklahoma’s Poet Laureate\, Jay Snider\, at 10:00 a.m. on Wednesday\, April 5th\, 2023\, at the Altus Public Library\, 421 N. Hudson. \nJay is an award-winning cowboy poet and recording artist. You are invited to hear him recite his poetry which celebrates his love for our western heritage and the cowboy way of life. \nThis event is free and open to the public. We hope you will join us!!
URL:https://spls.lib.ok.us/event/coffee-cup-10-a-m-w-jay-snider/
CATEGORIES:Adults
END:VEVENT
BEGIN:VEVENT
DTSTART;TZID=America/Chicago:20230414T110000
DTEND;TZID=America/Chicago:20230414T120000
DTSTAMP:20260420T151834
CREATED:20230328T164037Z
LAST-MODIFIED:20230328T164037Z
UID:5969-1681470000-1681473600@spls.lib.ok.us
SUMMARY:Ya Ya Yarn @ 11 a.m.
DESCRIPTION:
URL:https://spls.lib.ok.us/event/ya-ya-yarn-11-a-m/
CATEGORIES:Adults
END:VEVENT
BEGIN:VEVENT
DTSTART;TZID=America/Chicago:20230417T180000
DTEND;TZID=America/Chicago:20230417T200000
DTSTAMP:20260420T151834
CREATED:20230328T164410Z
LAST-MODIFIED:20230328T164410Z
UID:5973-1681754400-1681761600@spls.lib.ok.us
SUMMARY:Watercolor @ 6 p.m. w/ Lyn Taylor
DESCRIPTION:Classes are held at the Altus Public Library\, 6-8 p.m. Pre-registration is required and closes 5 days before class begins. Class size is limited so please make your reservations soon. To register and make payment contact or visit the Altus Public Library. \nClass fees are $35 per session. \nClasses are open to all experience levels and are for adults and students ages 16 years and older. \nFor more information\, please contact Shortgrass Arts & Humanities Council at (580) 477-1616.
URL:https://spls.lib.ok.us/event/watercolor-6-p-m-w-lyn-taylor/2023-04-17/
CATEGORIES:16 & up,Adults
END:VEVENT
BEGIN:VEVENT
DTSTART;TZID=America/Chicago:20230418T160000
DTEND;TZID=America/Chicago:20230418T170000
DTSTAMP:20260420T151834
CREATED:20230328T164145Z
LAST-MODIFIED:20230522T214020Z
UID:5971-1681833600-1681837200@spls.lib.ok.us
SUMMARY:Teen Tuesday @ 4 p.m.
DESCRIPTION:
URL:https://spls.lib.ok.us/event/teen-tuesday-4-p-m-4/2023-04-18/
CATEGORIES:Ages 13-18
END:VEVENT
BEGIN:VEVENT
DTSTART;TZID=America/Chicago:20230419T100000
DTEND;TZID=America/Chicago:20230419T110000
DTSTAMP:20260420T151834
CREATED:20230328T163416Z
LAST-MODIFIED:20230328T163416Z
UID:5915-1681898400-1681902000@spls.lib.ok.us
SUMMARY:Bilingual Story Time & Craft @ 10 a.m.
DESCRIPTION:
URL:https://spls.lib.ok.us/event/bilingual-story-time-craft-10-a-m-5/
CATEGORIES:Family,Infants & Toddlers up to age 5,Literacy Event
END:VEVENT
BEGIN:VEVENT
DTSTART;VALUE=DATE:20230423
DTEND;VALUE=DATE:20230430
DTSTAMP:20260420T151834
CREATED:20230328T164735Z
LAST-MODIFIED:20230328T164735Z
UID:5980-1682208000-1682812799@spls.lib.ok.us
SUMMARY:National Library Week
DESCRIPTION:
URL:https://spls.lib.ok.us/event/national-library-week/
CATEGORIES:Family
END:VEVENT
END:VCALENDAR