BEGIN:VCALENDAR
VERSION:2.0
PRODID:-//Southern Prairie Library - ECPv6.15.14//NONSGML v1.0//EN
CALSCALE:GREGORIAN
METHOD:PUBLISH
X-ORIGINAL-URL:https://spls.lib.ok.us
X-WR-CALDESC:Events for Southern Prairie Library
REFRESH-INTERVAL;VALUE=DURATION:PT1H
X-Robots-Tag:noindex
X-PUBLISHED-TTL:PT1H
BEGIN:VTIMEZONE
TZID:America/Chicago
BEGIN:DAYLIGHT
TZOFFSETFROM:-0600
TZOFFSETTO:-0500
TZNAME:CDT
DTSTART:20210314T080000
END:DAYLIGHT
BEGIN:STANDARD
TZOFFSETFROM:-0500
TZOFFSETTO:-0600
TZNAME:CST
DTSTART:20211107T070000
END:STANDARD
BEGIN:DAYLIGHT
TZOFFSETFROM:-0600
TZOFFSETTO:-0500
TZNAME:CDT
DTSTART:20220313T080000
END:DAYLIGHT
BEGIN:STANDARD
TZOFFSETFROM:-0500
TZOFFSETTO:-0600
TZNAME:CST
DTSTART:20221106T070000
END:STANDARD
BEGIN:DAYLIGHT
TZOFFSETFROM:-0600
TZOFFSETTO:-0500
TZNAME:CDT
DTSTART:20230312T080000
END:DAYLIGHT
BEGIN:STANDARD
TZOFFSETFROM:-0500
TZOFFSETTO:-0600
TZNAME:CST
DTSTART:20231105T070000
END:STANDARD
END:VTIMEZONE
BEGIN:VEVENT
DTSTART;TZID=America/Chicago:20220901T100000
DTEND;TZID=America/Chicago:20220901T110000
DTSTAMP:20260420T225013
CREATED:20220819T194048Z
LAST-MODIFIED:20220909T153103Z
UID:5039-1662026400-1662030000@spls.lib.ok.us
SUMMARY:Tai Chi @ 10 a.m. - with Megan Monteith
DESCRIPTION:
URL:https://spls.lib.ok.us/event/tai-chi-10-a-m-with-megan-monteith/2022-09-01/
CATEGORIES:Adults
END:VEVENT
BEGIN:VEVENT
DTSTART;VALUE=DATE:20220905
DTEND;VALUE=DATE:20220906
DTSTAMP:20260420T225013
CREATED:20220819T193244Z
LAST-MODIFIED:20220819T193244Z
UID:5035-1662336000-1662422399@spls.lib.ok.us
SUMMARY:Closed - Labor Day
DESCRIPTION:
URL:https://spls.lib.ok.us/event/closed-labor-day/
CATEGORIES:Family
END:VEVENT
BEGIN:VEVENT
DTSTART;TZID=America/Chicago:20220907T100000
DTEND;TZID=America/Chicago:20220907T110000
DTSTAMP:20260420T225013
CREATED:20220819T195251Z
LAST-MODIFIED:20220906T184611Z
UID:5065-1662544800-1662548400@spls.lib.ok.us
SUMMARY:Coffee Cup @ 10 a.m. - CANCELLED
DESCRIPTION:The “Coffee Cup Bunch” Book Review Program scheduled for Wednesday\, September 7th\, at 10 a.m. has been canceled. Our guest speaker notified us this morning that he is ill and unable to travel. We look forward to seeing everyone in October!
URL:https://spls.lib.ok.us/event/coffee-cup-10-a-m/
CATEGORIES:Adults
END:VEVENT
BEGIN:VEVENT
DTSTART;TZID=America/Chicago:20220908T160000
DTEND;TZID=America/Chicago:20220908T170000
DTSTAMP:20260420T225013
CREATED:20220721T165240Z
LAST-MODIFIED:20220906T185628Z
UID:5054-1662652800-1662656400@spls.lib.ok.us
SUMMARY:Kik It Up @ 4 pm - with Shelly Mullens - Cancelled
DESCRIPTION:The instructor is unable to make it this week. She will be back next week.
URL:https://spls.lib.ok.us/event/kick-it-up-4-pm-2022-09-08/
CATEGORIES:Family,Literacy Event
END:VEVENT
BEGIN:VEVENT
DTSTART;TZID=America/Chicago:20220912T180000
DTEND;TZID=America/Chicago:20220912T190000
DTSTAMP:20260420T225013
CREATED:20220819T193522Z
LAST-MODIFIED:20220819T193705Z
UID:5037-1663005600-1663009200@spls.lib.ok.us
SUMMARY:Among Us in Real Life @ 6 p.m. - Grades 3-8
DESCRIPTION:
URL:https://spls.lib.ok.us/event/among-us-in-real-life-6-p-m-grades-3-8/
CATEGORIES:Grades 3rd-8th
ATTACH;FMTTYPE=image/png:https://spls.lib.ok.us/wp-content/uploads/2022/08/Picture2.png
END:VEVENT
BEGIN:VEVENT
DTSTART;TZID=America/Chicago:20220921T110000
DTEND;TZID=America/Chicago:20220921T120000
DTSTAMP:20260420T225013
CREATED:20220721T170235Z
LAST-MODIFIED:20220819T191508Z
UID:5016-1663758000-1663761600@spls.lib.ok.us
SUMMARY:Bilingual Story Time & Craft @ 11 am
DESCRIPTION:
URL:https://spls.lib.ok.us/event/story-time-craft-11-am-2-2022-09-28/
CATEGORIES:Family,Infants & Toddlers up to age 5
END:VEVENT
BEGIN:VEVENT
DTSTART;VALUE=DATE:20220924
DTEND;VALUE=DATE:20220925
DTSTAMP:20260420T225013
CREATED:20220819T195056Z
LAST-MODIFIED:20220819T195056Z
UID:5060-1663977600-1664063999@spls.lib.ok.us
SUMMARY:National Ghost Hunting Day
DESCRIPTION:
URL:https://spls.lib.ok.us/event/national-ghost-hunting-day/
CATEGORIES:Family
ATTACH;FMTTYPE=image/png:https://spls.lib.ok.us/wp-content/uploads/2022/08/373715.png
END:VEVENT
BEGIN:VEVENT
DTSTART;TZID=America/Chicago:20220926T180000
DTEND;TZID=America/Chicago:20220926T200000
DTSTAMP:20260420T225013
CREATED:20220819T195644Z
LAST-MODIFIED:20220819T195644Z
UID:5067-1664215200-1664222400@spls.lib.ok.us
SUMMARY:Painting with Watercolor Pencils @ 6 p.m. with Lyn Taylor
DESCRIPTION:
URL:https://spls.lib.ok.us/event/painting-with-watercolor-pencils-6-p-m-with-lyn-taylor/2022-09-26/
CATEGORIES:16 & up
END:VEVENT
END:VCALENDAR