BEGIN:VCALENDAR
VERSION:2.0
PRODID:-//Southern Prairie Library - ECPv6.15.14//NONSGML v1.0//EN
CALSCALE:GREGORIAN
METHOD:PUBLISH
X-ORIGINAL-URL:https://spls.lib.ok.us
X-WR-CALDESC:Events for Southern Prairie Library
REFRESH-INTERVAL;VALUE=DURATION:PT1H
X-Robots-Tag:noindex
X-PUBLISHED-TTL:PT1H
BEGIN:VTIMEZONE
TZID:America/Chicago
BEGIN:DAYLIGHT
TZOFFSETFROM:-0600
TZOFFSETTO:-0500
TZNAME:CDT
DTSTART:20210314T080000
END:DAYLIGHT
BEGIN:STANDARD
TZOFFSETFROM:-0500
TZOFFSETTO:-0600
TZNAME:CST
DTSTART:20211107T070000
END:STANDARD
BEGIN:DAYLIGHT
TZOFFSETFROM:-0600
TZOFFSETTO:-0500
TZNAME:CDT
DTSTART:20220313T080000
END:DAYLIGHT
BEGIN:STANDARD
TZOFFSETFROM:-0500
TZOFFSETTO:-0600
TZNAME:CST
DTSTART:20221106T070000
END:STANDARD
BEGIN:DAYLIGHT
TZOFFSETFROM:-0600
TZOFFSETTO:-0500
TZNAME:CDT
DTSTART:20230312T080000
END:DAYLIGHT
BEGIN:STANDARD
TZOFFSETFROM:-0500
TZOFFSETTO:-0600
TZNAME:CST
DTSTART:20231105T070000
END:STANDARD
END:VTIMEZONE
BEGIN:VEVENT
DTSTART;VALUE=DATE:20220704
DTEND;VALUE=DATE:20220705
DTSTAMP:20260421T081002
CREATED:20220622T163334Z
LAST-MODIFIED:20220622T163419Z
UID:4823-1656892800-1656979199@spls.lib.ok.us
SUMMARY:Closed for 4th of July
DESCRIPTION:We will be closed July 4\, 2022 to observe our independence day.\nWhat happened on this day?\nClick on Declaration of Independence  to see what actually happened on this special day.\nThe most noteable line from this document is “all Men are created equal”.
URL:https://spls.lib.ok.us/event/closed-for-4th-of-july/
ATTACH;FMTTYPE=image/png:https://spls.lib.ok.us/wp-content/uploads/2021/06/flag.png
END:VEVENT
BEGIN:VEVENT
DTSTART;TZID=America/Chicago:20220705T110000
DTEND;TZID=America/Chicago:20220705T114500
DTSTAMP:20260421T081002
CREATED:20220629T212537Z
LAST-MODIFIED:20220819T191939Z
UID:4886-1657018800-1657021500@spls.lib.ok.us
SUMMARY:Chair Yoga 4 @11:00 am with Suzanne Rooker
DESCRIPTION:Join us for Chair Yoga!!\nA fun and Free exercise series taught by Licensed Instructor\, Suzanne Rooker.  \nYou will learn: \n\nsafe and easy exercises\nproper breathing\nstrengthen muscles and joints\n\nAt the Altus Public Library every Tuesday\nstarting July 5th – July 26\, 2022\nfrom 11:00 – 11:45 a.m.\nFor more information and to register call the library at 580-477-2890
URL:https://spls.lib.ok.us/event/chair-yoga-4-1100-am-with-suzanne-rooker/2022-07-05/
CATEGORIES:Adults
END:VEVENT
BEGIN:VEVENT
DTSTART;TZID=America/Chicago:20220705T150000
DTEND;TZID=America/Chicago:20220705T160000
DTSTAMP:20260421T081002
CREATED:20220622T192144Z
LAST-MODIFIED:20220622T192144Z
UID:4834-1657033200-1657036800@spls.lib.ok.us
SUMMARY:Teen Tuesday - Sunken Cities @ 3pm
DESCRIPTION:You will be using many different types of materials to make your own Sunken City.
URL:https://spls.lib.ok.us/event/teen-tuesday-sunken-cities-3pm/
CATEGORIES:Grades 5th-12th
END:VEVENT
BEGIN:VEVENT
DTSTART;TZID=America/Chicago:20220707T140000
DTEND;TZID=America/Chicago:20220707T150000
DTSTAMP:20260421T081002
CREATED:20220614T144126Z
LAST-MODIFIED:20220614T144537Z
UID:4808-1657202400-1657206000@spls.lib.ok.us
SUMMARY:Inspyral Circus - "Hooplahoma!" @ 2pm
DESCRIPTION:
URL:https://spls.lib.ok.us/event/inspyral-circus-hooplahoma/
CATEGORIES:Family
END:VEVENT
BEGIN:VEVENT
DTSTART;TZID=America/Chicago:20220712T150000
DTEND;TZID=America/Chicago:20220712T160000
DTSTAMP:20260421T081002
CREATED:20220622T192455Z
LAST-MODIFIED:20220622T192455Z
UID:4836-1657638000-1657641600@spls.lib.ok.us
SUMMARY:Teen Tuesday - Ocean Nailed It @ 3pm
DESCRIPTION:Bring your own ideas or choose from scenes that will be supplied. What will your Ocean Scene look like?
URL:https://spls.lib.ok.us/event/teen-tuesday-ocean-nailed-it-3pm/
CATEGORIES:Grades 5th-12th
END:VEVENT
BEGIN:VEVENT
DTSTART;TZID=America/Chicago:20220714T140000
DTEND;TZID=America/Chicago:20220714T150000
DTSTAMP:20260421T081002
CREATED:20220614T144213Z
LAST-MODIFIED:20220614T144517Z
UID:4810-1657807200-1657810800@spls.lib.ok.us
SUMMARY:Finer Arts of Oklahoma @ 2pm
DESCRIPTION:
URL:https://spls.lib.ok.us/event/finer-arts-of-oklahoma/
CATEGORIES:Family
END:VEVENT
BEGIN:VEVENT
DTSTART;TZID=America/Chicago:20220719T150000
DTEND;TZID=America/Chicago:20220719T160000
DTSTAMP:20260421T081002
CREATED:20220622T192753Z
LAST-MODIFIED:20220622T192753Z
UID:4838-1658242800-1658246400@spls.lib.ok.us
SUMMARY:Teen Tuesday - Animal Crossing: New Horizons Island Hop @3pm
DESCRIPTION:Visit our Library Staff Island for treasures\, games\, freebies and much more. You MUST bring your own Switch or ACNH game.
URL:https://spls.lib.ok.us/event/teen-tuesday-animal-crossing-new-horizons-island-hop-3pm/
CATEGORIES:Grades 5th-12th
END:VEVENT
BEGIN:VEVENT
DTSTART;TZID=America/Chicago:20220721T140000
DTEND;TZID=America/Chicago:20220721T150000
DTSTAMP:20260421T081002
CREATED:20220614T144250Z
LAST-MODIFIED:20220614T144455Z
UID:4812-1658412000-1658415600@spls.lib.ok.us
SUMMARY:Extreme Animals @ 2pm
DESCRIPTION:
URL:https://spls.lib.ok.us/event/extreme-animals-2/
CATEGORIES:Family
END:VEVENT
BEGIN:VEVENT
DTSTART;VALUE=DATE:20220722
DTEND;VALUE=DATE:20220723
DTSTAMP:20260421T081002
CREATED:20220622T164029Z
LAST-MODIFIED:20220622T164400Z
UID:4829-1658448000-1658534399@spls.lib.ok.us
SUMMARY:Last Day For Summer Reading
DESCRIPTION:
URL:https://spls.lib.ok.us/event/last-day-for-summer-reading/
CATEGORIES:Family
ATTACH;FMTTYPE=image/jpeg:https://spls.lib.ok.us/wp-content/uploads/2022/06/CSLP-Adult-Slogan-scaled.jpg
END:VEVENT
BEGIN:VEVENT
DTSTART;TZID=America/Chicago:20220726T150000
DTEND;TZID=America/Chicago:20220726T160000
DTSTAMP:20260421T081002
CREATED:20220622T193155Z
LAST-MODIFIED:20220622T193155Z
UID:4840-1658847600-1658851200@spls.lib.ok.us
SUMMARY:Teen Tuesday - Coastal Cosplay & Movie Night with Origami @ 3pm
DESCRIPTION:Dress up as your favorite ocean themed character/creature and have fun watching “Free Willy” while making an ocean themed origami. We can’t wait to see all the characters/creatures that will be here.
URL:https://spls.lib.ok.us/event/teen-tuesday-coastal-cosplay-movie-night-with-origami-3pm/
CATEGORIES:Grades 5th-12th
END:VEVENT
BEGIN:VEVENT
DTSTART;VALUE=DATE:20220729
DTEND;VALUE=DATE:20220730
DTSTAMP:20260421T081002
CREATED:20220729T143656Z
LAST-MODIFIED:20220729T143656Z
UID:4987-1659052800-1659139199@spls.lib.ok.us
SUMMARY:National Lasagna Day
DESCRIPTION:
URL:https://spls.lib.ok.us/event/national-lasagna-day/
ATTACH;FMTTYPE=image/jpeg:https://spls.lib.ok.us/wp-content/uploads/2022/07/nationallasagnaday.jpeg
END:VEVENT
END:VCALENDAR