BEGIN:VCALENDAR
VERSION:2.0
PRODID:-//Southern Prairie Library - ECPv6.15.14//NONSGML v1.0//EN
CALSCALE:GREGORIAN
METHOD:PUBLISH
X-ORIGINAL-URL:https://spls.lib.ok.us
X-WR-CALDESC:Events for Southern Prairie Library
REFRESH-INTERVAL;VALUE=DURATION:PT1H
X-Robots-Tag:noindex
X-PUBLISHED-TTL:PT1H
BEGIN:VTIMEZONE
TZID:America/Chicago
BEGIN:DAYLIGHT
TZOFFSETFROM:-0600
TZOFFSETTO:-0500
TZNAME:CDT
DTSTART:20230312T080000
END:DAYLIGHT
BEGIN:STANDARD
TZOFFSETFROM:-0500
TZOFFSETTO:-0600
TZNAME:CST
DTSTART:20231105T070000
END:STANDARD
BEGIN:DAYLIGHT
TZOFFSETFROM:-0600
TZOFFSETTO:-0500
TZNAME:CDT
DTSTART:20240310T080000
END:DAYLIGHT
BEGIN:STANDARD
TZOFFSETFROM:-0500
TZOFFSETTO:-0600
TZNAME:CST
DTSTART:20241103T070000
END:STANDARD
BEGIN:DAYLIGHT
TZOFFSETFROM:-0600
TZOFFSETTO:-0500
TZNAME:CDT
DTSTART:20250309T080000
END:DAYLIGHT
BEGIN:STANDARD
TZOFFSETFROM:-0500
TZOFFSETTO:-0600
TZNAME:CST
DTSTART:20251102T070000
END:STANDARD
END:VTIMEZONE
BEGIN:VEVENT
DTSTART;TZID=America/Chicago:20241015T110000
DTEND;TZID=America/Chicago:20241015T120000
DTSTAMP:20260423T144107
CREATED:20241004T201305Z
LAST-MODIFIED:20241004T201305Z
UID:8049-1728990000-1728993600@spls.lib.ok.us
SUMMARY:Chair Yoga @ 11 a.m.
DESCRIPTION:
URL:https://spls.lib.ok.us/event/chair-yoga-11-a-m-6/
CATEGORIES:Adults,Literacy Event
END:VEVENT
BEGIN:VEVENT
DTSTART;TZID=America/Chicago:20241016T173000
DTEND;TZID=America/Chicago:20241016T183000
DTSTAMP:20260423T144107
CREATED:20241004T203231Z
LAST-MODIFIED:20241004T203231Z
UID:8056-1729099800-1729103400@spls.lib.ok.us
SUMMARY:Citizenship Prep Class @ 5:30 p.m.
DESCRIPTION:
URL:https://spls.lib.ok.us/event/citizenship-prep-class-530-p-m-3/
CATEGORIES:Adults,Literacy Event
END:VEVENT
BEGIN:VEVENT
DTSTART;TZID=America/Chicago:20241016T173000
DTEND;TZID=America/Chicago:20241016T183000
DTSTAMP:20260423T144107
CREATED:20241004T203402Z
LAST-MODIFIED:20241004T203402Z
UID:8058-1729099800-1729103400@spls.lib.ok.us
SUMMARY:Beginning English Class @ 5:30 p.m.
DESCRIPTION:
URL:https://spls.lib.ok.us/event/beginning-english-class-530-p-m-4/
CATEGORIES:Adults,Literacy Event
END:VEVENT
BEGIN:VEVENT
DTSTART;TZID=America/Chicago:20241017T110000
DTEND;TZID=America/Chicago:20241017T120000
DTSTAMP:20260423T144107
CREATED:20241004T204348Z
LAST-MODIFIED:20241004T204348Z
UID:8060-1729162800-1729166400@spls.lib.ok.us
SUMMARY:Chair Yoga @ 11 a.m.
DESCRIPTION:
URL:https://spls.lib.ok.us/event/chair-yoga-11-a-m-7/
CATEGORIES:Adults,Literacy Event
END:VEVENT
BEGIN:VEVENT
DTSTART;TZID=America/Chicago:20241017T160000
DTEND;TZID=America/Chicago:20241017T170000
DTSTAMP:20260423T144107
CREATED:20241004T204518Z
LAST-MODIFIED:20241004T204518Z
UID:8062-1729180800-1729184400@spls.lib.ok.us
SUMMARY:Zumba Gold @ 4 p.m.
DESCRIPTION:
URL:https://spls.lib.ok.us/event/zumba-gold-4-p-m-3/
CATEGORIES:Adults,Literacy Event
END:VEVENT
END:VCALENDAR