BEGIN:VCALENDAR
VERSION:2.0
PRODID:-//Southern Prairie Library - ECPv6.15.14//NONSGML v1.0//EN
CALSCALE:GREGORIAN
METHOD:PUBLISH
X-ORIGINAL-URL:https://spls.lib.ok.us
X-WR-CALDESC:Events for Southern Prairie Library
REFRESH-INTERVAL;VALUE=DURATION:PT1H
X-Robots-Tag:noindex
X-PUBLISHED-TTL:PT1H
BEGIN:VTIMEZONE
TZID:America/Chicago
BEGIN:DAYLIGHT
TZOFFSETFROM:-0600
TZOFFSETTO:-0500
TZNAME:CDT
DTSTART:20250309T080000
END:DAYLIGHT
BEGIN:STANDARD
TZOFFSETFROM:-0500
TZOFFSETTO:-0600
TZNAME:CST
DTSTART:20251102T070000
END:STANDARD
BEGIN:DAYLIGHT
TZOFFSETFROM:-0600
TZOFFSETTO:-0500
TZNAME:CDT
DTSTART:20260308T080000
END:DAYLIGHT
BEGIN:STANDARD
TZOFFSETFROM:-0500
TZOFFSETTO:-0600
TZNAME:CST
DTSTART:20261101T070000
END:STANDARD
BEGIN:DAYLIGHT
TZOFFSETFROM:-0600
TZOFFSETTO:-0500
TZNAME:CDT
DTSTART:20270314T080000
END:DAYLIGHT
BEGIN:STANDARD
TZOFFSETFROM:-0500
TZOFFSETTO:-0600
TZNAME:CST
DTSTART:20271107T070000
END:STANDARD
END:VTIMEZONE
BEGIN:VEVENT
DTSTART;TZID=America/Chicago:20260217T110000
DTEND;TZID=America/Chicago:20260217T120000
DTSTAMP:20260422T171751
CREATED:20260203T201611Z
LAST-MODIFIED:20260203T201611Z
UID:9696-1771326000-1771329600@spls.lib.ok.us
SUMMARY:Bilingual Story Time & Craft @ 11 a.m.
DESCRIPTION:Join us Tuesday\, February 17th for Bilingual Story Time at the Altus Public Library! The theme is Shapes and the craft is Building with Sahpes!-Time: 11:00 AM\n-Ages: Pre-K and up \n\n\n\n-Altus Public Library – 421 N Hudson St.\n-(580) 477-2890We can’t wait to see you and your little readers!
URL:https://spls.lib.ok.us/event/bilingual-story-time-craft-11-a-m-2/
CATEGORIES:Family,Infants & Toddlers up to age 5,Literacy Event
END:VEVENT
END:VCALENDAR