BEGIN:VCALENDAR
VERSION:2.0
PRODID:-//Southern Prairie Library - ECPv6.15.14//NONSGML v1.0//EN
CALSCALE:GREGORIAN
METHOD:PUBLISH
X-WR-CALNAME:Southern Prairie Library
X-ORIGINAL-URL:https://spls.lib.ok.us
X-WR-CALDESC:Events for Southern Prairie Library
REFRESH-INTERVAL;VALUE=DURATION:PT1H
X-Robots-Tag:noindex
X-PUBLISHED-TTL:PT1H
BEGIN:VTIMEZONE
TZID:America/Chicago
BEGIN:DAYLIGHT
TZOFFSETFROM:-0600
TZOFFSETTO:-0500
TZNAME:CDT
DTSTART:20250309T080000
END:DAYLIGHT
BEGIN:STANDARD
TZOFFSETFROM:-0500
TZOFFSETTO:-0600
TZNAME:CST
DTSTART:20251102T070000
END:STANDARD
BEGIN:DAYLIGHT
TZOFFSETFROM:-0600
TZOFFSETTO:-0500
TZNAME:CDT
DTSTART:20260308T080000
END:DAYLIGHT
BEGIN:STANDARD
TZOFFSETFROM:-0500
TZOFFSETTO:-0600
TZNAME:CST
DTSTART:20261101T070000
END:STANDARD
BEGIN:DAYLIGHT
TZOFFSETFROM:-0600
TZOFFSETTO:-0500
TZNAME:CDT
DTSTART:20270314T080000
END:DAYLIGHT
BEGIN:STANDARD
TZOFFSETFROM:-0500
TZOFFSETTO:-0600
TZNAME:CST
DTSTART:20271107T070000
END:STANDARD
END:VTIMEZONE
BEGIN:VEVENT
DTSTART;TZID=America/Chicago:20260107T110000
DTEND;TZID=America/Chicago:20260107T120000
DTSTAMP:20260422T175008
CREATED:20260102T210902Z
LAST-MODIFIED:20260102T211928Z
UID:9585-1767783600-1767787200@spls.lib.ok.us
SUMMARY:Story Time & Craft @ 11 a.m.
DESCRIPTION:January Story Time at Altus Public Library! \nJoin us every week in January for Story Time at the Altus Public Library! Each session includes stories and a themed craft—perfect for our littlest library lovers.-Time: 11:00 AM\n-Ages: Pre-K and up \n\n\n\n\nJanuary Story Time Dates & Themes:\n-January 7 – Theme: Names | Craft: Snowman Names\n-January 14 – Special Story Time with guest reader Dana Patterson!\n-January 20 – Bilingual Story Time! | Theme: Snow | Craft: Snowglobes\n-January 28 – Theme: Numbers | Craft: Number Recognition Activity \nAltus Public Library – 421 N Hudson St.\n(580) 477-2890We can’t wait to see you and your little readers!
URL:https://spls.lib.ok.us/event/story-time-craft-11-a-m-42/2026-01-07/
CATEGORIES:Family,Infants & Toddlers up to age 5
END:VEVENT
END:VCALENDAR