BEGIN:VCALENDAR
VERSION:2.0
PRODID:-//Southern Prairie Library - ECPv6.15.14//NONSGML v1.0//EN
CALSCALE:GREGORIAN
METHOD:PUBLISH
X-ORIGINAL-URL:https://spls.lib.ok.us
X-WR-CALDESC:Events for Southern Prairie Library
REFRESH-INTERVAL;VALUE=DURATION:PT1H
X-Robots-Tag:noindex
X-PUBLISHED-TTL:PT1H
BEGIN:VTIMEZONE
TZID:America/Chicago
BEGIN:DAYLIGHT
TZOFFSETFROM:-0600
TZOFFSETTO:-0500
TZNAME:CDT
DTSTART:20240310T080000
END:DAYLIGHT
BEGIN:STANDARD
TZOFFSETFROM:-0500
TZOFFSETTO:-0600
TZNAME:CST
DTSTART:20241103T070000
END:STANDARD
BEGIN:DAYLIGHT
TZOFFSETFROM:-0600
TZOFFSETTO:-0500
TZNAME:CDT
DTSTART:20250309T080000
END:DAYLIGHT
BEGIN:STANDARD
TZOFFSETFROM:-0500
TZOFFSETTO:-0600
TZNAME:CST
DTSTART:20251102T070000
END:STANDARD
BEGIN:DAYLIGHT
TZOFFSETFROM:-0600
TZOFFSETTO:-0500
TZNAME:CDT
DTSTART:20260308T080000
END:DAYLIGHT
BEGIN:STANDARD
TZOFFSETFROM:-0500
TZOFFSETTO:-0600
TZNAME:CST
DTSTART:20261101T070000
END:STANDARD
END:VTIMEZONE
BEGIN:VEVENT
DTSTART;TZID=America/Chicago:20250917T110000
DTEND;TZID=America/Chicago:20250917T120000
DTSTAMP:20260422T204436
CREATED:20250826T203722Z
LAST-MODIFIED:20250903T200543Z
UID:9127-1758106800-1758110400@spls.lib.ok.us
SUMMARY:Story Time & Craft @ 11 a.m.
DESCRIPTION:September Story Time & Crafts!\n\n\n\nJoin us every Wednesday in September at 11 AM for stories\, crafts\, and fun at the Altus Public Library!\n\nPerfect for ages Pre-K & up.\n\n\n\nHere’s what we’ve got planned this month!\n\n\n–September 3rd: Fairytales with a Special Guest Reader! – Craft: Magic Wand\n–September 10th: Farm Animals – Craft: Farm Animal Coloring Pages\n–September 17th: Fly Guy – Craft: Make Your Own Fly Guy\n September 24th: Fall Fun! – Craft: Leaf Wreath\n\n\n\nBring the kids\, spark their imagination\, and let’s make some memories together!
URL:https://spls.lib.ok.us/event/story-time-craft-11-a-m-38/2025-09-17/
CATEGORIES:Family,Infants & Toddlers up to age 5
END:VEVENT
BEGIN:VEVENT
DTSTART;TZID=America/Chicago:20250917T153000
DTEND;TZID=America/Chicago:20250917T173000
DTSTAMP:20260422T204436
CREATED:20250826T204821Z
LAST-MODIFIED:20250903T195620Z
UID:9148-1758123000-1758130200@spls.lib.ok.us
SUMMARY:Group Connections @ 3:30 p.m.
DESCRIPTION:Group Connection at the Altus Public Library!\n\n\n\nJoin us on Wednesday\, September 17th at 3:30 PM for a fun and meaningful afternoon as we talk about making friends\, being a friend\, starting school\, and showing kindness.\n\n\n\nWhat to expect:\n–A special book reading\n–Snacks to enjoy\n–A take-home bag\n\n\n\nGroup Connection is part of the Parents as Teachers program\, designed to support families with young children by providing child development resources and encouraging community connections and brought to you through a partnership between the Altus Public Library and Great Plains Youth and Family Services.\n\n\n\nWe’d love for you and your family to join us!
URL:https://spls.lib.ok.us/event/group-connections-330-p-m-6/
CATEGORIES:Family,Infants & Toddlers up to age 5
END:VEVENT
END:VCALENDAR