BEGIN:VCALENDAR
VERSION:2.0
PRODID:-//Southern Prairie Library - ECPv6.15.14//NONSGML v1.0//EN
CALSCALE:GREGORIAN
METHOD:PUBLISH
X-ORIGINAL-URL:https://spls.lib.ok.us
X-WR-CALDESC:Events for Southern Prairie Library
REFRESH-INTERVAL;VALUE=DURATION:PT1H
X-Robots-Tag:noindex
X-PUBLISHED-TTL:PT1H
BEGIN:VTIMEZONE
TZID:America/Chicago
BEGIN:DAYLIGHT
TZOFFSETFROM:-0600
TZOFFSETTO:-0500
TZNAME:CDT
DTSTART:20240310T080000
END:DAYLIGHT
BEGIN:STANDARD
TZOFFSETFROM:-0500
TZOFFSETTO:-0600
TZNAME:CST
DTSTART:20241103T070000
END:STANDARD
BEGIN:DAYLIGHT
TZOFFSETFROM:-0600
TZOFFSETTO:-0500
TZNAME:CDT
DTSTART:20250309T080000
END:DAYLIGHT
BEGIN:STANDARD
TZOFFSETFROM:-0500
TZOFFSETTO:-0600
TZNAME:CST
DTSTART:20251102T070000
END:STANDARD
BEGIN:DAYLIGHT
TZOFFSETFROM:-0600
TZOFFSETTO:-0500
TZNAME:CDT
DTSTART:20260308T080000
END:DAYLIGHT
BEGIN:STANDARD
TZOFFSETFROM:-0500
TZOFFSETTO:-0600
TZNAME:CST
DTSTART:20261101T070000
END:STANDARD
END:VTIMEZONE
BEGIN:VEVENT
DTSTART;TZID=America/Chicago:20250903T110000
DTEND;TZID=America/Chicago:20250903T120000
DTSTAMP:20260422T165428
CREATED:20250826T203722Z
LAST-MODIFIED:20250903T200541Z
UID:9125-1756897200-1756900800@spls.lib.ok.us
SUMMARY:Story Time & Craft @ 11 a.m.
DESCRIPTION:September Story Time & Crafts!\n\n\n\nJoin us every Wednesday in September at 11 AM for stories\, crafts\, and fun at the Altus Public Library!\n\nPerfect for ages Pre-K & up.\n\n\n\nHere’s what we’ve got planned this month!\n\n\n–September 3rd: Fairytales with a Special Guest Reader! – Craft: Magic Wand\n–September 10th: Farm Animals – Craft: Farm Animal Coloring Pages\n–September 17th: Fly Guy – Craft: Make Your Own Fly Guy\n September 24th: Fall Fun! – Craft: Leaf Wreath\n\n\n\nBring the kids\, spark their imagination\, and let’s make some memories together!
URL:https://spls.lib.ok.us/event/story-time-craft-11-a-m-38/2025-09-03/
CATEGORIES:Family,Infants & Toddlers up to age 5
END:VEVENT
END:VCALENDAR