BEGIN:VCALENDAR
VERSION:2.0
PRODID:-//Southern Prairie Library - ECPv6.15.14//NONSGML v1.0//EN
CALSCALE:GREGORIAN
METHOD:PUBLISH
X-ORIGINAL-URL:https://spls.lib.ok.us
X-WR-CALDESC:Events for Southern Prairie Library
REFRESH-INTERVAL;VALUE=DURATION:PT1H
X-Robots-Tag:noindex
X-PUBLISHED-TTL:PT1H
BEGIN:VTIMEZONE
TZID:America/Chicago
BEGIN:DAYLIGHT
TZOFFSETFROM:-0600
TZOFFSETTO:-0500
TZNAME:CDT
DTSTART:20240310T080000
END:DAYLIGHT
BEGIN:STANDARD
TZOFFSETFROM:-0500
TZOFFSETTO:-0600
TZNAME:CST
DTSTART:20241103T070000
END:STANDARD
BEGIN:DAYLIGHT
TZOFFSETFROM:-0600
TZOFFSETTO:-0500
TZNAME:CDT
DTSTART:20250309T080000
END:DAYLIGHT
BEGIN:STANDARD
TZOFFSETFROM:-0500
TZOFFSETTO:-0600
TZNAME:CST
DTSTART:20251102T070000
END:STANDARD
BEGIN:DAYLIGHT
TZOFFSETFROM:-0600
TZOFFSETTO:-0500
TZNAME:CDT
DTSTART:20260308T080000
END:DAYLIGHT
BEGIN:STANDARD
TZOFFSETFROM:-0500
TZOFFSETTO:-0600
TZNAME:CST
DTSTART:20261101T070000
END:STANDARD
END:VTIMEZONE
BEGIN:VEVENT
DTSTART;TZID=America/Chicago:20250604T110000
DTEND;TZID=America/Chicago:20250604T120000
DTSTAMP:20260423T000546
CREATED:20250605T145706Z
LAST-MODIFIED:20250605T145706Z
UID:8794-1749034800-1749038400@spls.lib.ok.us
SUMMARY:Story Time & Craft @ 11 a.m.
DESCRIPTION:Join us at the library this Wednesday at 11 a.m. for Story Time and Craft! \nThe theme for June 4th is Summer! The activity is making dotted ice cream! \nLet’s read together and get creative with fun activities!
URL:https://spls.lib.ok.us/event/story-time-craft-11-a-m-28/
CATEGORIES:Family,Infants & Toddlers up to age 5
END:VEVENT
BEGIN:VEVENT
DTSTART;TZID=America/Chicago:20250611T110000
DTEND;TZID=America/Chicago:20250611T120000
DTSTAMP:20260423T000546
CREATED:20250605T145850Z
LAST-MODIFIED:20250605T145850Z
UID:8796-1749639600-1749643200@spls.lib.ok.us
SUMMARY:Story Time & Craft @ 11 a.m.
DESCRIPTION:Join us at the library this Wednesday at 11 a.m. for Story Time and Craft! \nThe theme for June 11th is Father’s Day! The activity is a tie craft! \nLet’s read together and get creative with fun activities!
URL:https://spls.lib.ok.us/event/story-time-craft-11-a-m-29/
CATEGORIES:Family,Infants & Toddlers up to age 5
END:VEVENT
BEGIN:VEVENT
DTSTART;TZID=America/Chicago:20250611T153000
DTEND;TZID=America/Chicago:20250611T173000
DTSTAMP:20260423T000546
CREATED:20250605T141645Z
LAST-MODIFIED:20250605T141645Z
UID:8717-1749655800-1749663000@spls.lib.ok.us
SUMMARY:Group Connections @ 3:30 p.m.
DESCRIPTION:June Group Connections: Color Our World\nJoin us Wednesday\, June 11th at 3:30 p.m. for a creative and fun-filled afternoon at the Altus Public Library!\n\n\n\n\n\nWe’ll be making macramé keychains\, experimenting with watercolor painting\, enjoying a healthy snack\, and sending you home with a goodie bag!\n\nThis event is part of the Parents as Teachers program through the Great Plains Youth and Great Plains Youth & Family Services\, Inc. – Altus\, which supports families with children up to age 6. It’s a great opportunity to connect with other families while engaging in hands-on activities designed to spark creativity and community!\n\n\n\nThis program is brought to you by a collaboration between the Great Plains Youth & Family Services and the Altus Public Library.\n\n\n\nQuestions or want to learn more about the Parents as Teachers program? Come chat with us!
URL:https://spls.lib.ok.us/event/group-connections-330-p-m-4/
CATEGORIES:Family,Infants & Toddlers up to age 5
END:VEVENT
BEGIN:VEVENT
DTSTART;TZID=America/Chicago:20250618T110000
DTEND;TZID=America/Chicago:20250618T120000
DTSTAMP:20260423T000546
CREATED:20250605T145946Z
LAST-MODIFIED:20250605T145946Z
UID:8798-1750244400-1750248000@spls.lib.ok.us
SUMMARY:Story Time & Craft @ 11 a.m.
DESCRIPTION:Join us at the library this Wednesday at 11 a.m. for Story Time and Craft! \nThe theme for June 18th is Color Our World! The activity is coloring sheets! \nLet’s read together and get creative with fun activities!
URL:https://spls.lib.ok.us/event/story-time-craft-11-a-m-30/
CATEGORIES:Family,Infants & Toddlers up to age 5
END:VEVENT
BEGIN:VEVENT
DTSTART;TZID=America/Chicago:20250625T110000
DTEND;TZID=America/Chicago:20250625T120000
DTSTAMP:20260423T000546
CREATED:20250605T150129Z
LAST-MODIFIED:20250605T150129Z
UID:8800-1750849200-1750852800@spls.lib.ok.us
SUMMARY:Story Time & Craft @ 11 a.m.
DESCRIPTION:Join us at the library this Wednesday at 11 a.m. for Story Time and Craft! \nThe theme for June 25th is Eric Carle! The activity is making a lady bug plate! \nLet’s read together and get creative with fun activities!
URL:https://spls.lib.ok.us/event/story-time-craft-11-a-m-31/
CATEGORIES:Family,Infants & Toddlers up to age 5
END:VEVENT
END:VCALENDAR