BEGIN:VCALENDAR
VERSION:2.0
PRODID:-//Southern Prairie Library - ECPv6.15.14//NONSGML v1.0//EN
CALSCALE:GREGORIAN
METHOD:PUBLISH
X-ORIGINAL-URL:https://spls.lib.ok.us
X-WR-CALDESC:Events for Southern Prairie Library
REFRESH-INTERVAL;VALUE=DURATION:PT1H
X-Robots-Tag:noindex
X-PUBLISHED-TTL:PT1H
BEGIN:VTIMEZONE
TZID:America/Chicago
BEGIN:DAYLIGHT
TZOFFSETFROM:-0600
TZOFFSETTO:-0500
TZNAME:CDT
DTSTART:20200308T080000
END:DAYLIGHT
BEGIN:STANDARD
TZOFFSETFROM:-0500
TZOFFSETTO:-0600
TZNAME:CST
DTSTART:20201101T070000
END:STANDARD
BEGIN:DAYLIGHT
TZOFFSETFROM:-0600
TZOFFSETTO:-0500
TZNAME:CDT
DTSTART:20210314T080000
END:DAYLIGHT
BEGIN:STANDARD
TZOFFSETFROM:-0500
TZOFFSETTO:-0600
TZNAME:CST
DTSTART:20211107T070000
END:STANDARD
BEGIN:DAYLIGHT
TZOFFSETFROM:-0600
TZOFFSETTO:-0500
TZNAME:CDT
DTSTART:20220313T080000
END:DAYLIGHT
BEGIN:STANDARD
TZOFFSETFROM:-0500
TZOFFSETTO:-0600
TZNAME:CST
DTSTART:20221106T070000
END:STANDARD
END:VTIMEZONE
BEGIN:VEVENT
DTSTART;TZID=America/Chicago:20211102T153000
DTEND;TZID=America/Chicago:20211102T153000
DTSTAMP:20260422T235302
CREATED:20211019T144739Z
LAST-MODIFIED:20211019T145119Z
UID:3541-1635867000-1635867000@spls.lib.ok.us
SUMMARY:Teen Cuisine
DESCRIPTION:
URL:https://spls.lib.ok.us/event/teen-cuisine/2021-11-02/
CATEGORIES:Grades 6th-12th
ATTACH;FMTTYPE=image/jpeg:https://spls.lib.ok.us/wp-content/uploads/2021/10/TeenCuisine-2021-WEB.jpg
END:VEVENT
BEGIN:VEVENT
DTSTART;TZID=America/Chicago:20211106T140000
DTEND;TZID=America/Chicago:20211106T160000
DTSTAMP:20260422T235302
CREATED:20211104T153510Z
LAST-MODIFIED:20211104T153510Z
UID:3847-1636207200-1636214400@spls.lib.ok.us
SUMMARY:STEM Saturday @ 2pm.
DESCRIPTION:Need a challenge?  Come to our STEM Saturday event @ 2pm.  to build a Lego Mindstorm robot EV3. \nWhat will your Lego robot look like? What will your robot do?
URL:https://spls.lib.ok.us/event/stem-saturday-2pm/
CATEGORIES:Grades 6th-12th
END:VEVENT
END:VCALENDAR