BEGIN:VCALENDAR
VERSION:2.0
PRODID:-//Southern Prairie Library - ECPv6.15.14//NONSGML v1.0//EN
CALSCALE:GREGORIAN
METHOD:PUBLISH
X-ORIGINAL-URL:https://spls.lib.ok.us
X-WR-CALDESC:Events for Southern Prairie Library
REFRESH-INTERVAL;VALUE=DURATION:PT1H
X-Robots-Tag:noindex
X-PUBLISHED-TTL:PT1H
BEGIN:VTIMEZONE
TZID:America/Chicago
BEGIN:DAYLIGHT
TZOFFSETFROM:-0600
TZOFFSETTO:-0500
TZNAME:CDT
DTSTART:20200308T080000
END:DAYLIGHT
BEGIN:STANDARD
TZOFFSETFROM:-0500
TZOFFSETTO:-0600
TZNAME:CST
DTSTART:20201101T070000
END:STANDARD
BEGIN:DAYLIGHT
TZOFFSETFROM:-0600
TZOFFSETTO:-0500
TZNAME:CDT
DTSTART:20210314T080000
END:DAYLIGHT
BEGIN:STANDARD
TZOFFSETFROM:-0500
TZOFFSETTO:-0600
TZNAME:CST
DTSTART:20211107T070000
END:STANDARD
BEGIN:DAYLIGHT
TZOFFSETFROM:-0600
TZOFFSETTO:-0500
TZNAME:CDT
DTSTART:20220313T080000
END:DAYLIGHT
BEGIN:STANDARD
TZOFFSETFROM:-0500
TZOFFSETTO:-0600
TZNAME:CST
DTSTART:20221106T070000
END:STANDARD
BEGIN:DAYLIGHT
TZOFFSETFROM:-0600
TZOFFSETTO:-0500
TZNAME:CDT
DTSTART:20230312T080000
END:DAYLIGHT
BEGIN:STANDARD
TZOFFSETFROM:-0500
TZOFFSETTO:-0600
TZNAME:CST
DTSTART:20231105T070000
END:STANDARD
END:VTIMEZONE
BEGIN:VEVENT
DTSTART;TZID=America/Chicago:20210404T080000
DTEND;TZID=America/Chicago:20210410T170000
DTSTAMP:20260423T182139
CREATED:20210331T211358Z
LAST-MODIFIED:20210331T211827Z
UID:2778-1617523200-1618074000@spls.lib.ok.us
SUMMARY:National Library Week
DESCRIPTION:Welcome to Your Library is this years theme during National Library Week.\nNatalie Portman is the 2021 National Library Week Honoray Chair.\n \n“The theme for National Library Week (April 4-10\, 2021)\, “Welcome to Your Library\,” promotes the idea that libraries extend far beyond the four walls of a building – and that everyone is welcome to use their services. During the pandemic libraries have been going above and beyond to adapt to our changing world by expanding their resources and continuing to meet the needs of their users. Whether people visit in person or virtually\, libraries offer opportunities for everyone to explore new worlds and become their best selves through access to technology\, multimedia content\, and educational programs.” (above statement taken from the ala.org website). Be sure to go to the ALA web site to see all the things happening during this week.
URL:https://spls.lib.ok.us/event/national-library-week-april-4-10-2021/
CATEGORIES:16 & up,Adults,Ages 12-18,Ages 8-18,Family,Grades 5th-12th,Grades 6th-12th,Literacy Event
ATTACH;FMTTYPE=image/png:https://spls.lib.ok.us/wp-content/uploads/2021/03/NLW2021.png
END:VEVENT
BEGIN:VEVENT
DTSTART;VALUE=DATE:20210407
DTEND;VALUE=DATE:20210408
DTSTAMP:20260423T182139
CREATED:20210406T222434Z
LAST-MODIFIED:20210406T222434Z
UID:2816-1617753600-1617839999@spls.lib.ok.us
SUMMARY:National Library Outreach Day
DESCRIPTION:National Library Outreach Day (formerly National Bookmobile Day) celebrates library outreach and the dedicated library professionals who are meeting their patrons where they are. To find out more about library outreach services click here.
URL:https://spls.lib.ok.us/event/national-library-outreach-day/
CATEGORIES:16 & up,Adults,Ages 12-18,Ages 8-18,Family,Grades 5th-12th,Grades 6th-12th,Literacy Event
ATTACH;FMTTYPE=image/png:https://spls.lib.ok.us/wp-content/uploads/2021/04/nationallibraryoutreachday2021.png
END:VEVENT
BEGIN:VEVENT
DTSTART;TZID=America/Chicago:20210420T130000
DTEND;TZID=America/Chicago:20210420T133000
DTSTAMP:20260423T182139
CREATED:20210331T201515Z
LAST-MODIFIED:20210331T211615Z
UID:2761-1618923600-1618925400@spls.lib.ok.us
SUMMARY:DIY Indoor Herbal Garden @ 1pm
DESCRIPTION:  \nPlease join us on our Facebook page\nApril 20\, 2021\nat 1pm. \nWe will learn how to plant an herbal garden.\nLet’s get dirty!!! \n 
URL:https://spls.lib.ok.us/event/diy-indoor-herbal-garden/
CATEGORIES:16 & up,Adults,Ages 12-18,Ages 8-18,Family,Grades 5th-12th,Literacy Event
ATTACH;FMTTYPE=image/png:https://spls.lib.ok.us/wp-content/uploads/2021/03/plant.png
END:VEVENT
BEGIN:VEVENT
DTSTART;TZID=America/Chicago:20210505T110000
DTEND;TZID=America/Chicago:20210505T120000
DTSTAMP:20260423T182139
CREATED:20210108T195508Z
LAST-MODIFIED:20210510T184643Z
UID:2732-1620212400-1620216000@spls.lib.ok.us
SUMMARY:Virtual Storytime @11am
DESCRIPTION:Join us every Wednesday  @ 11am for fun stories and a craft.\nPlease limit 2 craft bags per family.\nMiss Bailey can not wait to see you!!!!\nevery Wednesday
URL:https://spls.lib.ok.us/event/virtual-storytime-2021-01-27-2021-04-28/2021-05-05/
CATEGORIES:16 & up,Adults,Ages 12-18,Ages 8-18,Family,Grades 5th-12th,Grades 6th-12th,Infants & Toddlers up to age 5,Literacy Event
ATTACH;FMTTYPE=image/jpeg:https://spls.lib.ok.us/wp-content/uploads/2021/01/virtualstorytime.jpg
END:VEVENT
BEGIN:VEVENT
DTSTART;TZID=America/Chicago:20210507T130000
DTEND;TZID=America/Chicago:20210507T133000
DTSTAMP:20260423T182139
CREATED:20210129T210014Z
LAST-MODIFIED:20210510T190739Z
UID:2760-1620392400-1620394200@spls.lib.ok.us
SUMMARY:Family Friday @ 1pm
DESCRIPTION:On Facebook @ 1pm\nJoin us each and every Friday for some healthy tips !\nSee you there.
URL:https://spls.lib.ok.us/event/family-friday-2-2021-04-30/2021-05-07/
CATEGORIES:16 & up,Adults,Ages 12-18,Family,Grades 5th-12th,Grades 6th-12th,Literacy Event
ATTACH;FMTTYPE=image/png:https://spls.lib.ok.us/wp-content/uploads/2021/05/familyfriday.png
END:VEVENT
BEGIN:VEVENT
DTSTART;TZID=America/Chicago:20211204T140000
DTEND;TZID=America/Chicago:20211204T160000
DTSTAMP:20260423T182139
CREATED:20211203T220532Z
LAST-MODIFIED:20211203T220656Z
UID:3896-1638626400-1638633600@spls.lib.ok.us
SUMMARY:STEM Saturday - December 4 @2 pm. Ozobots
DESCRIPTION:Have you ever drawn colored lines that a robot follows?\nThis is a type of coding. Come join us this Saturday to learn this fun coding event!!!\n 
URL:https://spls.lib.ok.us/event/stem-saturday-december-4-2-pm-ozobots/
CATEGORIES:Ages 12-18,Grades 5th-12th
END:VEVENT
BEGIN:VEVENT
DTSTART;TZID=America/Chicago:20220205T140000
DTEND;TZID=America/Chicago:20220205T150000
DTSTAMP:20260423T182139
CREATED:20220208T174537Z
LAST-MODIFIED:20220208T174716Z
UID:4122-1644069600-1644073200@spls.lib.ok.us
SUMMARY:8th STEM Saturday @ 2pm
DESCRIPTION:8th STEM Saturday\nFebruary 5\, 2022 @ 2pm\nAltus Public Library
URL:https://spls.lib.ok.us/event/8th-stem-saturday-2pm/
CATEGORIES:Grades 5th-12th
END:VEVENT
BEGIN:VEVENT
DTSTART;TZID=America/Chicago:20220628T150000
DTEND;TZID=America/Chicago:20220628T160000
DTSTAMP:20260423T182139
CREATED:20220622T193837Z
LAST-MODIFIED:20220624T135906Z
UID:4842-1656428400-1656432000@spls.lib.ok.us
SUMMARY:Teen Tuesday - Tissue Paper Watercolor @3pm.
DESCRIPTION:Hey has anyone heard about a special type of tissue paper called Bleeding Tissue?  This will be used to create a watercolor looking background. Then you will make an ocean-themed silhouette using Cricket cut outs to complete a masterpiece to hang on your wall.\nThis picture was made using the Bleeding Tissue watercolor effect and a Cricket cutout of an Orca.\nStart getting your ideas ready for this unique method of tissue watercolor.
URL:https://spls.lib.ok.us/event/teen-tuesday-tissue-paper-watercolor-3pm/
CATEGORIES:Grades 5th-12th
END:VEVENT
BEGIN:VEVENT
DTSTART;TZID=America/Chicago:20220705T150000
DTEND;TZID=America/Chicago:20220705T160000
DTSTAMP:20260423T182139
CREATED:20220622T192144Z
LAST-MODIFIED:20220622T192144Z
UID:4834-1657033200-1657036800@spls.lib.ok.us
SUMMARY:Teen Tuesday - Sunken Cities @ 3pm
DESCRIPTION:You will be using many different types of materials to make your own Sunken City.
URL:https://spls.lib.ok.us/event/teen-tuesday-sunken-cities-3pm/
CATEGORIES:Grades 5th-12th
END:VEVENT
BEGIN:VEVENT
DTSTART;TZID=America/Chicago:20220712T150000
DTEND;TZID=America/Chicago:20220712T160000
DTSTAMP:20260423T182139
CREATED:20220622T192455Z
LAST-MODIFIED:20220622T192455Z
UID:4836-1657638000-1657641600@spls.lib.ok.us
SUMMARY:Teen Tuesday - Ocean Nailed It @ 3pm
DESCRIPTION:Bring your own ideas or choose from scenes that will be supplied. What will your Ocean Scene look like?
URL:https://spls.lib.ok.us/event/teen-tuesday-ocean-nailed-it-3pm/
CATEGORIES:Grades 5th-12th
END:VEVENT
BEGIN:VEVENT
DTSTART;TZID=America/Chicago:20220719T150000
DTEND;TZID=America/Chicago:20220719T160000
DTSTAMP:20260423T182139
CREATED:20220622T192753Z
LAST-MODIFIED:20220622T192753Z
UID:4838-1658242800-1658246400@spls.lib.ok.us
SUMMARY:Teen Tuesday - Animal Crossing: New Horizons Island Hop @3pm
DESCRIPTION:Visit our Library Staff Island for treasures\, games\, freebies and much more. You MUST bring your own Switch or ACNH game.
URL:https://spls.lib.ok.us/event/teen-tuesday-animal-crossing-new-horizons-island-hop-3pm/
CATEGORIES:Grades 5th-12th
END:VEVENT
BEGIN:VEVENT
DTSTART;TZID=America/Chicago:20220726T150000
DTEND;TZID=America/Chicago:20220726T160000
DTSTAMP:20260423T182139
CREATED:20220622T193155Z
LAST-MODIFIED:20220622T193155Z
UID:4840-1658847600-1658851200@spls.lib.ok.us
SUMMARY:Teen Tuesday - Coastal Cosplay & Movie Night with Origami @ 3pm
DESCRIPTION:Dress up as your favorite ocean themed character/creature and have fun watching “Free Willy” while making an ocean themed origami. We can’t wait to see all the characters/creatures that will be here.
URL:https://spls.lib.ok.us/event/teen-tuesday-coastal-cosplay-movie-night-with-origami-3pm/
CATEGORIES:Grades 5th-12th
END:VEVENT
END:VCALENDAR