BEGIN:VCALENDAR
VERSION:2.0
PRODID:-//Southern Prairie Library - ECPv6.15.14//NONSGML v1.0//EN
CALSCALE:GREGORIAN
METHOD:PUBLISH
X-WR-CALNAME:Southern Prairie Library
X-ORIGINAL-URL:https://spls.lib.ok.us
X-WR-CALDESC:Events for Southern Prairie Library
REFRESH-INTERVAL;VALUE=DURATION:PT1H
X-Robots-Tag:noindex
X-PUBLISHED-TTL:PT1H
BEGIN:VTIMEZONE
TZID:America/Chicago
BEGIN:DAYLIGHT
TZOFFSETFROM:-0600
TZOFFSETTO:-0500
TZNAME:CDT
DTSTART:20250309T080000
END:DAYLIGHT
BEGIN:STANDARD
TZOFFSETFROM:-0500
TZOFFSETTO:-0600
TZNAME:CST
DTSTART:20251102T070000
END:STANDARD
BEGIN:DAYLIGHT
TZOFFSETFROM:-0600
TZOFFSETTO:-0500
TZNAME:CDT
DTSTART:20260308T080000
END:DAYLIGHT
BEGIN:STANDARD
TZOFFSETFROM:-0500
TZOFFSETTO:-0600
TZNAME:CST
DTSTART:20261101T070000
END:STANDARD
BEGIN:DAYLIGHT
TZOFFSETFROM:-0600
TZOFFSETTO:-0500
TZNAME:CDT
DTSTART:20270314T080000
END:DAYLIGHT
BEGIN:STANDARD
TZOFFSETFROM:-0500
TZOFFSETTO:-0600
TZNAME:CST
DTSTART:20271107T070000
END:STANDARD
END:VTIMEZONE
BEGIN:VEVENT
DTSTART;TZID=America/Chicago:20260203T170000
DTEND;TZID=America/Chicago:20260203T180000
DTSTAMP:20260423T033516
CREATED:20260203T184247Z
LAST-MODIFIED:20260203T184525Z
UID:9673-1770138000-1770141600@spls.lib.ok.us
SUMMARY:Ya Ya Yarn @ 5 p.m.
DESCRIPTION:Do you knit or crochet—or have you always wanted to learn? Join us for Ya Ya Yarn at the Altus Public Library! \nWhether you’re an experienced crafter or a total beginner\, this relaxed and friendly group is open to everyone. Bring your current project\, start something new\, or just come to learn and connect with others who love yarn crafts. \n-Tuesday\, February 3\n-5:00 PM\n-Altus Public Library – 421 N Hudson \nAll skill levels are welcome—no experience required!
URL:https://spls.lib.ok.us/event/ya-ya-yarn-5-p-m-7/
CATEGORIES:Adults,Family
END:VEVENT
BEGIN:VEVENT
DTSTART;TZID=America/Chicago:20260204T110000
DTEND;TZID=America/Chicago:20260204T120000
DTSTAMP:20260423T033516
CREATED:20260203T201356Z
LAST-MODIFIED:20260203T201356Z
UID:9692-1770202800-1770206400@spls.lib.ok.us
SUMMARY:Story Time @ 11 a.m.
DESCRIPTION:February Story Time at Altus Public Library! \nJoin us every week in February for Story Time at 11 AM\, perfect for ages Pre-K & up! Each week features a fun theme\, stories\, and a simple craft to enjoy together. \nFebruary Story Time Schedule:\n-Wednesday\, February 4 – Funny Stories | Craft: Hot Cocoa Craft\n-Wednesday\, February 11 – Valentine’s Day | Craft: Heart Wreath\n-Wednesday\, February 25 – Fairytales | Dragon Headband \nAltus Public Library – 421 N Hudson St.\n(580) 477-2890 \nWe can’t wait to read\, laugh\, and create with you this February!
URL:https://spls.lib.ok.us/event/story-time-11-a-m/2026-02-04/
CATEGORIES:Family,Infants & Toddlers up to age 5
END:VEVENT
BEGIN:VEVENT
DTSTART;TZID=America/Chicago:20260206T160000
DTEND;TZID=America/Chicago:20260206T170000
DTSTAMP:20260423T033516
CREATED:20260203T185003Z
LAST-MODIFIED:20260203T185003Z
UID:9682-1770393600-1770397200@spls.lib.ok.us
SUMMARY:STEAM Day @ 4 p.m.
DESCRIPTION:STEAM Day: Juicebox Geometry! \nGet ready to think outside the box at our next STEAM Day! Join us as we explore geometry using juice boxes—measuring length\, width\, and height in a hands-on\, kid-friendly way. \n-Friday\, February 6\n-4–5 PM\n-Altus Public Library – 421 N Hudson \nThis activity is perfect for curious minds who love to build\, measure\, and discover while having fun! \nAll materials provided. Just bring your imagination! \nWe can’t wait to STEAM it up with you!
URL:https://spls.lib.ok.us/event/steam-day-4-p-m-6/
CATEGORIES:Ages 8-18,Family
END:VEVENT
END:VCALENDAR