BEGIN:VCALENDAR
VERSION:2.0
PRODID:-//Southern Prairie Library - ECPv6.15.14//NONSGML v1.0//EN
CALSCALE:GREGORIAN
METHOD:PUBLISH
X-ORIGINAL-URL:https://spls.lib.ok.us
X-WR-CALDESC:Events for Southern Prairie Library
REFRESH-INTERVAL;VALUE=DURATION:PT1H
X-Robots-Tag:noindex
X-PUBLISHED-TTL:PT1H
BEGIN:VTIMEZONE
TZID:America/Chicago
BEGIN:DAYLIGHT
TZOFFSETFROM:-0600
TZOFFSETTO:-0500
TZNAME:CDT
DTSTART:20240310T080000
END:DAYLIGHT
BEGIN:STANDARD
TZOFFSETFROM:-0500
TZOFFSETTO:-0600
TZNAME:CST
DTSTART:20241103T070000
END:STANDARD
BEGIN:DAYLIGHT
TZOFFSETFROM:-0600
TZOFFSETTO:-0500
TZNAME:CDT
DTSTART:20250309T080000
END:DAYLIGHT
BEGIN:STANDARD
TZOFFSETFROM:-0500
TZOFFSETTO:-0600
TZNAME:CST
DTSTART:20251102T070000
END:STANDARD
BEGIN:DAYLIGHT
TZOFFSETFROM:-0600
TZOFFSETTO:-0500
TZNAME:CDT
DTSTART:20260308T080000
END:DAYLIGHT
BEGIN:STANDARD
TZOFFSETFROM:-0500
TZOFFSETTO:-0600
TZNAME:CST
DTSTART:20261101T070000
END:STANDARD
END:VTIMEZONE
BEGIN:VEVENT
DTSTART;TZID=America/Chicago:20251201T110000
DTEND;TZID=America/Chicago:20251201T130000
DTSTAMP:20260423T045744
CREATED:20251202T183631Z
LAST-MODIFIED:20251202T200953Z
UID:9450-1764586800-1764594000@spls.lib.ok.us
SUMMARY:Silent Book Club @ 11 a.m.
DESCRIPTION:Join us on December 1st from 11 AM to 1 PM for two peaceful hours dedicated to reading whatever you’d like. Bring your current book\, something from your TBR list\, or grab a title from our collection when you arrive. \nCome get comfy\, unplug\, and enjoy some quiet reading time at the Altus Public Library.
URL:https://spls.lib.ok.us/event/silent-book-club-11-a-m-3/
CATEGORIES:Family
END:VEVENT
BEGIN:VEVENT
DTSTART;TZID=America/Chicago:20251202T170000
DTEND;TZID=America/Chicago:20251202T180000
DTSTAMP:20260423T045744
CREATED:20251202T185022Z
LAST-MODIFIED:20251202T200912Z
UID:9468-1764694800-1764698400@spls.lib.ok.us
SUMMARY:Ya Ya Yarn @ 5 p.m.
DESCRIPTION:Ya Ya Yarn meets this evening at 5 P.M. \nBring your yarn\, your hooks or needles\, your questions\, or simply your curiosity — all skill levels are welcome. Come enjoy a relaxing morning of crafting and community at the Altus Public Library.
URL:https://spls.lib.ok.us/event/ya-ya-yarn-5-p-m-5/
CATEGORIES:Adults,Family
END:VEVENT
BEGIN:VEVENT
DTSTART;TZID=America/Chicago:20251203T110000
DTEND;TZID=America/Chicago:20251203T120000
DTSTAMP:20260423T045744
CREATED:20251202T184102Z
LAST-MODIFIED:20251202T185757Z
UID:9464-1764759600-1764763200@spls.lib.ok.us
SUMMARY:Story Time & Craft @ 11 a.m.
DESCRIPTION:December Story Time & Craft Schedule is here! \nJoin us every Wednesday at 11 AM for stories\, crafts\, and winter fun! These sessions are perfect for ages Pre-K and up\, and each week features a special seasonal theme. \nHere’s what’s coming up in December:\n\n–December 3rd – Winter\nCraft: Snowman Hat \n\n\n\n\n–December 10th – Penguins\nCraft: Build a Penguin \n\n\n\n\n–December 17th – Christmas\nCraft: DIY Ornaments \n\n\n\n\nBring your little ones for a cozy\, creative morning at the Altus Public Library. We can’t wait to kick off a month of magical story time fun with you!
URL:https://spls.lib.ok.us/event/story-time-craft-11-a-m-41/2025-12-03/
CATEGORIES:Family,Infants & Toddlers up to age 5
END:VEVENT
BEGIN:VEVENT
DTSTART;TZID=America/Chicago:20251205T160000
DTEND;TZID=America/Chicago:20251205T170000
DTSTAMP:20260423T045744
CREATED:20251202T190222Z
LAST-MODIFIED:20251202T190222Z
UID:9537-1764950400-1764954000@spls.lib.ok.us
SUMMARY:STEAM Day @ 4 p.m.
DESCRIPTION:Our next STEAM Day: Snowflakes! \n\n\n\nWe’ll be using cupcake liners and fun templates to make unique paper snowflakes — a perfect winter craft for the whole family. Come create something cool with us!  \nFriday\, December 5th at 4 p.m.\nAltus Public Library – 421 N Hudson St.\n(580) 477-2890
URL:https://spls.lib.ok.us/event/steam-day-4-p-m-5/
CATEGORIES:Family
END:VEVENT
END:VCALENDAR