BEGIN:VCALENDAR
VERSION:2.0
PRODID:-//Southern Prairie Library - ECPv6.15.14//NONSGML v1.0//EN
CALSCALE:GREGORIAN
METHOD:PUBLISH
X-ORIGINAL-URL:https://spls.lib.ok.us
X-WR-CALDESC:Events for Southern Prairie Library
REFRESH-INTERVAL;VALUE=DURATION:PT1H
X-Robots-Tag:noindex
X-PUBLISHED-TTL:PT1H
BEGIN:VTIMEZONE
TZID:America/Chicago
BEGIN:DAYLIGHT
TZOFFSETFROM:-0600
TZOFFSETTO:-0500
TZNAME:CDT
DTSTART:20240310T080000
END:DAYLIGHT
BEGIN:STANDARD
TZOFFSETFROM:-0500
TZOFFSETTO:-0600
TZNAME:CST
DTSTART:20241103T070000
END:STANDARD
BEGIN:DAYLIGHT
TZOFFSETFROM:-0600
TZOFFSETTO:-0500
TZNAME:CDT
DTSTART:20250309T080000
END:DAYLIGHT
BEGIN:STANDARD
TZOFFSETFROM:-0500
TZOFFSETTO:-0600
TZNAME:CST
DTSTART:20251102T070000
END:STANDARD
BEGIN:DAYLIGHT
TZOFFSETFROM:-0600
TZOFFSETTO:-0500
TZNAME:CDT
DTSTART:20260308T080000
END:DAYLIGHT
BEGIN:STANDARD
TZOFFSETFROM:-0500
TZOFFSETTO:-0600
TZNAME:CST
DTSTART:20261101T070000
END:STANDARD
END:VTIMEZONE
BEGIN:VEVENT
DTSTART;TZID=America/Chicago:20251117T120000
DTEND;TZID=America/Chicago:20251117T133000
DTSTAMP:20260423T063006
CREATED:20251031T204305Z
LAST-MODIFIED:20251031T204305Z
UID:9368-1763380800-1763386200@spls.lib.ok.us
SUMMARY:Jackson County Health Department Community Outreach @ 12 p.m.
DESCRIPTION:Do you have questions about food assistance\, insurance\, local services or specialized help? Thanks to a partnership with the District 5 Southwest Oklahoma County Health Departments\, help is available! \nA Community Health Worker (CHW) can help you navigate your unique situation. Stop by the Altus Public Library\, 421 N. Hudson\, from 12:00 to 1:30 PM TODAY! There will be a CHW here to help you find the right solutions to your specific needs. \nThis program is FREE and open to the public! Come see us!
URL:https://spls.lib.ok.us/event/jackson-county-health-department-community-outreach-12-p-m-7/
CATEGORIES:Family
END:VEVENT
BEGIN:VEVENT
DTSTART;TZID=America/Chicago:20251119T110000
DTEND;TZID=America/Chicago:20251119T120000
DTSTAMP:20260423T063006
CREATED:20251031T210904Z
LAST-MODIFIED:20251031T210904Z
UID:9384-1763550000-1763553600@spls.lib.ok.us
SUMMARY:Story Time & Craft @ 11 a.m.
DESCRIPTION:Story Time in November!\n\n\n\nCozy up for stories\, surprises\, and smiles all November long at the Altus Public Library! Each week brings a new theme\, new adventures\, and plenty of fun for our little book lovers (and their parents too!).\n\n\n\nJoin us every Wednesday at 11:00 AM for stories and crafts designed to spark imagination and joy! If you can’t make it every week\, we have a handy\, dandy schedule ready for you to see if there’s anything that sparks your interest!\n\n\nHere’s what’s coming up:\n\nNovember 5th – Theme: Reading (in honor of National Family Literacy Month!)\nCraft: DIY Bookmarks\n\nNovember 12th – Theme: It’s a secret! (ft. a special guest reader – Nik Nicole)\nCraft: Top Secret (Shhhh!)\n\nNovember 19th – Theme: Turkey\nCraft: Hand Turkey\n\nNovember 26th – Theme: Thanksgiving\nCraft: Thanksgiving Hats\n\n\nBring your kiddos\, your curiosity\, and your cozy fall spirit — we can’t wait to share story time with you!
URL:https://spls.lib.ok.us/event/story-time-craft-11-a-m-40/2025-11-19/
CATEGORIES:Family,Infants & Toddlers up to age 5
END:VEVENT
BEGIN:VEVENT
DTSTART;TZID=America/Chicago:20251120T170000
DTEND;TZID=America/Chicago:20251120T190000
DTSTAMP:20260423T063006
CREATED:20251031T202322Z
LAST-MODIFIED:20251031T202322Z
UID:9362-1763658000-1763665200@spls.lib.ok.us
SUMMARY:Silent Book Club @ 5 p.m.
DESCRIPTION:Shh… it’s time for Silent Book Club!\n\n\n\nTake a break from the noise and join us for a cozy afternoon of quiet reading at the Altus Public Library! Bring your current read\, pick something from your TBR pile\, or grab a new favorite from our shelves — it’s all about relaxing and enjoying some peaceful reading time together.\n\n\n\n–Monday\, November 20th\n-5 PM – 7 PM\n–Altus Public Library\n\n\n\nNo pressure\, no discussion — just you\, your book\, and the comforting hum of pages turning.
URL:https://spls.lib.ok.us/event/silent-book-club-5-p-m-3/
CATEGORIES:Family
END:VEVENT
BEGIN:VEVENT
DTSTART;TZID=America/Chicago:20251121T110000
DTEND;TZID=America/Chicago:20251121T120000
DTSTAMP:20260423T063006
CREATED:20251031T202748Z
LAST-MODIFIED:20251031T202748Z
UID:9366-1763722800-1763726400@spls.lib.ok.us
SUMMARY:Ya Ya Yarn @ 11 a.m.
DESCRIPTION:Kick off your day with some cozy creativity at Ya Ya Yarn!\n\n\n\nAll skill levels are welcome—bring your yarn projects or just come and learn something new.\n\n\n\n-Friday\, November 21st at 11 AM\n–Altus Public Library – 421 N Hudson St.\n\n\n\nLet’s get tangled up in yarn!
URL:https://spls.lib.ok.us/event/ya-ya-yarn-11-a-m-27/
CATEGORIES:Family
END:VEVENT
END:VCALENDAR