BEGIN:VCALENDAR
VERSION:2.0
PRODID:-//Southern Prairie Library - ECPv6.15.14//NONSGML v1.0//EN
CALSCALE:GREGORIAN
METHOD:PUBLISH
X-WR-CALNAME:Southern Prairie Library
X-ORIGINAL-URL:https://spls.lib.ok.us
X-WR-CALDESC:Events for Southern Prairie Library
REFRESH-INTERVAL;VALUE=DURATION:PT1H
X-Robots-Tag:noindex
X-PUBLISHED-TTL:PT1H
BEGIN:VTIMEZONE
TZID:America/Chicago
BEGIN:DAYLIGHT
TZOFFSETFROM:-0600
TZOFFSETTO:-0500
TZNAME:CDT
DTSTART:20240310T080000
END:DAYLIGHT
BEGIN:STANDARD
TZOFFSETFROM:-0500
TZOFFSETTO:-0600
TZNAME:CST
DTSTART:20241103T070000
END:STANDARD
BEGIN:DAYLIGHT
TZOFFSETFROM:-0600
TZOFFSETTO:-0500
TZNAME:CDT
DTSTART:20250309T080000
END:DAYLIGHT
BEGIN:STANDARD
TZOFFSETFROM:-0500
TZOFFSETTO:-0600
TZNAME:CST
DTSTART:20251102T070000
END:STANDARD
BEGIN:DAYLIGHT
TZOFFSETFROM:-0600
TZOFFSETTO:-0500
TZNAME:CDT
DTSTART:20260308T080000
END:DAYLIGHT
BEGIN:STANDARD
TZOFFSETFROM:-0500
TZOFFSETTO:-0600
TZNAME:CST
DTSTART:20261101T070000
END:STANDARD
END:VTIMEZONE
BEGIN:VEVENT
DTSTART;TZID=America/Chicago:20251103T110000
DTEND;TZID=America/Chicago:20251103T130000
DTSTAMP:20260423T062746
CREATED:20251031T202206Z
LAST-MODIFIED:20251031T202206Z
UID:9349-1762167600-1762174800@spls.lib.ok.us
SUMMARY:Silent Book Club @ 11 a.m.
DESCRIPTION:Shh… it’s time for Silent Book Club!\n\n\n\nTake a break from the noise and join us for a cozy afternoon of quiet reading at the Altus Public Library! Bring your current read\, pick something from your TBR pile\, or grab a new favorite from our shelves — it’s all about relaxing and enjoying some peaceful reading time together.\n\n\n\n–Monday\, November 3rd\n–11 AM – 1 PM\n–Altus Public Library\n\n\n\nNo pressure\, no discussion — just you\, your book\, and the comforting hum of pages turning.
URL:https://spls.lib.ok.us/event/silent-book-club-11-a-m-2/
CATEGORIES:Family
END:VEVENT
BEGIN:VEVENT
DTSTART;TZID=America/Chicago:20251104T170000
DTEND;TZID=America/Chicago:20251104T180000
DTSTAMP:20260423T062746
CREATED:20251031T202634Z
LAST-MODIFIED:20251031T202634Z
UID:9364-1762275600-1762279200@spls.lib.ok.us
SUMMARY:Ya Ya Yarn @ 5 p.m.
DESCRIPTION:Kick off your evening with some cozy creativity at Ya Ya Yarn!\n\n\n\nAll skill levels are welcome—bring your yarn projects or just come and learn something new.\n\n\n\n-Tuesday\, November 4th at 5 PM\n–Altus Public Library – 421 N Hudson St.\n\n\n\nLet’s get tangled up in yarn!
URL:https://spls.lib.ok.us/event/ya-ya-yarn-5-p-m-4/
CATEGORIES:Family
END:VEVENT
BEGIN:VEVENT
DTSTART;TZID=America/Chicago:20251105T110000
DTEND;TZID=America/Chicago:20251105T120000
DTSTAMP:20260423T062746
CREATED:20251031T210904Z
LAST-MODIFIED:20251031T210904Z
UID:9382-1762340400-1762344000@spls.lib.ok.us
SUMMARY:Story Time & Craft @ 11 a.m.
DESCRIPTION:Story Time in November!\n\n\n\nCozy up for stories\, surprises\, and smiles all November long at the Altus Public Library! Each week brings a new theme\, new adventures\, and plenty of fun for our little book lovers (and their parents too!).\n\n\n\nJoin us every Wednesday at 11:00 AM for stories and crafts designed to spark imagination and joy! If you can’t make it every week\, we have a handy\, dandy schedule ready for you to see if there’s anything that sparks your interest!\n\n\nHere’s what’s coming up:\n\nNovember 5th – Theme: Reading (in honor of National Family Literacy Month!)\nCraft: DIY Bookmarks\n\nNovember 12th – Theme: It’s a secret! (ft. a special guest reader – Nik Nicole)\nCraft: Top Secret (Shhhh!)\n\nNovember 19th – Theme: Turkey\nCraft: Hand Turkey\n\nNovember 26th – Theme: Thanksgiving\nCraft: Thanksgiving Hats\n\n\nBring your kiddos\, your curiosity\, and your cozy fall spirit — we can’t wait to share story time with you!
URL:https://spls.lib.ok.us/event/story-time-craft-11-a-m-40/2025-11-05/
CATEGORIES:Family,Infants & Toddlers up to age 5
END:VEVENT
BEGIN:VEVENT
DTSTART;TZID=America/Chicago:20251105T153000
DTEND;TZID=America/Chicago:20251105T173000
DTSTAMP:20260423T062746
CREATED:20251031T204921Z
LAST-MODIFIED:20251031T204921Z
UID:9374-1762356600-1762363800@spls.lib.ok.us
SUMMARY:Group Connection @ 3:30 p.m.
DESCRIPTION:We’re Thankful for our next Group Connection at the Altus Public Library.\n\n\n\nJoin us on Wednesday\, November 5 at 3:30 PM for a cozy afternoon filled with culture\, traditions\, fall fun\, and family time!\n\n\nWe’ll be celebrating Native American Heritage Month and Thanksgiving with crafts\, snacks\, and activities the whole family will enjoy.\n\n\n\nGroup Connection events are part of the Parents as Teachers program\, open to families with young children — a great way to connect\, learn\, and grow together.\n\n\n\nAltus Public Library – 421 N Hudson St.\nWednesday\, November 5 @ 3:30 PM
URL:https://spls.lib.ok.us/event/group-connection-330-p-m/
CATEGORIES:Family,Infants & Toddlers up to age 5
END:VEVENT
BEGIN:VEVENT
DTSTART;TZID=America/Chicago:20251107T153000
DTEND;TZID=America/Chicago:20251107T163000
DTSTAMP:20260423T062746
CREATED:20251031T204514Z
LAST-MODIFIED:20251031T204514Z
UID:9370-1762529400-1762533000@spls.lib.ok.us
SUMMARY:STEAM Day @ 3:30 p.m.
DESCRIPTION:Join Us for Our STEAM Showcase\n\n\n\nThe Altus Public Library invites you and your family to our STEAM Showcase on Friday\, November 7th from 3:30 – 4:30 PM!\n\n\n\nCome explore the exciting world of Science\, Technology\, Engineering\, Art\, and Math (STEAM) with hands-on activities and demonstrations. This event is open to the public\, and families are welcome to drop in anytime during the hour!\n\n\n\nWhat to Expect:\n–See demonstrations of our amazing STEAM tools and gadgets\n–Try out some of the equipment yourself\n–Learn about the cool resources your library offers!\n\n\n\nFeatured Equipment Includes:\n–Wireless VR Headset\n–3D Doodle Pens\n–Gaming Laptop\n–Button Maker\n–Nintendo Switch\n–And other fun STEAM Kits!\n\n\n\nAltus Public Library – 421 N Hudson St.\n(580) 477-2890\n\n\n\nBring the whole family and experience how fun learning can be!
URL:https://spls.lib.ok.us/event/steam-day-330-p-m/
CATEGORIES:Family
END:VEVENT
END:VCALENDAR