BEGIN:VCALENDAR
VERSION:2.0
PRODID:-//Southern Prairie Library - ECPv6.15.14//NONSGML v1.0//EN
CALSCALE:GREGORIAN
METHOD:PUBLISH
X-ORIGINAL-URL:https://spls.lib.ok.us
X-WR-CALDESC:Events for Southern Prairie Library
REFRESH-INTERVAL;VALUE=DURATION:PT1H
X-Robots-Tag:noindex
X-PUBLISHED-TTL:PT1H
BEGIN:VTIMEZONE
TZID:America/Chicago
BEGIN:DAYLIGHT
TZOFFSETFROM:-0600
TZOFFSETTO:-0500
TZNAME:CDT
DTSTART:20240310T080000
END:DAYLIGHT
BEGIN:STANDARD
TZOFFSETFROM:-0500
TZOFFSETTO:-0600
TZNAME:CST
DTSTART:20241103T070000
END:STANDARD
BEGIN:DAYLIGHT
TZOFFSETFROM:-0600
TZOFFSETTO:-0500
TZNAME:CDT
DTSTART:20250309T080000
END:DAYLIGHT
BEGIN:STANDARD
TZOFFSETFROM:-0500
TZOFFSETTO:-0600
TZNAME:CST
DTSTART:20251102T070000
END:STANDARD
BEGIN:DAYLIGHT
TZOFFSETFROM:-0600
TZOFFSETTO:-0500
TZNAME:CDT
DTSTART:20260308T080000
END:DAYLIGHT
BEGIN:STANDARD
TZOFFSETFROM:-0500
TZOFFSETTO:-0600
TZNAME:CST
DTSTART:20261101T070000
END:STANDARD
END:VTIMEZONE
BEGIN:VEVENT
DTSTART;TZID=America/Chicago:20251029T110000
DTEND;TZID=America/Chicago:20251029T120000
DTSTAMP:20260423T063449
CREATED:20250929T163300Z
LAST-MODIFIED:20250929T163300Z
UID:9267-1761735600-1761739200@spls.lib.ok.us
SUMMARY:Story Time & Craft @ 11 a.m.
DESCRIPTION:October Story Time & Craft Schedule!\n\n\n\nJoin us every Wednesday at 11 AM for fun stories\, themed crafts\, and lots of imagination at the Altus Public Library! Perfect for Ages Pre-K and Up!\n\n\n\nHere’s what’s coming up:\n\n\nOctober 1st – Theme: Ghosts\nCraft: Cotton Ball Ghosts\n\n\n\nOctober 8th – Theme: Bears\nCraft: Sleeping Bear Plate Craft\n\n\n\nOctober 15th – Theme: Monsters\nCraft: Build a Monster\n\n\n\nOctober 22nd – Theme: Pumpkins\nCraft: Pumpkin Wrapping\n\n\n\nOctober 29th – Theme: Halloween\nCraft: Build a Pumpkin\n\nAltus Public Library – 421 N Hudson St.\n\n\n(580) 477-2890\n\n\n\nCome for the stories\, stay for the crafts! See you there!
URL:https://spls.lib.ok.us/event/story-time-craft-11-a-m-39/2025-10-29/
CATEGORIES:Family,Infants & Toddlers up to age 5
END:VEVENT
BEGIN:VEVENT
DTSTART;TZID=America/Chicago:20251031T110000
DTEND;TZID=America/Chicago:20251031T120000
DTSTAMP:20260423T063449
CREATED:20250929T162617Z
LAST-MODIFIED:20250929T162617Z
UID:9223-1761908400-1761912000@spls.lib.ok.us
SUMMARY:Ya Ya Yarn @ 11 a.m.
DESCRIPTION:Calling all yarn lovers!\n\n\n\nWhether you’re a seasoned pro with needles and hooks or just picking up yarn for the first time — Ya Ya Yarn is for YOU!\n\n\n\nFriday\, Ocotber 31st at 11 AM\nAltus Public Library- 421 N Hudson St.\n(580) 477-2890\n\n\n\nBring your current project or come ready to learn something new in a fun\, welcoming space. We’ll provide good company\, great conversation\, and plenty of creative inspiration.
URL:https://spls.lib.ok.us/event/ya-ya-yarn-11-a-m-26/
CATEGORIES:Adults,Family
END:VEVENT
BEGIN:VEVENT
DTSTART;TZID=America/Chicago:20251031T143000
DTEND;TZID=America/Chicago:20251031T170000
DTSTAMP:20260423T063449
CREATED:20250929T170650Z
LAST-MODIFIED:20250929T170650Z
UID:9287-1761921000-1761930000@spls.lib.ok.us
SUMMARY:Treats at the Library @ 2:30 p.m.
DESCRIPTION:You’re invited to Treats at the Library! \nFriday\, October 21st from 2:30 PM – 5 PM \nCome and enjoy a spooky good time at the Altus Public Library! \nNo tricks\, only treats! \nAltus Public Library – 421 N. Hudson\n(580) 477-2890
URL:https://spls.lib.ok.us/event/treats-at-the-library-230-p-m/
CATEGORIES:Family
END:VEVENT
END:VCALENDAR