BEGIN:VCALENDAR
VERSION:2.0
PRODID:-//Southern Prairie Library - ECPv6.15.14//NONSGML v1.0//EN
CALSCALE:GREGORIAN
METHOD:PUBLISH
X-WR-CALNAME:Southern Prairie Library
X-ORIGINAL-URL:https://spls.lib.ok.us
X-WR-CALDESC:Events for Southern Prairie Library
REFRESH-INTERVAL;VALUE=DURATION:PT1H
X-Robots-Tag:noindex
X-PUBLISHED-TTL:PT1H
BEGIN:VTIMEZONE
TZID:America/Chicago
BEGIN:DAYLIGHT
TZOFFSETFROM:-0600
TZOFFSETTO:-0500
TZNAME:CDT
DTSTART:20240310T080000
END:DAYLIGHT
BEGIN:STANDARD
TZOFFSETFROM:-0500
TZOFFSETTO:-0600
TZNAME:CST
DTSTART:20241103T070000
END:STANDARD
BEGIN:DAYLIGHT
TZOFFSETFROM:-0600
TZOFFSETTO:-0500
TZNAME:CDT
DTSTART:20250309T080000
END:DAYLIGHT
BEGIN:STANDARD
TZOFFSETFROM:-0500
TZOFFSETTO:-0600
TZNAME:CST
DTSTART:20251102T070000
END:STANDARD
BEGIN:DAYLIGHT
TZOFFSETFROM:-0600
TZOFFSETTO:-0500
TZNAME:CDT
DTSTART:20260308T080000
END:DAYLIGHT
BEGIN:STANDARD
TZOFFSETFROM:-0500
TZOFFSETTO:-0600
TZNAME:CST
DTSTART:20261101T070000
END:STANDARD
END:VTIMEZONE
BEGIN:VEVENT
DTSTART;TZID=America/Chicago:20250924T110000
DTEND;TZID=America/Chicago:20250924T120000
DTSTAMP:20260423T094331
CREATED:20250826T203722Z
LAST-MODIFIED:20250903T200543Z
UID:9128-1758711600-1758715200@spls.lib.ok.us
SUMMARY:Story Time & Craft @ 11 a.m.
DESCRIPTION:September Story Time & Crafts!\n\n\n\nJoin us every Wednesday in September at 11 AM for stories\, crafts\, and fun at the Altus Public Library!\n\nPerfect for ages Pre-K & up.\n\n\n\nHere’s what we’ve got planned this month!\n\n\n–September 3rd: Fairytales with a Special Guest Reader! – Craft: Magic Wand\n–September 10th: Farm Animals – Craft: Farm Animal Coloring Pages\n–September 17th: Fly Guy – Craft: Make Your Own Fly Guy\n September 24th: Fall Fun! – Craft: Leaf Wreath\n\n\n\nBring the kids\, spark their imagination\, and let’s make some memories together!
URL:https://spls.lib.ok.us/event/story-time-craft-11-a-m-38/2025-09-24/
CATEGORIES:Family,Infants & Toddlers up to age 5
END:VEVENT
BEGIN:VEVENT
DTSTART;TZID=America/Chicago:20250926T110000
DTEND;TZID=America/Chicago:20250926T120000
DTSTAMP:20260423T094331
CREATED:20250826T205110Z
LAST-MODIFIED:20250903T200323Z
UID:9157-1758884400-1758888000@spls.lib.ok.us
SUMMARY:Ya Ya Yarn @ 11 a.m.
DESCRIPTION:Attention all yarn addicts!\n\n\n\nJoin us on Friday\, September 26th at 11 AM for our next Ya Ya Yarn meeting! If you’re a total newbie or you have a project you’re working on\, everyone is welcome to come! You don’t even have to just knit or crochet! If you work with anything yarn related\, you’re more than welcome to come!
URL:https://spls.lib.ok.us/event/ya-ya-yarn-11-a-m-25/
CATEGORIES:Adults,Family
END:VEVENT
END:VCALENDAR