BEGIN:VCALENDAR
VERSION:2.0
PRODID:-//Southern Prairie Library - ECPv6.15.14//NONSGML v1.0//EN
CALSCALE:GREGORIAN
METHOD:PUBLISH
X-WR-CALNAME:Southern Prairie Library
X-ORIGINAL-URL:https://spls.lib.ok.us
X-WR-CALDESC:Events for Southern Prairie Library
REFRESH-INTERVAL;VALUE=DURATION:PT1H
X-Robots-Tag:noindex
X-PUBLISHED-TTL:PT1H
BEGIN:VTIMEZONE
TZID:America/Chicago
BEGIN:DAYLIGHT
TZOFFSETFROM:-0600
TZOFFSETTO:-0500
TZNAME:CDT
DTSTART:20240310T080000
END:DAYLIGHT
BEGIN:STANDARD
TZOFFSETFROM:-0500
TZOFFSETTO:-0600
TZNAME:CST
DTSTART:20241103T070000
END:STANDARD
BEGIN:DAYLIGHT
TZOFFSETFROM:-0600
TZOFFSETTO:-0500
TZNAME:CDT
DTSTART:20250309T080000
END:DAYLIGHT
BEGIN:STANDARD
TZOFFSETFROM:-0500
TZOFFSETTO:-0600
TZNAME:CST
DTSTART:20251102T070000
END:STANDARD
BEGIN:DAYLIGHT
TZOFFSETFROM:-0600
TZOFFSETTO:-0500
TZNAME:CDT
DTSTART:20260308T080000
END:DAYLIGHT
BEGIN:STANDARD
TZOFFSETFROM:-0500
TZOFFSETTO:-0600
TZNAME:CST
DTSTART:20261101T070000
END:STANDARD
END:VTIMEZONE
BEGIN:VEVENT
DTSTART;TZID=America/Chicago:20250818T120000
DTEND;TZID=America/Chicago:20250818T133000
DTSTAMP:20260420T012833
CREATED:20250814T144340Z
LAST-MODIFIED:20250814T144340Z
UID:9073-1755518400-1755523800@spls.lib.ok.us
SUMMARY:Jackson County Health Department Community Outreach @ 12 p.m.
DESCRIPTION:Do you have questions about food assistance\, insurance\, local services or specialized help? Thanks to a partnership with the District 5 Southwest Oklahoma County Health Departments\, help is available! \nA Community Health Worker (CHW) can help you navigate your unique situation. Stop by the Altus Public Library\, 421 N. Hudson\, from 12:00 to 1:30 PM TODAY! There will be a CHW here to help you find the right solutions to your specific needs. \nThis program is FREE and open to the public! Come see us!
URL:https://spls.lib.ok.us/event/jackson-county-health-department-community-outreach-12-p-m-4/
CATEGORIES:Family
END:VEVENT
BEGIN:VEVENT
DTSTART;TZID=America/Chicago:20250820T110000
DTEND;TZID=America/Chicago:20250820T120000
DTSTAMP:20260420T012833
CREATED:20250814T143726Z
LAST-MODIFIED:20250814T143726Z
UID:9065-1755687600-1755691200@spls.lib.ok.us
SUMMARY:Story Time & Craft @ 11 a.m.
DESCRIPTION:Get ready for another month of Story Time fun at the Altus Public Library!Join us every Wednesday at 11 AM for engaging stories\, themed crafts\, and plenty of smiles—perfect for ages Pre-K and up.Here’s what’s coming up in August:August 6 – Theme: Cats | Craft: Build a CatAugust 13 – Theme: School | Craft: Apple Letter MatchingAugust 20 – Theme: Pete the Cat | Craft: Pete the Cat HeadbandAugust 27 – Theme: Pirates | Craft: Pirate HeadbandNo registration needed—just drop in and join the fun!
URL:https://spls.lib.ok.us/event/story-time-craft-11-a-m-37/2025-08-20/
CATEGORIES:Family,Infants & Toddlers up to age 5
END:VEVENT
END:VCALENDAR