BEGIN:VCALENDAR
VERSION:2.0
PRODID:-//Southern Prairie Library - ECPv6.15.14//NONSGML v1.0//EN
CALSCALE:GREGORIAN
METHOD:PUBLISH
X-ORIGINAL-URL:https://spls.lib.ok.us
X-WR-CALDESC:Events for Southern Prairie Library
REFRESH-INTERVAL;VALUE=DURATION:PT1H
X-Robots-Tag:noindex
X-PUBLISHED-TTL:PT1H
BEGIN:VTIMEZONE
TZID:America/Chicago
BEGIN:DAYLIGHT
TZOFFSETFROM:-0600
TZOFFSETTO:-0500
TZNAME:CDT
DTSTART:20240310T080000
END:DAYLIGHT
BEGIN:STANDARD
TZOFFSETFROM:-0500
TZOFFSETTO:-0600
TZNAME:CST
DTSTART:20241103T070000
END:STANDARD
BEGIN:DAYLIGHT
TZOFFSETFROM:-0600
TZOFFSETTO:-0500
TZNAME:CDT
DTSTART:20250309T080000
END:DAYLIGHT
BEGIN:STANDARD
TZOFFSETFROM:-0500
TZOFFSETTO:-0600
TZNAME:CST
DTSTART:20251102T070000
END:STANDARD
BEGIN:DAYLIGHT
TZOFFSETFROM:-0600
TZOFFSETTO:-0500
TZNAME:CDT
DTSTART:20260308T080000
END:DAYLIGHT
BEGIN:STANDARD
TZOFFSETFROM:-0500
TZOFFSETTO:-0600
TZNAME:CST
DTSTART:20261101T070000
END:STANDARD
END:VTIMEZONE
BEGIN:VEVENT
DTSTART;TZID=America/Chicago:20250811T153000
DTEND;TZID=America/Chicago:20250811T173000
DTSTAMP:20260419T235150
CREATED:20250814T143838Z
LAST-MODIFIED:20250814T143838Z
UID:9068-1754926200-1754933400@spls.lib.ok.us
SUMMARY:STEAM Showcase @ 3:30 p.m.
DESCRIPTION:Looking for something to do during the lull between summer and back to school? Well the library has just the thing!\n\n\nJ\noin us on Monday\, August 11th from 3:30 – 5:30 PM for our next STEAM Showcase. We’ll have examples of the different tech the Altus Public Library has to offer such as our 3D printers\, our gaming laptops\, and Nintendo Switches\, but we’ll also have some of our fun STEAM kits and our wireless VR headset available to try as well! Families are welcome to come and go as they please\, so we hope to see you there!
URL:https://spls.lib.ok.us/event/steam-showcase-330-p-m-2/
CATEGORIES:Family
END:VEVENT
BEGIN:VEVENT
DTSTART;TZID=America/Chicago:20250813T110000
DTEND;TZID=America/Chicago:20250813T120000
DTSTAMP:20260419T235150
CREATED:20250814T143726Z
LAST-MODIFIED:20250814T143726Z
UID:9064-1755082800-1755086400@spls.lib.ok.us
SUMMARY:Story Time & Craft @ 11 a.m.
DESCRIPTION:Get ready for another month of Story Time fun at the Altus Public Library!Join us every Wednesday at 11 AM for engaging stories\, themed crafts\, and plenty of smiles—perfect for ages Pre-K and up.Here’s what’s coming up in August:August 6 – Theme: Cats | Craft: Build a CatAugust 13 – Theme: School | Craft: Apple Letter MatchingAugust 20 – Theme: Pete the Cat | Craft: Pete the Cat HeadbandAugust 27 – Theme: Pirates | Craft: Pirate HeadbandNo registration needed—just drop in and join the fun!
URL:https://spls.lib.ok.us/event/story-time-craft-11-a-m-37/2025-08-13/
CATEGORIES:Family,Infants & Toddlers up to age 5
END:VEVENT
BEGIN:VEVENT
DTSTART;TZID=America/Chicago:20250816T140000
DTEND;TZID=America/Chicago:20250816T150000
DTSTAMP:20260419T235150
CREATED:20250814T144453Z
LAST-MODIFIED:20250826T203426Z
UID:9075-1755352800-1755356400@spls.lib.ok.us
SUMMARY:LEGO Club @ 2 p.m.
DESCRIPTION:Future artists and engineers are invited to join us for Lego Club! Build to your hearts content. Your work will be displayed at the Altus Public Library.
URL:https://spls.lib.ok.us/event/lego-club-2-p-m-17/2025-08-16/
CATEGORIES:Family
END:VEVENT
END:VCALENDAR