BEGIN:VCALENDAR
VERSION:2.0
PRODID:-//Southern Prairie Library - ECPv6.15.14//NONSGML v1.0//EN
CALSCALE:GREGORIAN
METHOD:PUBLISH
X-WR-CALNAME:Southern Prairie Library
X-ORIGINAL-URL:https://spls.lib.ok.us
X-WR-CALDESC:Events for Southern Prairie Library
REFRESH-INTERVAL;VALUE=DURATION:PT1H
X-Robots-Tag:noindex
X-PUBLISHED-TTL:PT1H
BEGIN:VTIMEZONE
TZID:America/Chicago
BEGIN:DAYLIGHT
TZOFFSETFROM:-0600
TZOFFSETTO:-0500
TZNAME:CDT
DTSTART:20240310T080000
END:DAYLIGHT
BEGIN:STANDARD
TZOFFSETFROM:-0500
TZOFFSETTO:-0600
TZNAME:CST
DTSTART:20241103T070000
END:STANDARD
BEGIN:DAYLIGHT
TZOFFSETFROM:-0600
TZOFFSETTO:-0500
TZNAME:CDT
DTSTART:20250309T080000
END:DAYLIGHT
BEGIN:STANDARD
TZOFFSETFROM:-0500
TZOFFSETTO:-0600
TZNAME:CST
DTSTART:20251102T070000
END:STANDARD
BEGIN:DAYLIGHT
TZOFFSETFROM:-0600
TZOFFSETTO:-0500
TZNAME:CDT
DTSTART:20260308T080000
END:DAYLIGHT
BEGIN:STANDARD
TZOFFSETFROM:-0500
TZOFFSETTO:-0600
TZNAME:CST
DTSTART:20261101T070000
END:STANDARD
END:VTIMEZONE
BEGIN:VEVENT
DTSTART;TZID=America/Chicago:20250707T100000
DTEND;TZID=America/Chicago:20250707T110000
DTSTAMP:20260419T234950
CREATED:20250707T202301Z
LAST-MODIFIED:20250707T202716Z
UID:8922-1751882400-1751886000@spls.lib.ok.us
SUMMARY:Learning with STEM @ 10 a.m.
DESCRIPTION:Learning with STEM wasn’t just in June!\n\n\n\nMissed our June schedule? Didn’t see anything that interested you? Don’t worry—there’s so much more science fun ahead this July every Monday and Friday (except holidays)! Check out our full lineup of hands-on STEM activities happening all month long to close out the summer!\n\n\n\nSUMMER ACTIVITY SCHEDULE:\n–Monday\, July 7th – Glowing Bacteria\n–Friday\, July 11th – Play-Doh Bacteria\n–Monday\, July 14th – Enzyme Explorers Pt. 1\n–Friday\, July 18th – Enzyme Explorers Pt. 2\n–Monday\, July 21st – Oil Spill Simulation\n–Friday\, July 25th – Static Butterfly\n\n\n\nBring your curiosity and get ready to experiment\, discover\, and have fun with science!\n\n\n\nAltus Public Library – 421 N Hudson St.\n(580) 477-2890
URL:https://spls.lib.ok.us/event/learning-with-stem-10-a-m-10/
CATEGORIES:Family
END:VEVENT
BEGIN:VEVENT
DTSTART;TZID=America/Chicago:20250709T110000
DTEND;TZID=America/Chicago:20250709T120000
DTSTAMP:20260419T234950
CREATED:20250707T204310Z
LAST-MODIFIED:20250707T204310Z
UID:8953-1752058800-1752062400@spls.lib.ok.us
SUMMARY:Story Time & Craft @ 11 a.m.
DESCRIPTION:Join us at the library this Wednesday at 11 a.m. for Story Time and Craft! \nThe theme for July 9th is Dr. Seuss! The activity is a 10 apples up on top counting activity! \nLet’s read together and get creative with fun activities!
URL:https://spls.lib.ok.us/event/story-time-craft-11-a-m-33/
CATEGORIES:Family,Infants & Toddlers up to age 5
END:VEVENT
BEGIN:VEVENT
DTSTART;TZID=America/Chicago:20250710T140000
DTEND;TZID=America/Chicago:20250710T150000
DTSTAMP:20260419T234950
CREATED:20250707T211154Z
LAST-MODIFIED:20250707T211938Z
UID:9013-1752156000-1752159600@spls.lib.ok.us
SUMMARY:Mad Science Art-splosion @ 2 p.m. @ the Altus Community Center
DESCRIPTION:Mad Science blends the magic of science and visual art with eye popping results. A program fit for young Da Vincis and the young at heart!
URL:https://spls.lib.ok.us/event/mad-science-art-splosion-2-p-m-the-altus-community-center/
CATEGORIES:Family
END:VEVENT
BEGIN:VEVENT
DTSTART;TZID=America/Chicago:20250711T100000
DTEND;TZID=America/Chicago:20250711T110000
DTSTAMP:20260419T234950
CREATED:20250707T202745Z
LAST-MODIFIED:20250707T202745Z
UID:8933-1752228000-1752231600@spls.lib.ok.us
SUMMARY:Learning with STEM @ 10 a.m.
DESCRIPTION:Learning with STEM wasn’t just in June!\n\n\n\nMissed our June schedule? Didn’t see anything that interested you? Don’t worry—there’s so much more science fun ahead this July every Monday and Friday (except holidays)! Check out our full lineup of hands-on STEM activities happening all month long to close out the summer!\n\n\n\nSUMMER ACTIVITY SCHEDULE:\n–Monday\, July 7th – Glowing Bacteria\n–Friday\, July 11th – Play-Doh Bacteria\n–Monday\, July 14th – Enzyme Explorers Pt. 1\n–Friday\, July 18th – Enzyme Explorers Pt. 2\n–Monday\, July 21st – Oil Spill Simulation\n–Friday\, July 25th – Static Butterfly\n\n\n\nBring your curiosity and get ready to experiment\, discover\, and have fun with science!\n\n\n\nAltus Public Library – 421 N Hudson St.\n(580) 477-2890
URL:https://spls.lib.ok.us/event/learning-with-stem-10-a-m-13/
CATEGORIES:Family
END:VEVENT
END:VCALENDAR