BEGIN:VCALENDAR
VERSION:2.0
PRODID:-//Southern Prairie Library - ECPv6.15.14//NONSGML v1.0//EN
CALSCALE:GREGORIAN
METHOD:PUBLISH
X-ORIGINAL-URL:https://spls.lib.ok.us
X-WR-CALDESC:Events for Southern Prairie Library
REFRESH-INTERVAL;VALUE=DURATION:PT1H
X-Robots-Tag:noindex
X-PUBLISHED-TTL:PT1H
BEGIN:VTIMEZONE
TZID:America/Chicago
BEGIN:DAYLIGHT
TZOFFSETFROM:-0600
TZOFFSETTO:-0500
TZNAME:CDT
DTSTART:20240310T080000
END:DAYLIGHT
BEGIN:STANDARD
TZOFFSETFROM:-0500
TZOFFSETTO:-0600
TZNAME:CST
DTSTART:20241103T070000
END:STANDARD
BEGIN:DAYLIGHT
TZOFFSETFROM:-0600
TZOFFSETTO:-0500
TZNAME:CDT
DTSTART:20250309T080000
END:DAYLIGHT
BEGIN:STANDARD
TZOFFSETFROM:-0500
TZOFFSETTO:-0600
TZNAME:CST
DTSTART:20251102T070000
END:STANDARD
BEGIN:DAYLIGHT
TZOFFSETFROM:-0600
TZOFFSETTO:-0500
TZNAME:CDT
DTSTART:20260308T080000
END:DAYLIGHT
BEGIN:STANDARD
TZOFFSETFROM:-0500
TZOFFSETTO:-0600
TZNAME:CST
DTSTART:20261101T070000
END:STANDARD
END:VTIMEZONE
BEGIN:VEVENT
DTSTART;TZID=America/Chicago:20250616T100000
DTEND;TZID=America/Chicago:20250616T110000
DTSTAMP:20260419T165608
CREATED:20250605T142853Z
LAST-MODIFIED:20250605T142853Z
UID:8748-1750068000-1750071600@spls.lib.ok.us
SUMMARY:Learning with STEM @ 10 a.m.
DESCRIPTION:Learning with STEM is HERE for Summer 2025!\n\n\n\nPresented by the OSU Rural Renewal Initiative\n\n\n\nGet ready to explore\, experiment\, and discover all summer long at the Altus Public Library! Every Monday and Friday\, we’re diving into exciting science\, technology\, engineering\, and math activities designed to spark curiosity and creativity.\n\n\n\n–June 2 – July 25\n–Mondays & Fridays at 10 AM\n–Altus Public Library\, 421 N Hudson St.\n–For ages 4 and up\n–FREE Admission\n\n\n\nEach session brings something new — from wild experiments to fun hands-on challenges. Bring the kids and let’s make this summer STEM-sational!
URL:https://spls.lib.ok.us/event/learning-with-stem-10-a-m-5/
CATEGORIES:Family
END:VEVENT
BEGIN:VEVENT
DTSTART;TZID=America/Chicago:20250616T120000
DTEND;TZID=America/Chicago:20250616T133000
DTSTAMP:20260419T165608
CREATED:20250605T160519Z
LAST-MODIFIED:20250605T160519Z
UID:8823-1750075200-1750080600@spls.lib.ok.us
SUMMARY:Jackson County Health Department Community Outreach @ 12 p.m.
DESCRIPTION:Do you have questions about food assistance\, insurance\, local services or specialized help? Thanks to a partnership with the District 5 Southwest Oklahoma County Health Departments\, help is available!  \nA Community Health Worker (CHW) can help you navigate your unique situation. Stop by the Altus Public Library\, 421 N. Hudson\, from 12:00 to 1:30 PM TODAY! There will be a CHW here to help you find the right solutions to your specific needs.  \nThis program is FREE and open to the public! Come see us!
URL:https://spls.lib.ok.us/event/jackson-county-health-department-community-outreach-12-p-m-2/
CATEGORIES:Adults,Family
END:VEVENT
BEGIN:VEVENT
DTSTART;TZID=America/Chicago:20250617T140000
DTEND;TZID=America/Chicago:20250617T150000
DTSTAMP:20260419T165608
CREATED:20250605T155517Z
LAST-MODIFIED:20250605T155517Z
UID:8819-1750168800-1750172400@spls.lib.ok.us
SUMMARY:Tween Tuesday @ 2 p.m.
DESCRIPTION:Calling all tweens ages 12 & up!\n\n\n\n\n\nHave you ever wanted to decorate your own tote bag? Now’s your chance! We’ll provide the materials — just bring your design ideas.\n\n\nWe’ll all end up with our own one-of-a-kind designs!
URL:https://spls.lib.ok.us/event/tween-tuesday-2-p-m-2/
CATEGORIES:Family
END:VEVENT
BEGIN:VEVENT
DTSTART;TZID=America/Chicago:20250618T110000
DTEND;TZID=America/Chicago:20250618T120000
DTSTAMP:20260419T165608
CREATED:20250605T145946Z
LAST-MODIFIED:20250605T145946Z
UID:8798-1750244400-1750248000@spls.lib.ok.us
SUMMARY:Story Time & Craft @ 11 a.m.
DESCRIPTION:Join us at the library this Wednesday at 11 a.m. for Story Time and Craft! \nThe theme for June 18th is Color Our World! The activity is coloring sheets! \nLet’s read together and get creative with fun activities!
URL:https://spls.lib.ok.us/event/story-time-craft-11-a-m-30/
CATEGORIES:Family,Infants & Toddlers up to age 5
END:VEVENT
BEGIN:VEVENT
DTSTART;TZID=America/Chicago:20250620T100000
DTEND;TZID=America/Chicago:20250620T110000
DTSTAMP:20260419T165608
CREATED:20250605T142928Z
LAST-MODIFIED:20250605T142928Z
UID:8750-1750413600-1750417200@spls.lib.ok.us
SUMMARY:Learning with STEM @ 10 a.m.
DESCRIPTION:Learning with STEM is HERE for Summer 2025!\n\n\n\nPresented by the OSU Rural Renewal Initiative\n\n\n\nGet ready to explore\, experiment\, and discover all summer long at the Altus Public Library! Every Monday and Friday\, we’re diving into exciting science\, technology\, engineering\, and math activities designed to spark curiosity and creativity.\n\n\n\n–June 2 – July 25\n–Mondays & Fridays at 10 AM\n–Altus Public Library\, 421 N Hudson St.\n–For ages 4 and up\n–FREE Admission\n\n\n\nEach session brings something new — from wild experiments to fun hands-on challenges. Bring the kids and let’s make this summer STEM-sational!
URL:https://spls.lib.ok.us/event/learning-with-stem-10-a-m-6/
CATEGORIES:Family
END:VEVENT
BEGIN:VEVENT
DTSTART;TZID=America/Chicago:20250620T110000
DTEND;TZID=America/Chicago:20250620T120000
DTSTAMP:20260419T165608
CREATED:20250605T143348Z
LAST-MODIFIED:20250605T143348Z
UID:8760-1750417200-1750420800@spls.lib.ok.us
SUMMARY:Ya Ya Yarn @ 11 a.m.
DESCRIPTION:Join the Ya Ya Yarn Crew!\n\n\n\nCalling all yarn lovers! Whether you knit\, crochet\, loom\, or just love a good tangle of thread — our Ya Ya Yarn group is the perfect place to connect\, create\, and unwind.\n\n\n\n\n\nBring your current project or start something new. All skill levels are welcome — from total beginner to yarn wizard!\n\n\n\nLet’s stitch\, chat\, and craft some cozy community together.
URL:https://spls.lib.ok.us/event/ya-ya-yarn-11-a-m-22/
CATEGORIES:Adults,Family
END:VEVENT
BEGIN:VEVENT
DTSTART;TZID=America/Chicago:20250620T140000
DTEND;TZID=America/Chicago:20250620T150000
DTSTAMP:20260419T165608
CREATED:20250605T161630Z
LAST-MODIFIED:20250605T161630Z
UID:8825-1750428000-1750431600@spls.lib.ok.us
SUMMARY:Family Friday @ 2 p.m.
DESCRIPTION:Family Friday is Back – with Tangrams & Tech!\n\n\n\nJoin us for another round of Tangram Puzzle fun at the Altus Public Library on Friday\, June 20th at 2 PM!\n\n\n\nWe’re bringing back this popular program where families can play\, learn\, and solve puzzles together using custom Tangram sets created with our very own Glowforge laser cutter!\n\n\n\nRegistration required by June 16 to ensure we have enough puzzle sets for everyone!\n\n\n\nDon’t miss out on this creative and collaborative event — call or stop by the library to register today!
URL:https://spls.lib.ok.us/event/family-friday-2-p-m-2/
CATEGORIES:Family
END:VEVENT
BEGIN:VEVENT
DTSTART;TZID=America/Chicago:20250621T140000
DTEND;TZID=America/Chicago:20250621T150000
DTSTAMP:20260419T165608
CREATED:20250605T162022Z
LAST-MODIFIED:20250605T162117Z
UID:8830-1750514400-1750518000@spls.lib.ok.us
SUMMARY:Lego Club @ 2 p.m.
DESCRIPTION:Join us for the second of our twice-a-month LEGO Club meetups—a perfect way to spark creativity\, make new friends\, and enjoy some weekend fun at the library! We’ll supply the bricks\, you bring the imagination.\n\n\n\n\nStay tuned for more Saturday activities throughout the summer!
URL:https://spls.lib.ok.us/event/lego-club-2-p-m-14/
CATEGORIES:Family
END:VEVENT
END:VCALENDAR