BEGIN:VCALENDAR
VERSION:2.0
PRODID:-//Southern Prairie Library - ECPv6.15.14//NONSGML v1.0//EN
CALSCALE:GREGORIAN
METHOD:PUBLISH
X-ORIGINAL-URL:https://spls.lib.ok.us
X-WR-CALDESC:Events for Southern Prairie Library
REFRESH-INTERVAL;VALUE=DURATION:PT1H
X-Robots-Tag:noindex
X-PUBLISHED-TTL:PT1H
BEGIN:VTIMEZONE
TZID:America/Chicago
BEGIN:DAYLIGHT
TZOFFSETFROM:-0600
TZOFFSETTO:-0500
TZNAME:CDT
DTSTART:20240310T080000
END:DAYLIGHT
BEGIN:STANDARD
TZOFFSETFROM:-0500
TZOFFSETTO:-0600
TZNAME:CST
DTSTART:20241103T070000
END:STANDARD
BEGIN:DAYLIGHT
TZOFFSETFROM:-0600
TZOFFSETTO:-0500
TZNAME:CDT
DTSTART:20250309T080000
END:DAYLIGHT
BEGIN:STANDARD
TZOFFSETFROM:-0500
TZOFFSETTO:-0600
TZNAME:CST
DTSTART:20251102T070000
END:STANDARD
BEGIN:DAYLIGHT
TZOFFSETFROM:-0600
TZOFFSETTO:-0500
TZNAME:CDT
DTSTART:20260308T080000
END:DAYLIGHT
BEGIN:STANDARD
TZOFFSETFROM:-0500
TZOFFSETTO:-0600
TZNAME:CST
DTSTART:20261101T070000
END:STANDARD
END:VTIMEZONE
BEGIN:VEVENT
DTSTART;TZID=America/Chicago:20250602T100000
DTEND;TZID=America/Chicago:20250602T110000
DTSTAMP:20260419T151656
CREATED:20250605T142536Z
LAST-MODIFIED:20250605T142536Z
UID:8740-1748858400-1748862000@spls.lib.ok.us
SUMMARY:Learning with STEM @ 10 a.m.
DESCRIPTION:Learning with STEM is HERE for Summer 2025!\n\n\n\nPresented by the OSU Rural Renewal Initiative\n\n\n\nGet ready to explore\, experiment\, and discover all summer long at the Altus Public Library! Every Monday and Friday\, we’re diving into exciting science\, technology\, engineering\, and math activities designed to spark curiosity and creativity.\n\n\n\n–June 2 – July 25\n–Mondays & Fridays at 10 AM\n–Altus Public Library\, 421 N Hudson St.\n–For ages 4 and up\n–FREE Admission\n\n\n\nEach session brings something new — from wild experiments to fun hands-on challenges. Bring the kids and let’s make this summer STEM-sational!
URL:https://spls.lib.ok.us/event/learning-with-stem-10-a-m/
CATEGORIES:Family
END:VEVENT
BEGIN:VEVENT
DTSTART;TZID=America/Chicago:20250603T180000
DTEND;TZID=America/Chicago:20250603T190000
DTSTAMP:20260419T151656
CREATED:20250605T143309Z
LAST-MODIFIED:20250605T143309Z
UID:8758-1748973600-1748977200@spls.lib.ok.us
SUMMARY:Ya Ya Yarn @ 6 p.m.
DESCRIPTION:Join the Ya Ya Yarn Crew!\n\n\n\nCalling all yarn lovers! Whether you knit\, crochet\, loom\, or just love a good tangle of thread — our Ya Ya Yarn group is the perfect place to connect\, create\, and unwind.\n\n\n\n\n\nBring your current project or start something new. All skill levels are welcome — from total beginner to yarn wizard!\n\n\n\nLet’s stitch\, chat\, and craft some cozy community together.
URL:https://spls.lib.ok.us/event/ya-ya-yarn-6-p-m-12/
CATEGORIES:Adults,Family
END:VEVENT
BEGIN:VEVENT
DTSTART;TZID=America/Chicago:20250604T110000
DTEND;TZID=America/Chicago:20250604T120000
DTSTAMP:20260419T151656
CREATED:20250605T145706Z
LAST-MODIFIED:20250605T145706Z
UID:8794-1749034800-1749038400@spls.lib.ok.us
SUMMARY:Story Time & Craft @ 11 a.m.
DESCRIPTION:Join us at the library this Wednesday at 11 a.m. for Story Time and Craft! \nThe theme for June 4th is Summer! The activity is making dotted ice cream! \nLet’s read together and get creative with fun activities!
URL:https://spls.lib.ok.us/event/story-time-craft-11-a-m-28/
CATEGORIES:Family,Infants & Toddlers up to age 5
END:VEVENT
BEGIN:VEVENT
DTSTART;TZID=America/Chicago:20250604T140000
DTEND;TZID=America/Chicago:20250604T150000
DTSTAMP:20260419T151656
CREATED:20250605T143742Z
LAST-MODIFIED:20250605T143742Z
UID:8764-1749045600-1749049200@spls.lib.ok.us
SUMMARY:STEAM Day @ 2 p.m.
DESCRIPTION:STEAM Day: Build an Atom! Get ready for a hands-on science adventure! Join us on Wednesday\, June 4th at 2 PM for our STEAM Day: Build an Atom program!Parents and kids are invited to explore the building blocks of matter in a fun and creative way — with play dough! Together\, we’ll shape protons\, neutrons\, and electrons\, discover how they come together to form atoms\, and learn about the Periodic Table of Elements along the way.Come spark your child’s love for science with us!
URL:https://spls.lib.ok.us/event/steam-day-2-p-m/
CATEGORIES:Family
END:VEVENT
BEGIN:VEVENT
DTSTART;TZID=America/Chicago:20250605T140000
DTEND;TZID=America/Chicago:20250605T150000
DTSTAMP:20260419T151656
CREATED:20250605T142332Z
LAST-MODIFIED:20250605T144237Z
UID:8738-1749132000-1749135600@spls.lib.ok.us
SUMMARY:Magician Jonathan Meyer @ the Altus Community Center @ 2 p.m.
DESCRIPTION:Please join us for an interactive magic show with professional magician Jonathan Meyer on Thursday\, June 5th\, 2025!  \nThe Altus program will be at the Altus Community Center\, 401 Falcon Road\, at 2:00 p.m.  \nThe Hollis program will be at the Hollis Civic Center\, 208 W. Jones Street\, at 10:00 a.m.  \nThe programs are approximately 45 minutes long and are suitable for all ages. Please join us!!!
URL:https://spls.lib.ok.us/event/magician-jonathan-meyer-the-altus-community-center-11-a-m/
CATEGORIES:Family
END:VEVENT
BEGIN:VEVENT
DTSTART;TZID=America/Chicago:20250606T100000
DTEND;TZID=America/Chicago:20250606T110000
DTSTAMP:20260419T151656
CREATED:20250605T142657Z
LAST-MODIFIED:20250605T142657Z
UID:8742-1749204000-1749207600@spls.lib.ok.us
SUMMARY:Learning with STEM @ 10 a.m.
DESCRIPTION:Learning with STEM is HERE for Summer 2025!\n\n\n\nPresented by the OSU Rural Renewal Initiative\n\n\n\nGet ready to explore\, experiment\, and discover all summer long at the Altus Public Library! Every Monday and Friday\, we’re diving into exciting science\, technology\, engineering\, and math activities designed to spark curiosity and creativity.\n\n\n\n–June 2 – July 25\n–Mondays & Fridays at 10 AM\n–Altus Public Library\, 421 N Hudson St.\n–For ages 4 and up\n–FREE Admission\n\n\n\nEach session brings something new — from wild experiments to fun hands-on challenges. Bring the kids and let’s make this summer STEM-sational!
URL:https://spls.lib.ok.us/event/learning-with-stem-10-a-m-2/
CATEGORIES:Family
END:VEVENT
BEGIN:VEVENT
DTSTART;TZID=America/Chicago:20250607T140000
DTEND;TZID=America/Chicago:20250607T150000
DTSTAMP:20260419T151656
CREATED:20250605T161853Z
LAST-MODIFIED:20250605T162056Z
UID:8827-1749304800-1749308400@spls.lib.ok.us
SUMMARY:Lego Club @ 2 p.m.
DESCRIPTION:We’re kicking off our special June & July Saturday programs with a crowd favorite: Lego Club!\n\n\n\nJoin us for the first of our twice-a-month LEGO Club meetups—a perfect way to spark creativity\, make new friends\, and enjoy some weekend fun at the library! We’ll supply the bricks\, you bring the imagination.\n\n\n\nStay tuned for more Saturday activities throughout the summer!
URL:https://spls.lib.ok.us/event/lego-club-2-p-m-13/
CATEGORIES:Family
END:VEVENT
END:VCALENDAR