BEGIN:VCALENDAR
VERSION:2.0
PRODID:-//Southern Prairie Library - ECPv6.15.14//NONSGML v1.0//EN
CALSCALE:GREGORIAN
METHOD:PUBLISH
X-ORIGINAL-URL:https://spls.lib.ok.us
X-WR-CALDESC:Events for Southern Prairie Library
REFRESH-INTERVAL;VALUE=DURATION:PT1H
X-Robots-Tag:noindex
X-PUBLISHED-TTL:PT1H
BEGIN:VTIMEZONE
TZID:America/Chicago
BEGIN:DAYLIGHT
TZOFFSETFROM:-0600
TZOFFSETTO:-0500
TZNAME:CDT
DTSTART:20240310T080000
END:DAYLIGHT
BEGIN:STANDARD
TZOFFSETFROM:-0500
TZOFFSETTO:-0600
TZNAME:CST
DTSTART:20241103T070000
END:STANDARD
BEGIN:DAYLIGHT
TZOFFSETFROM:-0600
TZOFFSETTO:-0500
TZNAME:CDT
DTSTART:20250309T080000
END:DAYLIGHT
BEGIN:STANDARD
TZOFFSETFROM:-0500
TZOFFSETTO:-0600
TZNAME:CST
DTSTART:20251102T070000
END:STANDARD
BEGIN:DAYLIGHT
TZOFFSETFROM:-0600
TZOFFSETTO:-0500
TZNAME:CDT
DTSTART:20260308T080000
END:DAYLIGHT
BEGIN:STANDARD
TZOFFSETFROM:-0500
TZOFFSETTO:-0600
TZNAME:CST
DTSTART:20261101T070000
END:STANDARD
END:VTIMEZONE
BEGIN:VEVENT
DTSTART;VALUE=DATE:20250526
DTEND;VALUE=DATE:20250527
DTSTAMP:20260419T153916
CREATED:20250502T195735Z
LAST-MODIFIED:20250502T195735Z
UID:8664-1748217600-1748303999@spls.lib.ok.us
SUMMARY:Closed - Memorial Day
DESCRIPTION:
URL:https://spls.lib.ok.us/event/closed-memorial-day-4/
CATEGORIES:Adults,Family
END:VEVENT
BEGIN:VEVENT
DTSTART;TZID=America/Chicago:20250528T110000
DTEND;TZID=America/Chicago:20250528T120000
DTSTAMP:20260419T153916
CREATED:20250502T195711Z
LAST-MODIFIED:20250502T202222Z
UID:8662-1748430000-1748433600@spls.lib.ok.us
SUMMARY:Story Time & Craft @ 11 a.m.
DESCRIPTION:Story Time & Craft – All May Long!\n\n\n\nJoin us every Wednesday at 11 AM at the Altus Public Library for stories\, crafts\, and tons of fun — perfect for Pre-K and up!\n\n\nThis Week’s theme is ouchies! The activity will be making band-aid butterflies!\n\n\nNo registration needed — just bring your imagination and get ready to craft with us!
URL:https://spls.lib.ok.us/event/story-time-craft-11-a-m-27/
CATEGORIES:Family,Infants & Toddlers up to age 5
ATTACH;FMTTYPE=image/png:https://spls.lib.ok.us/wp-content/uploads/2022/07/story-time-Facebook-Event-Cover-100-×-100-px.png
END:VEVENT
BEGIN:VEVENT
DTSTART;TZID=America/Chicago:20250530T110000
DTEND;TZID=America/Chicago:20250530T120000
DTSTAMP:20260419T153916
CREATED:20250502T201523Z
LAST-MODIFIED:20250502T201523Z
UID:8675-1748602800-1748606400@spls.lib.ok.us
SUMMARY:Ya Ya Yarn @ 11 a.m.
DESCRIPTION:Join the Ya Ya Yarn Crew!\n\n\n\nCalling all yarn lovers! Whether you knit\, crochet\, loom\, or just love a good tangle of thread — our Ya Ya Yarn group is the perfect place to connect\, create\, and unwind.\n\n\n\n\n\nBring your current project or start something new. All skill levels are welcome — from total beginner to yarn wizard!\n\n\n\nLet’s stitch\, chat\, and craft some cozy community together.
URL:https://spls.lib.ok.us/event/ya-ya-yarn-11-a-m-21/
CATEGORIES:Adults,Family
END:VEVENT
END:VCALENDAR