BEGIN:VCALENDAR
VERSION:2.0
PRODID:-//Southern Prairie Library - ECPv6.15.14//NONSGML v1.0//EN
CALSCALE:GREGORIAN
METHOD:PUBLISH
X-ORIGINAL-URL:https://spls.lib.ok.us
X-WR-CALDESC:Events for Southern Prairie Library
REFRESH-INTERVAL;VALUE=DURATION:PT1H
X-Robots-Tag:noindex
X-PUBLISHED-TTL:PT1H
BEGIN:VTIMEZONE
TZID:America/Chicago
BEGIN:DAYLIGHT
TZOFFSETFROM:-0600
TZOFFSETTO:-0500
TZNAME:CDT
DTSTART:20240310T080000
END:DAYLIGHT
BEGIN:STANDARD
TZOFFSETFROM:-0500
TZOFFSETTO:-0600
TZNAME:CST
DTSTART:20241103T070000
END:STANDARD
BEGIN:DAYLIGHT
TZOFFSETFROM:-0600
TZOFFSETTO:-0500
TZNAME:CDT
DTSTART:20250309T080000
END:DAYLIGHT
BEGIN:STANDARD
TZOFFSETFROM:-0500
TZOFFSETTO:-0600
TZNAME:CST
DTSTART:20251102T070000
END:STANDARD
BEGIN:DAYLIGHT
TZOFFSETFROM:-0600
TZOFFSETTO:-0500
TZNAME:CDT
DTSTART:20260308T080000
END:DAYLIGHT
BEGIN:STANDARD
TZOFFSETFROM:-0500
TZOFFSETTO:-0600
TZNAME:CST
DTSTART:20261101T070000
END:STANDARD
END:VTIMEZONE
BEGIN:VEVENT
DTSTART;TZID=America/Chicago:20250519T120000
DTEND;TZID=America/Chicago:20250519T133000
DTSTAMP:20260419T203846
CREATED:20250502T200150Z
LAST-MODIFIED:20250502T200150Z
UID:8666-1747656000-1747661400@spls.lib.ok.us
SUMMARY:Jackson County Health Department Community Outreach @ 12 p.m.
DESCRIPTION:Do you have questions about food assistance\, insurance\, local services or specialized help? Thanks to a partnership with the District 5 Southwest Oklahoma County Health Departments\, help is available! \nA Community Health Worker (CHW) can help you navigate your unique situation. Stop by the Altus Public Library\, 421 N. Hudson\, from 12:00 to 1:30 PM on the dates listed in the poster below. There will be a CHW here to help you find the right solutions to your specific needs. \nThis program is FREE and open to the public! Come see us!
URL:https://spls.lib.ok.us/event/jackson-county-health-department-community-outreach-12-p-m/
CATEGORIES:Adults,Family
END:VEVENT
BEGIN:VEVENT
DTSTART;TZID=America/Chicago:20250520T160000
DTEND;TZID=America/Chicago:20250520T180000
DTSTAMP:20260419T203846
CREATED:20250502T201800Z
LAST-MODIFIED:20250502T201800Z
UID:8678-1747756800-1747764000@spls.lib.ok.us
SUMMARY:Tween Tuesday @ 4 p.m.
DESCRIPTION:Tween Tuesday Alert!\n\nJoin us in May at the Altus Public Library for a fun Tween Tuesday movie night – we’ll be watching Lilo & Stitch!\n\n\n\n\n\nGrab your friends\, get comfy\, and enjoy this heartwarming (and hilarious!) Disney classic about ohana\, friendship\, and one very mischievous alien\n\n\n\nSnacks will be provided!\n\nSee you there!
URL:https://spls.lib.ok.us/event/tween-tuesday-4-p-m-7/
CATEGORIES:Family,Grades 5th-8th
END:VEVENT
BEGIN:VEVENT
DTSTART;TZID=America/Chicago:20250521T110000
DTEND;TZID=America/Chicago:20250521T120000
DTSTAMP:20260419T203846
CREATED:20250502T195437Z
LAST-MODIFIED:20250502T202239Z
UID:8657-1747825200-1747828800@spls.lib.ok.us
SUMMARY:Story Time & Craft @ 11 a.m.
DESCRIPTION:Story Time & Craft – All May Long!\n\n\n\nJoin us every Wednesday at 11 AM at the Altus Public Library for stories\, crafts\, and tons of fun — perfect for Pre-K and up!\n\n\nThis Week’s theme is music! The activity will be making colorful maracas!\n\n\nNo registration needed — just bring your imagination and get ready to craft with us!
URL:https://spls.lib.ok.us/event/8657/
CATEGORIES:Family,Infants & Toddlers up to age 5
ATTACH;FMTTYPE=image/png:https://spls.lib.ok.us/wp-content/uploads/2022/07/story-time-Facebook-Event-Cover-100-×-100-px.png
END:VEVENT
END:VCALENDAR