BEGIN:VCALENDAR
VERSION:2.0
PRODID:-//Southern Prairie Library - ECPv6.15.14//NONSGML v1.0//EN
CALSCALE:GREGORIAN
METHOD:PUBLISH
X-ORIGINAL-URL:https://spls.lib.ok.us
X-WR-CALDESC:Events for Southern Prairie Library
REFRESH-INTERVAL;VALUE=DURATION:PT1H
X-Robots-Tag:noindex
X-PUBLISHED-TTL:PT1H
BEGIN:VTIMEZONE
TZID:America/Chicago
BEGIN:DAYLIGHT
TZOFFSETFROM:-0600
TZOFFSETTO:-0500
TZNAME:CDT
DTSTART:20240310T080000
END:DAYLIGHT
BEGIN:STANDARD
TZOFFSETFROM:-0500
TZOFFSETTO:-0600
TZNAME:CST
DTSTART:20241103T070000
END:STANDARD
BEGIN:DAYLIGHT
TZOFFSETFROM:-0600
TZOFFSETTO:-0500
TZNAME:CDT
DTSTART:20250309T080000
END:DAYLIGHT
BEGIN:STANDARD
TZOFFSETFROM:-0500
TZOFFSETTO:-0600
TZNAME:CST
DTSTART:20251102T070000
END:STANDARD
BEGIN:DAYLIGHT
TZOFFSETFROM:-0600
TZOFFSETTO:-0500
TZNAME:CDT
DTSTART:20260308T080000
END:DAYLIGHT
BEGIN:STANDARD
TZOFFSETFROM:-0500
TZOFFSETTO:-0600
TZNAME:CST
DTSTART:20261101T070000
END:STANDARD
END:VTIMEZONE
BEGIN:VEVENT
DTSTART;TZID=America/Chicago:20250514T110000
DTEND;TZID=America/Chicago:20250514T120000
DTSTAMP:20260419T151730
CREATED:20250502T195303Z
LAST-MODIFIED:20250502T202300Z
UID:8655-1747220400-1747224000@spls.lib.ok.us
SUMMARY:Story Time & Craft @ 11 a.m.
DESCRIPTION:Story Time & Craft – All May Long!\n\n\n\nJoin us every Wednesday at 11 AM at the Altus Public Library for stories\, crafts\, and tons of fun — perfect for Pre-K and up!\n\n\nThis Week’s theme is puppies! The activity will be making a puppy headband!\n\n\nNo registration needed — just bring your imagination and get ready to craft with us!
URL:https://spls.lib.ok.us/event/story-time-craft-11-a-m-26/
CATEGORIES:Family,Infants & Toddlers up to age 5
END:VEVENT
BEGIN:VEVENT
DTSTART;TZID=America/Chicago:20250514T160000
DTEND;TZID=America/Chicago:20250514T170000
DTSTAMP:20260419T151730
CREATED:20250502T201945Z
LAST-MODIFIED:20250502T201945Z
UID:8680-1747238400-1747242000@spls.lib.ok.us
SUMMARY:STEAM Day @ 4 p.m.
DESCRIPTION:
URL:https://spls.lib.ok.us/event/steam-day-4-p-m-2/
CATEGORIES:Ages 8-18,Family
END:VEVENT
BEGIN:VEVENT
DTSTART;TZID=America/Chicago:20250516T160000
DTEND;TZID=America/Chicago:20250516T170000
DTSTAMP:20260419T151730
CREATED:20250502T202031Z
LAST-MODIFIED:20250502T202031Z
UID:8682-1747411200-1747414800@spls.lib.ok.us
SUMMARY:Family Friday @ 4 p.m.
DESCRIPTION:
URL:https://spls.lib.ok.us/event/family-friday-4-p-m-12/
CATEGORIES:Family
END:VEVENT
BEGIN:VEVENT
DTSTART;TZID=America/Chicago:20250517T140000
DTEND;TZID=America/Chicago:20250517T150000
DTSTAMP:20260419T151730
CREATED:20250502T202142Z
LAST-MODIFIED:20250502T202142Z
UID:8684-1747490400-1747494000@spls.lib.ok.us
SUMMARY:LEGO Club @ 2 p.m.
DESCRIPTION:Future artists and engineers are invited to join us for Lego Club! Build to your hearts content. Your work will be displayed at the Altus Public Library.
URL:https://spls.lib.ok.us/event/lego-club-2-p-m-12/
CATEGORIES:Family
END:VEVENT
END:VCALENDAR