BEGIN:VCALENDAR
VERSION:2.0
PRODID:-//Southern Prairie Library - ECPv6.15.14//NONSGML v1.0//EN
CALSCALE:GREGORIAN
METHOD:PUBLISH
X-WR-CALNAME:Southern Prairie Library
X-ORIGINAL-URL:https://spls.lib.ok.us
X-WR-CALDESC:Events for Southern Prairie Library
REFRESH-INTERVAL;VALUE=DURATION:PT1H
X-Robots-Tag:noindex
X-PUBLISHED-TTL:PT1H
BEGIN:VTIMEZONE
TZID:America/Chicago
BEGIN:DAYLIGHT
TZOFFSETFROM:-0600
TZOFFSETTO:-0500
TZNAME:CDT
DTSTART:20200308T080000
END:DAYLIGHT
BEGIN:STANDARD
TZOFFSETFROM:-0500
TZOFFSETTO:-0600
TZNAME:CST
DTSTART:20201101T070000
END:STANDARD
BEGIN:DAYLIGHT
TZOFFSETFROM:-0600
TZOFFSETTO:-0500
TZNAME:CDT
DTSTART:20210314T080000
END:DAYLIGHT
BEGIN:STANDARD
TZOFFSETFROM:-0500
TZOFFSETTO:-0600
TZNAME:CST
DTSTART:20211107T070000
END:STANDARD
BEGIN:DAYLIGHT
TZOFFSETFROM:-0600
TZOFFSETTO:-0500
TZNAME:CDT
DTSTART:20220313T080000
END:DAYLIGHT
BEGIN:STANDARD
TZOFFSETFROM:-0500
TZOFFSETTO:-0600
TZNAME:CST
DTSTART:20221106T070000
END:STANDARD
END:VTIMEZONE
BEGIN:VEVENT
DTSTART;TZID=America/Chicago:20211030T090000
DTEND;TZID=America/Chicago:20211030T170000
DTSTAMP:20260421T185147
CREATED:20211026T214459Z
LAST-MODIFIED:20211026T215853Z
UID:3733-1635584400-1635613200@spls.lib.ok.us
SUMMARY:Trick or Treat - Come get your TREATS!!
DESCRIPTION:Stop by the Altus Public Library\nOctober 30th for a treat.\nTake your picture with our bats and pumpkins!!\n                                   We can’t wait to see your costumes!!!\n 
URL:https://spls.lib.ok.us/event/trick-or-treat-come-get-your-treats/
CATEGORIES:Family
ATTACH;FMTTYPE=image/png:https://spls.lib.ok.us/wp-content/uploads/2021/08/trickortreat21.png
END:VEVENT
END:VCALENDAR