BEGIN:VCALENDAR
VERSION:2.0
PRODID:-//Southern Prairie Library - ECPv6.15.14//NONSGML v1.0//EN
CALSCALE:GREGORIAN
METHOD:PUBLISH
X-ORIGINAL-URL:https://spls.lib.ok.us
X-WR-CALDESC:Events for Southern Prairie Library
REFRESH-INTERVAL;VALUE=DURATION:PT1H
X-Robots-Tag:noindex
X-PUBLISHED-TTL:PT1H
BEGIN:VTIMEZONE
TZID:America/Chicago
BEGIN:DAYLIGHT
TZOFFSETFROM:-0600
TZOFFSETTO:-0500
TZNAME:CDT
DTSTART:20200308T080000
END:DAYLIGHT
BEGIN:STANDARD
TZOFFSETFROM:-0500
TZOFFSETTO:-0600
TZNAME:CST
DTSTART:20201101T070000
END:STANDARD
BEGIN:DAYLIGHT
TZOFFSETFROM:-0600
TZOFFSETTO:-0500
TZNAME:CDT
DTSTART:20210314T080000
END:DAYLIGHT
BEGIN:STANDARD
TZOFFSETFROM:-0500
TZOFFSETTO:-0600
TZNAME:CST
DTSTART:20211107T070000
END:STANDARD
BEGIN:DAYLIGHT
TZOFFSETFROM:-0600
TZOFFSETTO:-0500
TZNAME:CDT
DTSTART:20220313T080000
END:DAYLIGHT
BEGIN:STANDARD
TZOFFSETFROM:-0500
TZOFFSETTO:-0600
TZNAME:CST
DTSTART:20221106T070000
END:STANDARD
END:VTIMEZONE
BEGIN:VEVENT
DTSTART;TZID=America/Chicago:20210831T103000
DTEND;TZID=America/Chicago:20210831T113000
DTSTAMP:20260422T164952
CREATED:20210819T213913Z
LAST-MODIFIED:20210819T214746Z
UID:3434-1630405800-1630409400@spls.lib.ok.us
SUMMARY:Fresh Start\, Nutrition and You 10:30 - 11:30 am
DESCRIPTION:Are you interested in learning new receipes\, choosing healthy foods\, saving money at the grocery store\, storing foods safely and being more physically active then join us.\nFor more information or to register call  the Altus Public Library at 580-477-289o.
URL:https://spls.lib.ok.us/event/fresh-start-nutrition-and-you-1030-1130-am/2021-08-31/
CATEGORIES:Family,Literacy Event
ATTACH;FMTTYPE=image/jpeg:https://spls.lib.ok.us/wp-content/uploads/2021/08/OSU-Ext-NutritionFlyer-2021-08-WEB.jpg
END:VEVENT
BEGIN:VEVENT
DTSTART;TZID=America/Chicago:20210901T110000
DTEND;TZID=America/Chicago:20210901T120000
DTSTAMP:20260422T164952
CREATED:20210630T184010Z
LAST-MODIFIED:20211101T195423Z
UID:3202-1630494000-1630497600@spls.lib.ok.us
SUMMARY:Story-time & Craft @11 am
DESCRIPTION:Come listen to Ms. Bailee read a fun story \nand do a fun craft! \n 
URL:https://spls.lib.ok.us/event/story-time-craft-11-am-2021-07-28/2021-09-01/
CATEGORIES:Family,Infants & Toddlers up to age 5
ATTACH;FMTTYPE=image/png:https://spls.lib.ok.us/wp-content/uploads/2021/08/image006.png
END:VEVENT
END:VCALENDAR