BEGIN:VCALENDAR
VERSION:2.0
PRODID:-//Southern Prairie Library - ECPv6.15.14//NONSGML v1.0//EN
CALSCALE:GREGORIAN
METHOD:PUBLISH
X-ORIGINAL-URL:https://spls.lib.ok.us
X-WR-CALDESC:Events for Southern Prairie Library
REFRESH-INTERVAL;VALUE=DURATION:PT1H
X-Robots-Tag:noindex
X-PUBLISHED-TTL:PT1H
BEGIN:VTIMEZONE
TZID:America/Chicago
BEGIN:DAYLIGHT
TZOFFSETFROM:-0600
TZOFFSETTO:-0500
TZNAME:CDT
DTSTART:20200308T080000
END:DAYLIGHT
BEGIN:STANDARD
TZOFFSETFROM:-0500
TZOFFSETTO:-0600
TZNAME:CST
DTSTART:20201101T070000
END:STANDARD
BEGIN:DAYLIGHT
TZOFFSETFROM:-0600
TZOFFSETTO:-0500
TZNAME:CDT
DTSTART:20210314T080000
END:DAYLIGHT
BEGIN:STANDARD
TZOFFSETFROM:-0500
TZOFFSETTO:-0600
TZNAME:CST
DTSTART:20211107T070000
END:STANDARD
BEGIN:DAYLIGHT
TZOFFSETFROM:-0600
TZOFFSETTO:-0500
TZNAME:CDT
DTSTART:20220313T080000
END:DAYLIGHT
BEGIN:STANDARD
TZOFFSETFROM:-0500
TZOFFSETTO:-0600
TZNAME:CST
DTSTART:20221106T070000
END:STANDARD
END:VTIMEZONE
BEGIN:VEVENT
DTSTART;TZID=America/Chicago:20210712T080000
DTEND;TZID=America/Chicago:20210717T170000
DTSTAMP:20260422T063720
CREATED:20210708T145924Z
LAST-MODIFIED:20210708T190217Z
UID:3256-1626076800-1626541200@spls.lib.ok.us
SUMMARY:Shark Week - July 12th - 17th
DESCRIPTION:
URL:https://spls.lib.ok.us/event/shark-week-july-12th-17th/
CATEGORIES:Family
ATTACH;FMTTYPE=image/jpeg:https://spls.lib.ok.us/wp-content/uploads/2021/07/Copy-of-Shark-Week-Flyer-Made-with-PosterMyWall-1-e1625770899108.jpg
END:VEVENT
BEGIN:VEVENT
DTSTART;TZID=America/Chicago:20210715T140000
DTEND;TZID=America/Chicago:20210715T150000
DTSTAMP:20260422T063720
CREATED:20210609T210733Z
LAST-MODIFIED:20210609T210733Z
UID:3038-1626357600-1626361200@spls.lib.ok.us
SUMMARY:Mad Science
DESCRIPTION:Remember that the Altus program will be at the Altus Community Center\, 401 Falcon Road\, at 2:00 p.m.  \nThe Hollis program will be at the Hollis Civic Center\, 208 W. Jones Street\, at 10:00 a.m. \n Please join us on Thursday\, July 15!!!
URL:https://spls.lib.ok.us/event/mad-science/
CATEGORIES:Adults,Ages 8-18,Family,Infants & Toddlers up to age 5,Literacy Event
END:VEVENT
BEGIN:VEVENT
DTSTART;TZID=America/Chicago:20210717T140000
DTEND;TZID=America/Chicago:20210717T153000
DTSTAMP:20260422T063720
CREATED:20210630T185022Z
LAST-MODIFIED:20210630T185022Z
UID:3226-1626530400-1626535800@spls.lib.ok.us
SUMMARY:Lego Club @ 2pm.
DESCRIPTION:
URL:https://spls.lib.ok.us/event/lego-club-2pm/
CATEGORIES:Family
ATTACH;FMTTYPE=image/jpeg:https://spls.lib.ok.us/wp-content/uploads/2021/06/legoblocks.jpg
END:VEVENT
END:VCALENDAR