BEGIN:VCALENDAR
VERSION:2.0
PRODID:-//Southern Prairie Library - ECPv6.15.14//NONSGML v1.0//EN
CALSCALE:GREGORIAN
METHOD:PUBLISH
X-WR-CALNAME:Southern Prairie Library
X-ORIGINAL-URL:https://spls.lib.ok.us
X-WR-CALDESC:Events for Southern Prairie Library
REFRESH-INTERVAL;VALUE=DURATION:PT1H
X-Robots-Tag:noindex
X-PUBLISHED-TTL:PT1H
BEGIN:VTIMEZONE
TZID:America/Chicago
BEGIN:DAYLIGHT
TZOFFSETFROM:-0600
TZOFFSETTO:-0500
TZNAME:CDT
DTSTART:20190310T080000
END:DAYLIGHT
BEGIN:STANDARD
TZOFFSETFROM:-0500
TZOFFSETTO:-0600
TZNAME:CST
DTSTART:20191103T070000
END:STANDARD
BEGIN:DAYLIGHT
TZOFFSETFROM:-0600
TZOFFSETTO:-0500
TZNAME:CDT
DTSTART:20200308T080000
END:DAYLIGHT
BEGIN:STANDARD
TZOFFSETFROM:-0500
TZOFFSETTO:-0600
TZNAME:CST
DTSTART:20201101T070000
END:STANDARD
BEGIN:DAYLIGHT
TZOFFSETFROM:-0600
TZOFFSETTO:-0500
TZNAME:CDT
DTSTART:20210314T080000
END:DAYLIGHT
BEGIN:STANDARD
TZOFFSETFROM:-0500
TZOFFSETTO:-0600
TZNAME:CST
DTSTART:20211107T070000
END:STANDARD
END:VTIMEZONE
BEGIN:VEVENT
DTSTART;VALUE=DATE:20200702
DTEND;VALUE=DATE:20200901
DTSTAMP:20260424T143151
CREATED:20200629T202043Z
LAST-MODIFIED:20200629T202043Z
UID:2097-1593648000-1598918399@spls.lib.ok.us
SUMMARY:"Tales of a Juggling Bard"
DESCRIPTION:  \nWe are proud to announce Ann Lincoln  “Tales of a Juggling Bard”.\nDo you like comedy\, maybe magic or juggling? Then you will enjoy Anne Lincoln’s show.\nLink will go live on Facebook on July 2\, 2020 and remain active until August 31\, 2020. \nHollis Public Library Facebook Page \nor call 580-388-2744\nAltus Public Library Southern Prairie Library System  Facebook Page\nor call 580-477-2890. \n 
URL:https://spls.lib.ok.us/event/tales-of-a-juggling-bard/
LOCATION:OK
CATEGORIES:Family
END:VEVENT
BEGIN:VEVENT
DTSTART;VALUE=DATE:20200625
DTEND;VALUE=DATE:20200801
DTSTAMP:20260424T143151
CREATED:20200616T193236Z
LAST-MODIFIED:20200624T141703Z
UID:2006-1593043200-1596239999@spls.lib.ok.us
SUMMARY:Sugar Free Allstars
DESCRIPTION:Sugar Free Allstars “Kid’s Rock Band”.\nLink will go live on our Facebook page Thursday\,  June 25th\, 2020. Link will remain active until\nJuly 31\, 2020. \nWatch as many times as you want to. It will get you up and moving.\nLet’s Rock the House with the Kid Rock Band.
URL:https://spls.lib.ok.us/event/sugar-free-allstars/
LOCATION:OK
CATEGORIES:Family
END:VEVENT
BEGIN:VEVENT
DTSTART;VALUE=DATE:20200618
DTEND;VALUE=DATE:20200623
DTSTAMP:20260424T143151
CREATED:20200616T184005Z
LAST-MODIFIED:20200618T190451Z
UID:1921-1592438400-1592870399@spls.lib.ok.us
SUMMARY:Hampstead Stage Theatre Group
DESCRIPTION:Hampstead Stage Theatre Group and Southern Prairie Library System invites you to a virtual performance of “Alice in Wonderland!” \nThe link to the website is: https://vimeo.com/hampsteadstagecompany/southernprairielibrary \nThe Password is: SOUTHERNPRAIRIE12 \nAccess to the video will begin at 12 am June 18th and end at midnight on June 22nd. \nWe hope you enjoy the performance!
URL:https://spls.lib.ok.us/event/hampstead-stage-theatre-group/
LOCATION:OK
CATEGORIES:Adults,Ages 8-18,Family,Literacy Event
END:VEVENT
BEGIN:VEVENT
DTSTART;VALUE=DATE:20200611
DTEND;VALUE=DATE:20200612
DTSTAMP:20260424T143151
CREATED:20200611T191046Z
LAST-MODIFIED:20200616T194355Z
UID:1882-1591833600-1591919999@spls.lib.ok.us
SUMMARY:Monty Harper - Musician
DESCRIPTION:Monty Harper Live Presentation\nusing Facebook Live. \nHollis Public Library Facebook page at 10:00 am. \nAltus Public Library Facebook page at 2:00 pm. \nReplays will be available after the live events
URL:https://spls.lib.ok.us/event/monty-harper-musician/
LOCATION:OK
CATEGORIES:Family
END:VEVENT
BEGIN:VEVENT
DTSTART;TZID=America/Chicago:20200317T080000
DTEND;TZID=America/Chicago:20200317T173000
DTSTAMP:20260424T143151
CREATED:20200317T220811Z
LAST-MODIFIED:20200318T182100Z
UID:1615-1584432000-1584466200@spls.lib.ok.us
SUMMARY:Library Closing
DESCRIPTION:  \n  \n  \n  \n  \n  \n  \n  \n  \n  \n  \n  \n  \n  \n  \n  \n  \n  \n  \n 
URL:https://spls.lib.ok.us/event/library-closing-2/
LOCATION:OK
CATEGORIES:Adults,Family,Literacy Event
END:VEVENT
BEGIN:VEVENT
DTSTART;TZID=America/Chicago:20200215T150000
DTEND;TZID=America/Chicago:20200215T170000
DTSTAMP:20260424T143151
CREATED:20200128T205405Z
LAST-MODIFIED:20210630T184612Z
UID:1189-1581778800-1581786000@spls.lib.ok.us
SUMMARY:LEGO club
DESCRIPTION:Come have fun building with legos.
URL:https://spls.lib.ok.us/event/lego-club/2020-02-15/
LOCATION:Altus Public Library\, 421 N Hudson St\, Altus\, OK\, OK 73521\, United States
CATEGORIES:Family
END:VEVENT
BEGIN:VEVENT
DTSTART;VALUE=DATE:20200205
DTEND;VALUE=DATE:20200206
DTSTAMP:20260424T143151
CREATED:20200204T213109Z
LAST-MODIFIED:20200204T221152Z
UID:1216-1580860800-1580947199@spls.lib.ok.us
SUMMARY:February 5\, 2020 Closed
DESCRIPTION:  \n  \nThe Southern Prairie Library System in Altus and Hollis \nwill be closed tomorrow\, February 5\, 2020\, for bad weather. \nAll programming for this day has also been cancelled.
URL:https://spls.lib.ok.us/event/february-5-2020-closed/
LOCATION:OK
CATEGORIES:Family
ATTACH;FMTTYPE=image/jpeg:https://spls.lib.ok.us/wp-content/uploads/2020/02/freezingpenguin.jpg
END:VEVENT
BEGIN:VEVENT
DTSTART;TZID=America/Chicago:20200201T103000
DTEND;TZID=America/Chicago:20200201T120000
DTSTAMP:20260424T143151
CREATED:20200128T185556Z
LAST-MODIFIED:20200128T185556Z
UID:1171-1580553000-1580558400@spls.lib.ok.us
SUMMARY:Ground Hog Day Storytime
DESCRIPTION:This will be at 10:30 a.m. in the community room at the library. There will be a story read about groundhog day and a craft for the kids to do.
URL:https://spls.lib.ok.us/event/ground-hog-day-storytime/
LOCATION:Altus Public Library\, 421 N Hudson St\, Altus\, OK\, OK 73521\, United States
CATEGORIES:Family
END:VEVENT
BEGIN:VEVENT
DTSTART;TZID=America/Chicago:20200131T173000
DTEND;TZID=America/Chicago:20200131T193000
DTSTAMP:20260424T143151
CREATED:20200123T171630Z
LAST-MODIFIED:20200123T171929Z
UID:1073-1580491800-1580499000@spls.lib.ok.us
SUMMARY:Family Movie Night
DESCRIPTION:Enjoy a fun evening with the family during our movie night on Friday\, January 31st.\nCome in your pjs\, bring a blanket or pillow if you like.\nStarts at 5:30pm.
URL:https://spls.lib.ok.us/event/family-movie-night/
LOCATION:Altus Public Library\, 421 N Hudson St\, Altus\, OK\, OK 73521\, United States
CATEGORIES:Family
ATTACH;FMTTYPE=image/png:https://spls.lib.ok.us/wp-content/uploads/2020/01/frozenposter.png
END:VEVENT
BEGIN:VEVENT
DTSTART;TZID=America/Chicago:20200128T103000
DTEND;TZID=America/Chicago:20200128T113000
DTSTAMP:20260424T143151
CREATED:20200128T202632Z
LAST-MODIFIED:20200204T220204Z
UID:1177-1580207400-1580211000@spls.lib.ok.us
SUMMARY:Story Time & Crafts
DESCRIPTION:Join us every Wednesday morning at 10:30 am for story time. \nThere will be a story and an activity for the kids.
URL:https://spls.lib.ok.us/event/story-time-crafts/2020-01-28/
LOCATION:Altus Public Library\, 421 N Hudson St\, Altus\, OK\, OK 73521\, United States
CATEGORIES:Family,Infants & Toddlers up to age 5
ATTACH;FMTTYPE=image/png:https://spls.lib.ok.us/wp-content/uploads/2020/01/Storytime-Wednesdays.png
END:VEVENT
BEGIN:VEVENT
DTSTART;TZID=America/Chicago:20200125T130000
DTEND;TZID=America/Chicago:20200125T143000
DTSTAMP:20260424T143151
CREATED:20200123T164028Z
LAST-MODIFIED:20200123T170523Z
UID:1054-1579957200-1579962600@spls.lib.ok.us
SUMMARY:DIY Vision Board
DESCRIPTION:Can you see clearly now that it is 2020?\nCreate a vision board with us on Saturday\,\nJanuary 25th at 1pm. Supplies will be provided.\nQuestions? Call 580-477-2890
URL:https://spls.lib.ok.us/event/diy-vision-board/
LOCATION:Altus Public Library\, 421 N Hudson St\, Altus\, OK\, OK 73521\, United States
CATEGORIES:Family
END:VEVENT
END:VCALENDAR