BEGIN:VCALENDAR
VERSION:2.0
PRODID:-//Southern Prairie Library - ECPv6.15.14//NONSGML v1.0//EN
CALSCALE:GREGORIAN
METHOD:PUBLISH
X-WR-CALNAME:Southern Prairie Library
X-ORIGINAL-URL:https://spls.lib.ok.us
X-WR-CALDESC:Events for Southern Prairie Library
REFRESH-INTERVAL;VALUE=DURATION:PT1H
X-Robots-Tag:noindex
X-PUBLISHED-TTL:PT1H
BEGIN:VTIMEZONE
TZID:America/Chicago
BEGIN:DAYLIGHT
TZOFFSETFROM:-0600
TZOFFSETTO:-0500
TZNAME:CDT
DTSTART:20200308T080000
END:DAYLIGHT
BEGIN:STANDARD
TZOFFSETFROM:-0500
TZOFFSETTO:-0600
TZNAME:CST
DTSTART:20201101T070000
END:STANDARD
BEGIN:DAYLIGHT
TZOFFSETFROM:-0600
TZOFFSETTO:-0500
TZNAME:CDT
DTSTART:20210314T080000
END:DAYLIGHT
BEGIN:STANDARD
TZOFFSETFROM:-0500
TZOFFSETTO:-0600
TZNAME:CST
DTSTART:20211107T070000
END:STANDARD
BEGIN:DAYLIGHT
TZOFFSETFROM:-0600
TZOFFSETTO:-0500
TZNAME:CDT
DTSTART:20220313T080000
END:DAYLIGHT
BEGIN:STANDARD
TZOFFSETFROM:-0500
TZOFFSETTO:-0600
TZNAME:CST
DTSTART:20221106T070000
END:STANDARD
BEGIN:DAYLIGHT
TZOFFSETFROM:-0600
TZOFFSETTO:-0500
TZNAME:CDT
DTSTART:20230312T080000
END:DAYLIGHT
BEGIN:STANDARD
TZOFFSETFROM:-0500
TZOFFSETTO:-0600
TZNAME:CST
DTSTART:20231105T070000
END:STANDARD
END:VTIMEZONE
BEGIN:VEVENT
DTSTART;TZID=America/Chicago:20210624T140000
DTEND;TZID=America/Chicago:20210624T150000
DTSTAMP:20260423T050928
CREATED:20210609T204645Z
LAST-MODIFIED:20210621T204256Z
UID:3031-1624543200-1624546800@spls.lib.ok.us
SUMMARY:Aaron Fowler - Musical Storeyteller
DESCRIPTION:Come sing\, move and play instruments and tell tales with tails as we listen to “The Advenutures of Bella and Choco”!!!!!\n \nRemember that the Altus program will be at the Altus Community Center\, 401 Falcon Road\, at 2:00 p.m.  \nThe Hollis program will be at the Hollis Civic Center\, 208 W. Jones Street\, at 10:00 a.m. \n Please join us on Thursday\, June 24!!!
URL:https://spls.lib.ok.us/event/aaron-fowler-musician/
CATEGORIES:Adults,Ages 8-18,Family,Infants & Toddlers up to age 5,Literacy Event
ATTACH;FMTTYPE=image/jpeg:https://spls.lib.ok.us/wp-content/uploads/2021/06/aaronfowler.jpg
END:VEVENT
BEGIN:VEVENT
DTSTART;TZID=America/Chicago:20210701T140000
DTEND;TZID=America/Chicago:20210701T150000
DTSTAMP:20260423T050928
CREATED:20210609T210215Z
LAST-MODIFIED:20210630T164653Z
UID:3033-1625148000-1625151600@spls.lib.ok.us
SUMMARY:Ann Lincoln's Foam Party
DESCRIPTION:What is a foam party?\n Come see what all the fun is about when Ann Lincoln throws a foam party at the Hoyt Shadid Park on the west side of the Altus Reservoir. \nSee ya there at 2pm.!!!   Thursday\, July 1!!!
URL:https://spls.lib.ok.us/event/ann-lincolns-foam-party/
CATEGORIES:Adults,Family,Infants & Toddlers up to age 5,Literacy Event
ATTACH;FMTTYPE=image/png:https://spls.lib.ok.us/wp-content/uploads/2021/06/dontforgetfoamparty.png
END:VEVENT
BEGIN:VEVENT
DTSTART;VALUE=DATE:20210704
DTEND;VALUE=DATE:20210705
DTSTAMP:20260423T050928
CREATED:20210630T185314Z
LAST-MODIFIED:20210630T194040Z
UID:3228-1625356800-1625443199@spls.lib.ok.us
SUMMARY:Celebrating our Nations birth
DESCRIPTION:I challenge you to learn 5 facts about our nations birthday such as fireworks signify national pride and patriotism. More interesting and historical facts can be found at https://www.britannica.com/topic/Independence-Day-United-States-holiday
URL:https://spls.lib.ok.us/event/library-closed-2/
CATEGORIES:Family
ATTACH;FMTTYPE=image/gif:https://spls.lib.ok.us/wp-content/uploads/2021/06/july4th.gif
END:VEVENT
BEGIN:VEVENT
DTSTART;VALUE=DATE:20210705
DTEND;VALUE=DATE:20210706
DTSTAMP:20260423T050928
CREATED:20210630T193826Z
LAST-MODIFIED:20210630T194159Z
UID:3232-1625443200-1625529599@spls.lib.ok.us
SUMMARY:July 4th Observance Day - Library Closed
DESCRIPTION:We will be closed July 5th in Observance of Independence Day. You might be wondering what the word observance means. Here’s a link to Merriam-Websters definition https://www.merriam-webster.com/dictionary/observance. \n  \n 
URL:https://spls.lib.ok.us/event/july-4th-observance-day/
CATEGORIES:Family
ATTACH;FMTTYPE=image/png:https://spls.lib.ok.us/wp-content/uploads/2021/06/flag.png
END:VEVENT
BEGIN:VEVENT
DTSTART;TZID=America/Chicago:20210707T110000
DTEND;TZID=America/Chicago:20210707T120000
DTSTAMP:20260423T050928
CREATED:20210630T184010Z
LAST-MODIFIED:20210630T193206Z
UID:3198-1625655600-1625659200@spls.lib.ok.us
SUMMARY:Story-time & Craft @11 am
DESCRIPTION:Come listen to Ms. Bailee read a fun story \nand do a fun craft! \n 
URL:https://spls.lib.ok.us/event/story-time-craft-11-am/2021-07-07/
CATEGORIES:Family,Infants & Toddlers up to age 5
ATTACH;FMTTYPE=image/png:https://spls.lib.ok.us/wp-content/uploads/2020/06/storytime.png
END:VEVENT
BEGIN:VEVENT
DTSTART;TZID=America/Chicago:20210708T140000
DTEND;TZID=America/Chicago:20210708T150000
DTSTAMP:20260423T050928
CREATED:20210609T210604Z
LAST-MODIFIED:20210708T145454Z
UID:3035-1625752800-1625756400@spls.lib.ok.us
SUMMARY:Extreme Animals
DESCRIPTION:I wonder what kind of animals will be visiting us this year? Bring your family to see some amazing animals. \nRemember that the Altus program will be at the Altus Community Center\, 401 Falcon Road\, at 2:00 p.m.  \nThe Hollis program will be at the Hollis Civic Center\, 208 W. Jones Street\, at 10:00 a.m. \n Please join us on Thursday\, July 8!!!
URL:https://spls.lib.ok.us/event/extreme-animals/
CATEGORIES:Adults,Family,Infants & Toddlers up to age 5,Literacy Event
ATTACH;FMTTYPE=image/jpeg:https://spls.lib.ok.us/wp-content/uploads/2021/07/extremeanimals2021.jpg
END:VEVENT
BEGIN:VEVENT
DTSTART;TZID=America/Chicago:20210712T080000
DTEND;TZID=America/Chicago:20210717T170000
DTSTAMP:20260423T050928
CREATED:20210708T145924Z
LAST-MODIFIED:20210708T190217Z
UID:3256-1626076800-1626541200@spls.lib.ok.us
SUMMARY:Shark Week - July 12th - 17th
DESCRIPTION:
URL:https://spls.lib.ok.us/event/shark-week-july-12th-17th/
CATEGORIES:Family
ATTACH;FMTTYPE=image/jpeg:https://spls.lib.ok.us/wp-content/uploads/2021/07/Copy-of-Shark-Week-Flyer-Made-with-PosterMyWall-1-e1625770899108.jpg
END:VEVENT
BEGIN:VEVENT
DTSTART;TZID=America/Chicago:20210715T140000
DTEND;TZID=America/Chicago:20210715T150000
DTSTAMP:20260423T050928
CREATED:20210609T210733Z
LAST-MODIFIED:20210609T210733Z
UID:3038-1626357600-1626361200@spls.lib.ok.us
SUMMARY:Mad Science
DESCRIPTION:Remember that the Altus program will be at the Altus Community Center\, 401 Falcon Road\, at 2:00 p.m.  \nThe Hollis program will be at the Hollis Civic Center\, 208 W. Jones Street\, at 10:00 a.m. \n Please join us on Thursday\, July 15!!!
URL:https://spls.lib.ok.us/event/mad-science/
CATEGORIES:Adults,Ages 8-18,Family,Infants & Toddlers up to age 5,Literacy Event
END:VEVENT
BEGIN:VEVENT
DTSTART;TZID=America/Chicago:20210717T140000
DTEND;TZID=America/Chicago:20210717T153000
DTSTAMP:20260423T050928
CREATED:20210630T185022Z
LAST-MODIFIED:20210630T185022Z
UID:3226-1626530400-1626535800@spls.lib.ok.us
SUMMARY:Lego Club @ 2pm.
DESCRIPTION:
URL:https://spls.lib.ok.us/event/lego-club-2pm/
CATEGORIES:Family
ATTACH;FMTTYPE=image/jpeg:https://spls.lib.ok.us/wp-content/uploads/2021/06/legoblocks.jpg
END:VEVENT
BEGIN:VEVENT
DTSTART;TZID=America/Chicago:20210722T140000
DTEND;TZID=America/Chicago:20210722T150000
DTSTAMP:20260423T050928
CREATED:20210708T153307Z
LAST-MODIFIED:20210720T150452Z
UID:3259-1626962400-1626966000@spls.lib.ok.us
SUMMARY:Richard Holmgren - Flying Debris
DESCRIPTION:Please join us for a “flippin’ good time” with Flying Debris!  \nRemember that the Altus program will be at the Altus Community Center\, 401 Falcon Road\, at 2:00 p.m.  \nThe Hollis program will be at the Hollis Civic Center\, 208 W. Jones Street\, at 10:00 a.m. Hope to see you there!
URL:https://spls.lib.ok.us/event/richard-holmgren-flying-debris/
CATEGORIES:Family
ATTACH;FMTTYPE=image/jpeg:https://spls.lib.ok.us/wp-content/uploads/2021/07/flyingdebris.jpg
END:VEVENT
BEGIN:VEVENT
DTSTART;TZID=America/Chicago:20210729T140000
DTEND;TZID=America/Chicago:20210729T150000
DTSTAMP:20260423T050928
CREATED:20210609T210959Z
LAST-MODIFIED:20210727T220436Z
UID:3040-1627567200-1627570800@spls.lib.ok.us
SUMMARY:Robb Holladay - Magical Balloon Guy
DESCRIPTION:Come see what crazy-wacky puppets and balloons Robb Holladay is bringing!!! \nRemember that the Altus program will be at the Altus Community Center\, 401 Falcon Road\, at 2:00 p.m.  \nThe Hollis program will be at the Hollis Civic Center\, 208 W. Jones Street\, at 10:00 a.m. \n Please join us on Thursday\, July 29!!!
URL:https://spls.lib.ok.us/event/robb-hollsady-magical-balloon-guy/
CATEGORIES:Family,Literacy Event
ATTACH;FMTTYPE=image/jpeg:https://spls.lib.ok.us/wp-content/uploads/2021/07/balloonshow.jpg
END:VEVENT
BEGIN:VEVENT
DTSTART;TZID=America/Chicago:20210831T103000
DTEND;TZID=America/Chicago:20210831T113000
DTSTAMP:20260423T050928
CREATED:20210819T213913Z
LAST-MODIFIED:20210819T214746Z
UID:3434-1630405800-1630409400@spls.lib.ok.us
SUMMARY:Fresh Start\, Nutrition and You 10:30 - 11:30 am
DESCRIPTION:Are you interested in learning new receipes\, choosing healthy foods\, saving money at the grocery store\, storing foods safely and being more physically active then join us.\nFor more information or to register call  the Altus Public Library at 580-477-289o.
URL:https://spls.lib.ok.us/event/fresh-start-nutrition-and-you-1030-1130-am/2021-08-31/
CATEGORIES:Family,Literacy Event
ATTACH;FMTTYPE=image/jpeg:https://spls.lib.ok.us/wp-content/uploads/2021/08/OSU-Ext-NutritionFlyer-2021-08-WEB.jpg
END:VEVENT
BEGIN:VEVENT
DTSTART;TZID=America/Chicago:20210901T110000
DTEND;TZID=America/Chicago:20210901T120000
DTSTAMP:20260423T050928
CREATED:20210630T184010Z
LAST-MODIFIED:20211101T195423Z
UID:3202-1630494000-1630497600@spls.lib.ok.us
SUMMARY:Story-time & Craft @11 am
DESCRIPTION:Come listen to Ms. Bailee read a fun story \nand do a fun craft! \n 
URL:https://spls.lib.ok.us/event/story-time-craft-11-am-2021-07-28/2021-09-01/
CATEGORIES:Family,Infants & Toddlers up to age 5
ATTACH;FMTTYPE=image/png:https://spls.lib.ok.us/wp-content/uploads/2021/08/image006.png
END:VEVENT
BEGIN:VEVENT
DTSTART;VALUE=DATE:20210906
DTEND;VALUE=DATE:20210907
DTSTAMP:20260423T050928
CREATED:20210818T150754Z
LAST-MODIFIED:20210818T150836Z
UID:3387-1630886400-1630972799@spls.lib.ok.us
SUMMARY:Labor Day
DESCRIPTION:We will be closed to honor everyone who works.  Who started this holiday national holiday?  Click here to find outhttps://www.dol.gov/general/laborday/history
URL:https://spls.lib.ok.us/event/labor-day/
CATEGORIES:Family,Literacy Event
ATTACH;FMTTYPE=image/jpeg:https://spls.lib.ok.us/wp-content/uploads/2021/08/labordayclosed21.jpg
END:VEVENT
BEGIN:VEVENT
DTSTART;TZID=America/Chicago:20210916T160000
DTEND;TZID=America/Chicago:20210916T170000
DTSTAMP:20260423T050928
CREATED:20210819T222735Z
LAST-MODIFIED:20210819T222735Z
UID:3460-1631808000-1631811600@spls.lib.ok.us
SUMMARY:Play and Create @ 4 - 5pm
DESCRIPTION:
URL:https://spls.lib.ok.us/event/play-and-create-4-5pm/
CATEGORIES:Family
ATTACH;FMTTYPE=image/jpeg:https://spls.lib.ok.us/wp-content/uploads/2021/08/playdoug.jpg
END:VEVENT
BEGIN:VEVENT
DTSTART;TZID=America/Chicago:20210918T140000
DTEND;TZID=America/Chicago:20210918T160000
DTSTAMP:20260423T050928
CREATED:20210818T150042Z
LAST-MODIFIED:20220606T211347Z
UID:3382-1631973600-1631980800@spls.lib.ok.us
SUMMARY:Lego Club @ 2pm
DESCRIPTION:Come join us the third Saturday of the month at 2 pm!!!\nBuild something for one of our display cases!!!\n 
URL:https://spls.lib.ok.us/event/lego-club-2/2021-09-18/
CATEGORIES:Family
END:VEVENT
BEGIN:VEVENT
DTSTART;VALUE=DATE:20210919
DTEND;VALUE=DATE:20210920
DTSTAMP:20260423T050928
CREATED:20210818T154833Z
LAST-MODIFIED:20210819T214921Z
UID:3397-1632009600-1632095999@spls.lib.ok.us
SUMMARY:Talk Like a Pirate Day
DESCRIPTION:How do pirates talk! What pirates really wear? Click on the link to find out http://www.chiff.com/home_life/holiday/talk-like-pirate-day.htm
URL:https://spls.lib.ok.us/event/talk-like-a-pirate-day/
CATEGORIES:Family,Literacy Event
ATTACH;FMTTYPE=image/jpeg:https://spls.lib.ok.us/wp-content/uploads/2021/08/piratesday.jpg
END:VEVENT
BEGIN:VEVENT
DTSTART;VALUE=DATE:20211011
DTEND;VALUE=DATE:20211012
DTSTAMP:20260423T050928
CREATED:20210819T222436Z
LAST-MODIFIED:20210819T222436Z
UID:3455-1633910400-1633996799@spls.lib.ok.us
SUMMARY:Library Closed - Indigenous People Day (aka Columbus Day)
DESCRIPTION:Every heard of Indigenous People Day?  This is the alternative way to celebrate history of our country. To read about Christopher Columbus click on this link https://www.history.com/topics/exploration/columbus-day. \nWant to find out more about the Indigenous People  click here https://en.wikipedia.org/wiki/Indigenous_Peoples%27_Day.
URL:https://spls.lib.ok.us/event/library-closed-indigenous-people-day-aka-columbus-day/
CATEGORIES:Family,Literacy Event
ATTACH;FMTTYPE=image/jpeg:https://spls.lib.ok.us/wp-content/uploads/2021/08/indigenouspeopleday.jpg
END:VEVENT
BEGIN:VEVENT
DTSTART;TZID=America/Chicago:20211018T153000
DTEND;TZID=America/Chicago:20211018T163000
DTSTAMP:20260423T050928
CREATED:20211006T194408Z
LAST-MODIFIED:20211022T201921Z
UID:3517-1634571000-1634574600@spls.lib.ok.us
SUMMARY:Zumba Gold with Suzanne Rooker
DESCRIPTION:
URL:https://spls.lib.ok.us/event/zumba-gold-with-suzanne-rooker/2021-10-18/
CATEGORIES:Adults,Family,Literacy Event
ATTACH;FMTTYPE=image/jpeg:https://spls.lib.ok.us/wp-content/uploads/2021/10/Zumba-Gold-flyer-1-2-page0001.jpg
END:VEVENT
BEGIN:VEVENT
DTSTART;TZID=America/Chicago:20211018T180000
DTEND;TZID=America/Chicago:20211018T193000
DTSTAMP:20260423T050928
CREATED:20211026T214134Z
LAST-MODIFIED:20211026T220106Z
UID:3729-1634580000-1634585400@spls.lib.ok.us
SUMMARY:DIY Book Wreath
DESCRIPTION:Have you ever made a wreath from pages of books?\nJoin us for this fun craft. Let your talent shine.\nAll supplies furnished.\nSee you there!!
URL:https://spls.lib.ok.us/event/diy-book-wreath/
CATEGORIES:Adults,Family
ATTACH;FMTTYPE=image/png:https://spls.lib.ok.us/wp-content/uploads/2021/08/image036.png
END:VEVENT
BEGIN:VEVENT
DTSTART;TZID=America/Chicago:20211030T090000
DTEND;TZID=America/Chicago:20211030T170000
DTSTAMP:20260423T050928
CREATED:20211026T214459Z
LAST-MODIFIED:20211026T215853Z
UID:3733-1635584400-1635613200@spls.lib.ok.us
SUMMARY:Trick or Treat - Come get your TREATS!!
DESCRIPTION:Stop by the Altus Public Library\nOctober 30th for a treat.\nTake your picture with our bats and pumpkins!!\n                                   We can’t wait to see your costumes!!!\n 
URL:https://spls.lib.ok.us/event/trick-or-treat-come-get-your-treats/
CATEGORIES:Family
ATTACH;FMTTYPE=image/png:https://spls.lib.ok.us/wp-content/uploads/2021/08/trickortreat21.png
END:VEVENT
BEGIN:VEVENT
DTSTART;TZID=America/Chicago:20211103T110000
DTEND;TZID=America/Chicago:20211103T120000
DTSTAMP:20260423T050928
CREATED:20210630T184010Z
LAST-MODIFIED:20220502T155842Z
UID:3716-1635937200-1635940800@spls.lib.ok.us
SUMMARY:Story-time & Craft @11 am
DESCRIPTION:Join us for our weekly StoryTime filled with stories\, music\, and activities. Activities geared towards pre-school age\, however\, all kids are welcome.\nWe started a new series for Storytime. Going through the Alphabet. So each week will be a different letter. The first week in January we started with “A” and this week we are continuing with “B”. What letters come next Join us to find out!!! What letter are we doing this wee?
URL:https://spls.lib.ok.us/event/story-time-craft-11-am-2021-07-28-2021-11-24/2021-11-03/
CATEGORIES:Family,Infants & Toddlers up to age 5
END:VEVENT
BEGIN:VEVENT
DTSTART;VALUE=DATE:20211111
DTEND;VALUE=DATE:20211112
DTSTAMP:20260423T050928
CREATED:20211101T200302Z
LAST-MODIFIED:20211101T200332Z
UID:3777-1636588800-1636675199@spls.lib.ok.us
SUMMARY:Veterans Day - Library Closed
DESCRIPTION:Did you know that Veterans Day is on the same day every year!!\nThis day was originally called Armistice Day. You might be surprised as to why the number 11 is so important to this day.\nHere is the link to find out why https://www.military.com/veterans-day.
URL:https://spls.lib.ok.us/event/veterans-day-library-closed/
CATEGORIES:Adults,Family
END:VEVENT
BEGIN:VEVENT
DTSTART;TZID=America/Chicago:20211124T133000
DTEND;TZID=America/Chicago:20211124T140000
DTSTAMP:20260423T050928
CREATED:20211102T221510Z
LAST-MODIFIED:20211124T173857Z
UID:3805-1637760600-1637762400@spls.lib.ok.us
SUMMARY:Bilingual Storytime GreatPlains Literacy - Online Storytime
DESCRIPTION:Join Bailee Hutchison and Bea Rivera as they read stories in English and Spanish. A different story is presented each month.  To find these stories click on the following Facebook links Altus Public Library facebook  or Great Plains Literacy facebook.
URL:https://spls.lib.ok.us/event/bilingual-storytime-greatplains-literacy-online-storytime/2021-11-24/
CATEGORIES:Family,Infants & Toddlers up to age 5,Literacy Event
END:VEVENT
BEGIN:VEVENT
DTSTART;TZID=America/Chicago:20220127T163000
DTEND;TZID=America/Chicago:20220127T180000
DTSTAMP:20260423T050928
CREATED:20220110T215229Z
LAST-MODIFIED:20220110T215229Z
UID:4126-1643301000-1643306400@spls.lib.ok.us
SUMMARY:Family Movie Night 4:30 - 6pm
DESCRIPTION:
URL:https://spls.lib.ok.us/event/family-movie-night-430-6pm/
CATEGORIES:Family
END:VEVENT
BEGIN:VEVENT
DTSTART;TZID=America/Chicago:20220305T140000
DTEND;TZID=America/Chicago:20220305T150000
DTSTAMP:20260423T050928
CREATED:20220302T200644Z
LAST-MODIFIED:20220302T201148Z
UID:4320-1646488800-1646492400@spls.lib.ok.us
SUMMARY:STEM Saturday @ 2 p.m. - 3 p.m.
DESCRIPTION:STEM Saturday \nMarch 5th @ 2 p.m – 3 p.m. \nWe will be making St. Patrick’s Day luminaries. According to Little Bins for Little Hands\, a luminaria is traditionally a small paper lantern (commonly a candle set in some sand inside a paper bag) which you might see at Christmas time\, especially on Christmas Eve.
URL:https://spls.lib.ok.us/event/stem-saturday-2-p-m/
CATEGORIES:Ages 8-18,Family
END:VEVENT
BEGIN:VEVENT
DTSTART;TZID=America/Chicago:20220325T110000
DTEND;TZID=America/Chicago:20220325T120000
DTSTAMP:20260423T050928
CREATED:20220302T205215Z
LAST-MODIFIED:20220302T205215Z
UID:4371-1648206000-1648209600@spls.lib.ok.us
SUMMARY:Family Fun Friday Facebook Live @ 11 a.m.
DESCRIPTION:Family Fun Friday Facebook Live @ 11 a.m.
URL:https://spls.lib.ok.us/event/family-fun-friday-facebook-live-11-a-m/
CATEGORIES:Family
END:VEVENT
BEGIN:VEVENT
DTSTART;TZID=America/Chicago:20220402T140000
DTEND;TZID=America/Chicago:20220402T150000
DTSTAMP:20260423T050928
CREATED:20220401T203504Z
LAST-MODIFIED:20221123T203150Z
UID:4430-1648908000-1648911600@spls.lib.ok.us
SUMMARY:STEM Saturday @ 2 p.m.
DESCRIPTION:STEM Saturday \nThe first Saturday of every month @ 2 p.m – 3 p.m. \n 
URL:https://spls.lib.ok.us/event/stem-saturday-2-p-m-2/2022-04-02/
CATEGORIES:Ages 8-18,Family
ATTACH;FMTTYPE=image/png:https://spls.lib.ok.us/wp-content/uploads/2021/08/stem.png
END:VEVENT
BEGIN:VEVENT
DTSTART;TZID=America/Chicago:20220427T080000
DTEND;TZID=America/Chicago:20220427T170000
DTSTAMP:20260423T050928
CREATED:20220401T192445Z
LAST-MODIFIED:20220401T192445Z
UID:4417-1651046400-1651078800@spls.lib.ok.us
SUMMARY:Bilingual Story Time
DESCRIPTION:
URL:https://spls.lib.ok.us/event/bilingual-story-time/
CATEGORIES:Family
END:VEVENT
BEGIN:VEVENT
DTSTART;TZID=America/Chicago:20220504T100000
DTEND;TZID=America/Chicago:20220504T110000
DTSTAMP:20260423T050928
CREATED:20220419T194119Z
LAST-MODIFIED:20220419T194259Z
UID:4437-1651658400-1651662000@spls.lib.ok.us
SUMMARY:Coffee Cup with Janice Pellam @10:00 am.
DESCRIPTION:
URL:https://spls.lib.ok.us/event/coffee-cup-with-jill-pellam/
CATEGORIES:Family
END:VEVENT
END:VCALENDAR