BEGIN:VCALENDAR
VERSION:2.0
PRODID:-//Southern Prairie Library - ECPv6.15.14//NONSGML v1.0//EN
CALSCALE:GREGORIAN
METHOD:PUBLISH
X-ORIGINAL-URL:https://spls.lib.ok.us
X-WR-CALDESC:Events for Southern Prairie Library
REFRESH-INTERVAL;VALUE=DURATION:PT1H
X-Robots-Tag:noindex
X-PUBLISHED-TTL:PT1H
BEGIN:VTIMEZONE
TZID:America/Chicago
BEGIN:DAYLIGHT
TZOFFSETFROM:-0600
TZOFFSETTO:-0500
TZNAME:CDT
DTSTART:20220313T080000
END:DAYLIGHT
BEGIN:STANDARD
TZOFFSETFROM:-0500
TZOFFSETTO:-0600
TZNAME:CST
DTSTART:20221106T070000
END:STANDARD
BEGIN:DAYLIGHT
TZOFFSETFROM:-0600
TZOFFSETTO:-0500
TZNAME:CDT
DTSTART:20230312T080000
END:DAYLIGHT
BEGIN:STANDARD
TZOFFSETFROM:-0500
TZOFFSETTO:-0600
TZNAME:CST
DTSTART:20231105T070000
END:STANDARD
BEGIN:DAYLIGHT
TZOFFSETFROM:-0600
TZOFFSETTO:-0500
TZNAME:CDT
DTSTART:20240310T080000
END:DAYLIGHT
BEGIN:STANDARD
TZOFFSETFROM:-0500
TZOFFSETTO:-0600
TZNAME:CST
DTSTART:20241103T070000
END:STANDARD
BEGIN:DAYLIGHT
TZOFFSETFROM:-0600
TZOFFSETTO:-0500
TZNAME:CDT
DTSTART:20250309T080000
END:DAYLIGHT
BEGIN:STANDARD
TZOFFSETFROM:-0500
TZOFFSETTO:-0600
TZNAME:CST
DTSTART:20251102T070000
END:STANDARD
END:VTIMEZONE
BEGIN:VEVENT
DTSTART;TZID=America/Chicago:20231025T100000
DTEND;TZID=America/Chicago:20231025T110000
DTSTAMP:20260419T220049
CREATED:20230928T141902Z
LAST-MODIFIED:20230928T141902Z
UID:6393-1698228000-1698231600@spls.lib.ok.us
SUMMARY:Story Time & Craft @ 10 a.m.
DESCRIPTION:
URL:https://spls.lib.ok.us/event/story-time-craft-10-a-m-13/
CATEGORIES:Family,Infants & Toddlers up to age 5
ATTACH;FMTTYPE=image/png:https://spls.lib.ok.us/wp-content/uploads/2022/07/story-time-Facebook-Event-Cover-100-×-100-px.png
END:VEVENT
BEGIN:VEVENT
DTSTART;VALUE=DATE:20231031
DTEND;VALUE=DATE:20231101
DTSTAMP:20260419T220049
CREATED:20230928T144142Z
LAST-MODIFIED:20230928T144142Z
UID:6408-1698710400-1698796799@spls.lib.ok.us
SUMMARY:Happy Halloween!
DESCRIPTION:
URL:https://spls.lib.ok.us/event/happy-halloween-2/
CATEGORIES:Family
END:VEVENT
BEGIN:VEVENT
DTSTART;TZID=America/Chicago:20231101T110000
DTEND;TZID=America/Chicago:20231101T120000
DTSTAMP:20260419T220049
CREATED:20231031T203328Z
LAST-MODIFIED:20240904T191747Z
UID:6461-1698836400-1698840000@spls.lib.ok.us
SUMMARY:Story Time & Craft @ 11 a.m.
DESCRIPTION:
URL:https://spls.lib.ok.us/event/story-time-craft-10-a-m-14/2023-11-01/
CATEGORIES:Family,Infants & Toddlers up to age 5
ATTACH;FMTTYPE=image/png:https://spls.lib.ok.us/wp-content/uploads/2022/07/story-time-Facebook-Event-Cover-100-×-100-px.png
END:VEVENT
BEGIN:VEVENT
DTSTART;TZID=America/Chicago:20231104T140000
DTEND;TZID=America/Chicago:20231104T153000
DTSTAMP:20260419T220049
CREATED:20231031T202716Z
LAST-MODIFIED:20231031T202716Z
UID:6458-1699106400-1699111800@spls.lib.ok.us
SUMMARY:STEM Saturday @ 2 p.m.
DESCRIPTION:Do you like Jenga? Do you think it could be a little harder with some math added? Then you’re in luck! Join us for STEM Saturday on November 4th where we’ll be playing Math Trivia Jenga! It’ll be fun for the whole family!
URL:https://spls.lib.ok.us/event/stem-saturday-2-p-m-8/
CATEGORIES:Ages 8-18,Family
ATTACH;FMTTYPE=image/png:https://spls.lib.ok.us/wp-content/uploads/2022/11/STEM-Saturday-100-×-100-px.png
END:VEVENT
BEGIN:VEVENT
DTSTART;TZID=America/Chicago:20231110T110000
DTEND;TZID=America/Chicago:20231110T120000
DTSTAMP:20260419T220049
CREATED:20231031T203748Z
LAST-MODIFIED:20231031T203748Z
UID:6468-1699614000-1699617600@spls.lib.ok.us
SUMMARY:Ya Ya Yarn @ 11 a.m.
DESCRIPTION:
URL:https://spls.lib.ok.us/event/ya-ya-yarn-11-a-m-9/2023-11-10/
CATEGORIES:Adults,Family
END:VEVENT
BEGIN:VEVENT
DTSTART;VALUE=DATE:20231111
DTEND;VALUE=DATE:20231112
DTSTAMP:20260419T220049
CREATED:20231031T204850Z
LAST-MODIFIED:20231031T204850Z
UID:6478-1699660800-1699747199@spls.lib.ok.us
SUMMARY:Closed - Veterans Day
DESCRIPTION:
URL:https://spls.lib.ok.us/event/closed-veterans-day-2/
CATEGORIES:Family
END:VEVENT
BEGIN:VEVENT
DTSTART;TZID=America/Chicago:20231115T110000
DTEND;TZID=America/Chicago:20231115T120000
DTSTAMP:20260419T220049
CREATED:20231031T203521Z
LAST-MODIFIED:20240805T202201Z
UID:6466-1700046000-1700049600@spls.lib.ok.us
SUMMARY:Bilingual Story Time & Craft @ 11 a.m.
DESCRIPTION:
URL:https://spls.lib.ok.us/event/bilingual-story-time-craft-3/2023-11-15/
CATEGORIES:Family,Infants & Toddlers up to age 5,Literacy Event
ATTACH;FMTTYPE=image/png:https://spls.lib.ok.us/wp-content/uploads/2022/07/story-time-Facebook-Event-Cover-100-×-100-px.png
END:VEVENT
BEGIN:VEVENT
DTSTART;TZID=America/Chicago:20231118T140000
DTEND;TZID=America/Chicago:20231118T153000
DTSTAMP:20260419T220049
CREATED:20231031T204021Z
LAST-MODIFIED:20240904T192117Z
UID:6471-1700316000-1700321400@spls.lib.ok.us
SUMMARY:Lego Club @ 2 p.m.
DESCRIPTION:Future artists and engineers are invited to join us for Lego Club! Build to your hearts content. Your work will be displayed at the Altus Public Library.
URL:https://spls.lib.ok.us/event/lego-club-2-p-m-5/2023-11-18/
CATEGORIES:Family
ATTACH;FMTTYPE=image/png:https://spls.lib.ok.us/wp-content/uploads/2022/11/LEGO-100-×-100-px.png
END:VEVENT
BEGIN:VEVENT
DTSTART;TZID=America/Chicago:20231122T180000
DTEND;TZID=America/Chicago:20231122T200000
DTSTAMP:20260419T220049
CREATED:20231031T205108Z
LAST-MODIFIED:20231031T205108Z
UID:6482-1700676000-1700683200@spls.lib.ok.us
SUMMARY:Closed - Thanksgiving
DESCRIPTION:
URL:https://spls.lib.ok.us/event/closed-thanksgiving-2/
CATEGORIES:Family
END:VEVENT
BEGIN:VEVENT
DTSTART;VALUE=DATE:20231123
DTEND;VALUE=DATE:20231125
DTSTAMP:20260419T220049
CREATED:20231031T205348Z
LAST-MODIFIED:20231031T205518Z
UID:6504-1700697600-1700870399@spls.lib.ok.us
SUMMARY:Closed - Thanksgiving
DESCRIPTION:
URL:https://spls.lib.ok.us/event/closed-thanksgiving-3/
CATEGORIES:Family
END:VEVENT
BEGIN:VEVENT
DTSTART;TZID=America/Chicago:20231202T140000
DTEND;TZID=America/Chicago:20231202T153000
DTSTAMP:20260419T220049
CREATED:20231129T213454Z
LAST-MODIFIED:20231129T213454Z
UID:6537-1701525600-1701531000@spls.lib.ok.us
SUMMARY:STEM Saturday @ 2 p.m.
DESCRIPTION:After the Thanksgiving holiday\, be sure to join us for STEM Saturday on December 2nd at 2 PM for a fun activity. The kids will be engineering towers made from just straws and washi tape!
URL:https://spls.lib.ok.us/event/stem-saturday-2-p-m-9/
CATEGORIES:Ages 8-18,Family
ATTACH;FMTTYPE=image/png:https://spls.lib.ok.us/wp-content/uploads/2022/11/STEM-Saturday-100-×-100-px.png
END:VEVENT
BEGIN:VEVENT
DTSTART;TZID=America/Chicago:20231212T183000
DTEND;TZID=America/Chicago:20231212T193000
DTSTAMP:20260419T220049
CREATED:20231129T214532Z
LAST-MODIFIED:20231129T214532Z
UID:6549-1702405800-1702409400@spls.lib.ok.us
SUMMARY:Color Me Calm @ 6:30 p.m.
DESCRIPTION:
URL:https://spls.lib.ok.us/event/color-me-calm-630-p-m-4/
CATEGORIES:Adults,Family
END:VEVENT
BEGIN:VEVENT
DTSTART;TZID=America/Chicago:20231221T140000
DTEND;TZID=America/Chicago:20231221T150000
DTSTAMP:20260419T220049
CREATED:20231129T214630Z
LAST-MODIFIED:20231129T214630Z
UID:6551-1703167200-1703170800@spls.lib.ok.us
SUMMARY:Color Me Calm @ 2 p.m.
DESCRIPTION:
URL:https://spls.lib.ok.us/event/color-me-calm-2-p-m/
CATEGORIES:Adults,Family
END:VEVENT
BEGIN:VEVENT
DTSTART;VALUE=DATE:20231225
DTEND;VALUE=DATE:20231227
DTSTAMP:20260419T220049
CREATED:20231129T213901Z
LAST-MODIFIED:20231129T213901Z
UID:6540-1703462400-1703635199@spls.lib.ok.us
SUMMARY:Closed - Christmas
DESCRIPTION:
URL:https://spls.lib.ok.us/event/closed-christmas-2/
CATEGORIES:Family
END:VEVENT
BEGIN:VEVENT
DTSTART;VALUE=DATE:20240101
DTEND;VALUE=DATE:20240103
DTSTAMP:20260419T220049
CREATED:20231228T181425Z
LAST-MODIFIED:20231228T181515Z
UID:6682-1704067200-1704239999@spls.lib.ok.us
SUMMARY:Closed - New Year's Day
DESCRIPTION:
URL:https://spls.lib.ok.us/event/closed-new-years-day/
CATEGORIES:Adults,Family
END:VEVENT
BEGIN:VEVENT
DTSTART;TZID=America/Chicago:20240108T160000
DTEND;TZID=America/Chicago:20240108T173000
DTSTAMP:20260419T220049
CREATED:20231228T180243Z
LAST-MODIFIED:20240226T182218Z
UID:6676-1704729600-1704735000@spls.lib.ok.us
SUMMARY:STEM Monday @ 4 p.m.
DESCRIPTION:
URL:https://spls.lib.ok.us/event/stem-monday-4-p-m/2024-01-08/
CATEGORIES:Ages 8-18,Family
END:VEVENT
BEGIN:VEVENT
DTSTART;TZID=America/Chicago:20240109T160000
DTEND;TZID=America/Chicago:20240109T170000
DTSTAMP:20260419T220049
CREATED:20231228T175520Z
LAST-MODIFIED:20240226T182914Z
UID:6669-1704816000-1704819600@spls.lib.ok.us
SUMMARY:Color Me Calm @ 4 p.m.
DESCRIPTION:
URL:https://spls.lib.ok.us/event/color-me-calm-5-p-m/2024-01-09/
CATEGORIES:Adults,Family
END:VEVENT
BEGIN:VEVENT
DTSTART;TZID=America/Chicago:20240109T180000
DTEND;TZID=America/Chicago:20240109T190000
DTSTAMP:20260419T220049
CREATED:20231228T175823Z
LAST-MODIFIED:20240604T175747Z
UID:6671-1704823200-1704826800@spls.lib.ok.us
SUMMARY:Ya Ya Yarn @ 6 p.m.
DESCRIPTION:
URL:https://spls.lib.ok.us/event/ya-ya-yarn-6-p-m-2/2024-01-09/
CATEGORIES:Adults,Family
END:VEVENT
BEGIN:VEVENT
DTSTART;VALUE=DATE:20240115
DTEND;VALUE=DATE:20240116
DTSTAMP:20260419T220049
CREATED:20231228T181634Z
LAST-MODIFIED:20231228T181634Z
UID:6687-1705276800-1705363199@spls.lib.ok.us
SUMMARY:Closed - Martin Luther King Jr. Day
DESCRIPTION:
URL:https://spls.lib.ok.us/event/closed-martin-luther-king-jr-day-2/
CATEGORIES:Adults,Family
END:VEVENT
BEGIN:VEVENT
DTSTART;TZID=America/Chicago:20240118T160000
DTEND;TZID=America/Chicago:20240118T170000
DTSTAMP:20260419T220049
CREATED:20231228T180330Z
LAST-MODIFIED:20240226T183011Z
UID:6678-1705593600-1705597200@spls.lib.ok.us
SUMMARY:Color Me Calm @ 4 p.m.
DESCRIPTION:
URL:https://spls.lib.ok.us/event/color-me-calm-2-p-m-2/2024-01-18/
CATEGORIES:Adults,Family
END:VEVENT
BEGIN:VEVENT
DTSTART;TZID=America/Chicago:20240126T110000
DTEND;TZID=America/Chicago:20240126T120000
DTSTAMP:20260419T220049
CREATED:20231228T180711Z
LAST-MODIFIED:20240226T182733Z
UID:6680-1706266800-1706270400@spls.lib.ok.us
SUMMARY:Ya Ya Yarn @ 11 a.m.
DESCRIPTION:
URL:https://spls.lib.ok.us/event/ya-ya-yarn-11-a-m-10/2024-01-26/
CATEGORIES:Adults,Family
END:VEVENT
BEGIN:VEVENT
DTSTART;TZID=America/Chicago:20240209T160000
DTEND;TZID=America/Chicago:20240209T170000
DTSTAMP:20260419T220049
CREATED:20240201T230945Z
LAST-MODIFIED:20240201T230945Z
UID:6976-1707494400-1707498000@spls.lib.ok.us
SUMMARY:Family Friday Craft @ 4 p.m.
DESCRIPTION:Join us at the Altus Public Library on Friday\, February 9th to celebrate the Chinese New Year with a lantern craft! \nIf you’re interested\, feel free to call and register at (580) 477-2890. We hope to see you there!
URL:https://spls.lib.ok.us/event/family-friday-craft-4-p-m/
CATEGORIES:Family
END:VEVENT
BEGIN:VEVENT
DTSTART;VALUE=DATE:20240219
DTEND;VALUE=DATE:20240220
DTSTAMP:20260419T220049
CREATED:20240201T230510Z
LAST-MODIFIED:20240201T230510Z
UID:6973-1708300800-1708387199@spls.lib.ok.us
SUMMARY:Closed - President's Day
DESCRIPTION:
URL:https://spls.lib.ok.us/event/closed-presidents-day-2/
CATEGORIES:Family
END:VEVENT
BEGIN:VEVENT
DTSTART;TZID=America/Chicago:20240315T160000
DTEND;TZID=America/Chicago:20240315T170000
DTSTAMP:20260419T220049
CREATED:20240226T184151Z
LAST-MODIFIED:20240226T184151Z
UID:7063-1710518400-1710522000@spls.lib.ok.us
SUMMARY:Poké Ball Suncatchers @ 4 p.m.
DESCRIPTION:
URL:https://spls.lib.ok.us/event/poke-ball-suncatchers-4-p-m/
CATEGORIES:Family
END:VEVENT
BEGIN:VEVENT
DTSTART;TZID=America/Chicago:20240401T160000
DTEND;TZID=America/Chicago:20240401T170000
DTSTAMP:20260419T220049
CREATED:20240401T224731Z
LAST-MODIFIED:20240402T144438Z
UID:7121-1711987200-1711990800@spls.lib.ok.us
SUMMARY:STEM Monday @ 4 p.m.
DESCRIPTION:
URL:https://spls.lib.ok.us/event/stem-monday-4-p-m-2/
CATEGORIES:Ages 8-18,Family
END:VEVENT
BEGIN:VEVENT
DTSTART;TZID=America/Chicago:20240402T180000
DTEND;TZID=America/Chicago:20240402T190000
DTSTAMP:20260419T220049
CREATED:20240402T143755Z
LAST-MODIFIED:20240402T143755Z
UID:7294-1712080800-1712084400@spls.lib.ok.us
SUMMARY:Ya Ya Yarn @ 6 p.m.
DESCRIPTION:Our Ya Ya Yarn program continues in April! We have two dates\, April 2nd at 6 PM and April 26th at 11 AM. If you’re new to crochet\, we have a member of staff on hand to help get you started. If you knit\, spin\, embroider\, or work with any other type of material\, you’re more than welcome!
URL:https://spls.lib.ok.us/event/ya-ya-yarn-6-p-m-3/
CATEGORIES:Adults,Ages 8-18,Family
END:VEVENT
BEGIN:VEVENT
DTSTART;TZID=America/Chicago:20240406T090000
DTEND;TZID=America/Chicago:20240406T140000
DTSTAMP:20260419T220049
CREATED:20240402T142711Z
LAST-MODIFIED:20240402T142823Z
UID:7286-1712394000-1712412000@spls.lib.ok.us
SUMMARY:The 'Grate' Spelling Bee @ WOSC @ 9 a.m.
DESCRIPTION:The Great Plains Literacy Council will be holding their annual “Grate” Altus Spelling Bee on Saturday\, April 6\, 2024 at the Western Oklahoma State College. Please join us! You can sign up to have a Spelling Bee Team or just cheer on your favorite team!
URL:https://spls.lib.ok.us/event/the-grate-spelling-bee-wosc-9-a-m/
CATEGORIES:Adults,Family
END:VEVENT
BEGIN:VEVENT
DTSTART;TZID=America/Chicago:20240409T160000
DTEND;TZID=America/Chicago:20240409T170000
DTSTAMP:20260419T220049
CREATED:20240402T142857Z
LAST-MODIFIED:20240402T143412Z
UID:7058-1712678400-1712682000@spls.lib.ok.us
SUMMARY:Color Me Calm @ 4 p.m.
DESCRIPTION:In April\, you have two chances to come to Color Me Calm\, a fun program open to everyone where you can come to the library and relax for an hour while coloring.  \n\nWe also ask that patrons fill out this survey to tell us how Color Me Calm is going. Is the day and time working for you or would you prefer a different date or time?\n\n\nLet us know!  https://docs.google.com/…/1FAIpQLSe…/viewform…
URL:https://spls.lib.ok.us/event/__trashed-2/2024-04-09/
CATEGORIES:Adults,Ages 8-18,Family
END:VEVENT
BEGIN:VEVENT
DTSTART;TZID=America/Chicago:20240412T160000
DTEND;TZID=America/Chicago:20240412T180000
DTSTAMP:20260419T220049
CREATED:20240402T144221Z
LAST-MODIFIED:20240402T144221Z
UID:7299-1712937600-1712944800@spls.lib.ok.us
SUMMARY:Harry Potter Bingo Night @ 4 p.m.
DESCRIPTION:On April 12th the library is going to be a bit more magical as we’ll be hosting our first Harry Potter Bingo Night! \n\n\n\n\n\nThe program will begin at 4 PM and is open to participants aged 12 and up. We have 25 spots available for sign ups\, so call the Altus Public Library at (580) 477-2890 to sign up!
URL:https://spls.lib.ok.us/event/harry-potter-bingo-night-4-p-m/
CATEGORIES:Adults,Ages 12-18,Family
END:VEVENT
BEGIN:VEVENT
DTSTART;TZID=America/Chicago:20240419T160000
DTEND;TZID=America/Chicago:20240419T180000
DTSTAMP:20260419T220049
CREATED:20240402T144353Z
LAST-MODIFIED:20240402T144353Z
UID:7302-1713542400-1713549600@spls.lib.ok.us
SUMMARY:Family Friday Board Game Night @ 4 p.m.
DESCRIPTION:On April 19th\, our Family Friday is going to be a bit different. That night\, starting at 4 PM\, we’re going to be having a game night. We’ll have games for adults and kids to play\, or games that the whole group can play together. Everyone is welcome! If you have any questions\, please feel free to call the Altus Public Library at (580) 477-2890.
URL:https://spls.lib.ok.us/event/family-friday-board-game-night-4-p-m/
CATEGORIES:Adults,Ages 8-18,Family
END:VEVENT
END:VCALENDAR