BEGIN:VCALENDAR
VERSION:2.0
PRODID:-//Southern Prairie Library - ECPv6.15.14//NONSGML v1.0//EN
CALSCALE:GREGORIAN
METHOD:PUBLISH
X-ORIGINAL-URL:https://spls.lib.ok.us
X-WR-CALDESC:Events for Southern Prairie Library
REFRESH-INTERVAL;VALUE=DURATION:PT1H
X-Robots-Tag:noindex
X-PUBLISHED-TTL:PT1H
BEGIN:VTIMEZONE
TZID:America/Chicago
BEGIN:DAYLIGHT
TZOFFSETFROM:-0600
TZOFFSETTO:-0500
TZNAME:CDT
DTSTART:20210314T080000
END:DAYLIGHT
BEGIN:STANDARD
TZOFFSETFROM:-0500
TZOFFSETTO:-0600
TZNAME:CST
DTSTART:20211107T070000
END:STANDARD
BEGIN:DAYLIGHT
TZOFFSETFROM:-0600
TZOFFSETTO:-0500
TZNAME:CDT
DTSTART:20220313T080000
END:DAYLIGHT
BEGIN:STANDARD
TZOFFSETFROM:-0500
TZOFFSETTO:-0600
TZNAME:CST
DTSTART:20221106T070000
END:STANDARD
BEGIN:DAYLIGHT
TZOFFSETFROM:-0600
TZOFFSETTO:-0500
TZNAME:CDT
DTSTART:20230312T080000
END:DAYLIGHT
BEGIN:STANDARD
TZOFFSETFROM:-0500
TZOFFSETTO:-0600
TZNAME:CST
DTSTART:20231105T070000
END:STANDARD
BEGIN:DAYLIGHT
TZOFFSETFROM:-0600
TZOFFSETTO:-0500
TZNAME:CDT
DTSTART:20240310T080000
END:DAYLIGHT
BEGIN:STANDARD
TZOFFSETFROM:-0500
TZOFFSETTO:-0600
TZNAME:CST
DTSTART:20241103T070000
END:STANDARD
END:VTIMEZONE
BEGIN:VEVENT
DTSTART;TZID=America/Chicago:20221219T150000
DTEND;TZID=America/Chicago:20221219T160000
DTSTAMP:20260420T173313
CREATED:20221123T205517Z
LAST-MODIFIED:20221123T205517Z
UID:5409-1671462000-1671465600@spls.lib.ok.us
SUMMARY:Family Craft @ 3 p.m.
DESCRIPTION:The whole family is invited to join us in making a Snow Globe! Please call 580-477-2890 to register.
URL:https://spls.lib.ok.us/event/family-craft-3-p-m/
CATEGORIES:Family
ATTACH;FMTTYPE=image/png:https://spls.lib.ok.us/wp-content/uploads/2022/11/December-Family-Craft-100-×-100-px.png
END:VEVENT
BEGIN:VEVENT
DTSTART;TZID=America/Chicago:20221221T100000
DTEND;TZID=America/Chicago:20221221T110000
DTSTAMP:20260420T173313
CREATED:20221123T185405Z
LAST-MODIFIED:20221123T185405Z
UID:5347-1671616800-1671620400@spls.lib.ok.us
SUMMARY:Bilingual Story Time & Craft @ 10 a.m.
DESCRIPTION:
URL:https://spls.lib.ok.us/event/bilingual-story-time-craft-10-a-m/
CATEGORIES:Family,Infants & Toddlers up to age 5
END:VEVENT
BEGIN:VEVENT
DTSTART;VALUE=DATE:20221224
DTEND;VALUE=DATE:20221225
DTSTAMP:20260420T173313
CREATED:20221123T210331Z
LAST-MODIFIED:20221123T210452Z
UID:5417-1671840000-1671926399@spls.lib.ok.us
SUMMARY:Closed - Christmas
DESCRIPTION:
URL:https://spls.lib.ok.us/event/closed-christmas/2022-12-24/
CATEGORIES:Family
ATTACH;FMTTYPE=image/png:https://spls.lib.ok.us/wp-content/uploads/2022/11/Happy-Holidays.png
END:VEVENT
BEGIN:VEVENT
DTSTART;VALUE=DATE:20221225
DTEND;VALUE=DATE:20221226
DTSTAMP:20260420T173313
CREATED:20221123T210909Z
LAST-MODIFIED:20221123T210909Z
UID:5428-1671926400-1672012799@spls.lib.ok.us
SUMMARY:Merry Christmas!
DESCRIPTION:
URL:https://spls.lib.ok.us/event/merry-christmas/
CATEGORIES:Family
ATTACH;FMTTYPE=image/png:https://spls.lib.ok.us/wp-content/uploads/2022/11/Happy-Holidays.png
END:VEVENT
BEGIN:VEVENT
DTSTART;VALUE=DATE:20221226
DTEND;VALUE=DATE:20230102
DTSTAMP:20260420T173313
CREATED:20221123T211743Z
LAST-MODIFIED:20221123T211743Z
UID:5441-1672012800-1672617599@spls.lib.ok.us
SUMMARY:Happy Kwanzaa!
DESCRIPTION:
URL:https://spls.lib.ok.us/event/happy-kwanzaa/
CATEGORIES:Family
ATTACH;FMTTYPE=image/png:https://spls.lib.ok.us/wp-content/uploads/2022/11/Kwanzaa.png
END:VEVENT
BEGIN:VEVENT
DTSTART;VALUE=DATE:20221231
DTEND;VALUE=DATE:20230101
DTSTAMP:20260420T173313
CREATED:20221123T210656Z
LAST-MODIFIED:20221123T210751Z
UID:5423-1672444800-1672531199@spls.lib.ok.us
SUMMARY:Closed - New Year's
DESCRIPTION:
URL:https://spls.lib.ok.us/event/closed-new-years/2022-12-31/
CATEGORIES:Family
ATTACH;FMTTYPE=image/png:https://spls.lib.ok.us/wp-content/uploads/2022/11/New-Year-Balloon.png
END:VEVENT
BEGIN:VEVENT
DTSTART;VALUE=DATE:20230116
DTEND;VALUE=DATE:20230117
DTSTAMP:20260420T173313
CREATED:20221221T221053Z
LAST-MODIFIED:20221221T221053Z
UID:5503-1673827200-1673913599@spls.lib.ok.us
SUMMARY:Closed - Martin Luther King Jr. Day
DESCRIPTION:
URL:https://spls.lib.ok.us/event/closed-martin-luther-king-jr-day/
CATEGORIES:Family
ATTACH;FMTTYPE=image/png:https://spls.lib.ok.us/wp-content/uploads/2022/12/mlk-day.png
END:VEVENT
BEGIN:VEVENT
DTSTART;TZID=America/Chicago:20230118T100000
DTEND;TZID=America/Chicago:20230118T110000
DTSTAMP:20260420T173313
CREATED:20221221T213948Z
LAST-MODIFIED:20221221T213948Z
UID:5497-1674036000-1674039600@spls.lib.ok.us
SUMMARY:Bilingual Story Time & Craft @ 10 a.m.
DESCRIPTION:
URL:https://spls.lib.ok.us/event/bilingual-story-time-craft-10-a-m-2/
CATEGORIES:Family,Infants & Toddlers up to age 5
END:VEVENT
BEGIN:VEVENT
DTSTART;TZID=America/Chicago:20230204T140000
DTEND;TZID=America/Chicago:20230204T150000
DTSTAMP:20260420T173313
CREATED:20230127T212551Z
LAST-MODIFIED:20230522T212027Z
UID:5705-1675519200-1675522800@spls.lib.ok.us
SUMMARY:STEM Saturday @ 2 p.m.
DESCRIPTION:
URL:https://spls.lib.ok.us/event/stem-saturday-2-p-m-4/2023-02-04/
CATEGORIES:Ages 8-18,Family
END:VEVENT
BEGIN:VEVENT
DTSTART;VALUE=DATE:20230206
DTEND;VALUE=DATE:20230207
DTSTAMP:20260420T173313
CREATED:20230131T172723Z
LAST-MODIFIED:20230131T172723Z
UID:5753-1675641600-1675727999@spls.lib.ok.us
SUMMARY:National Frozen Yogurt Day
DESCRIPTION:
URL:https://spls.lib.ok.us/event/national-frozen-yogurt-day/
CATEGORIES:Family
END:VEVENT
BEGIN:VEVENT
DTSTART;VALUE=DATE:20230214
DTEND;VALUE=DATE:20230215
DTSTAMP:20260420T173313
CREATED:20230131T173655Z
LAST-MODIFIED:20230131T173655Z
UID:5759-1676332800-1676419199@spls.lib.ok.us
SUMMARY:Happy Valentine's Day!
DESCRIPTION:
URL:https://spls.lib.ok.us/event/happy-valentines-day/
CATEGORIES:Family
END:VEVENT
BEGIN:VEVENT
DTSTART;TZID=America/Chicago:20230215T100000
DTEND;TZID=America/Chicago:20230215T110000
DTSTAMP:20260420T173313
CREATED:20230127T212153Z
LAST-MODIFIED:20230127T212153Z
UID:5702-1676455200-1676458800@spls.lib.ok.us
SUMMARY:Bilingual Story Time & Craft @ 10 a.m.
DESCRIPTION:
URL:https://spls.lib.ok.us/event/bilingual-story-time-craft-10-a-m-3/
CATEGORIES:Family,Infants & Toddlers up to age 5,Literacy Event
END:VEVENT
BEGIN:VEVENT
DTSTART;VALUE=DATE:20230219
DTEND;VALUE=DATE:20230220
DTSTAMP:20260420T173313
CREATED:20230131T172930Z
LAST-MODIFIED:20230131T172930Z
UID:5756-1676764800-1676851199@spls.lib.ok.us
SUMMARY:World Whale Day
DESCRIPTION:
URL:https://spls.lib.ok.us/event/world-whale-day/
CATEGORIES:Family
END:VEVENT
BEGIN:VEVENT
DTSTART;VALUE=DATE:20230220
DTEND;VALUE=DATE:20230221
DTSTAMP:20260420T173313
CREATED:20230127T214309Z
LAST-MODIFIED:20230127T214309Z
UID:5747-1676851200-1676937599@spls.lib.ok.us
SUMMARY:Closed - Presidents Day
DESCRIPTION:
URL:https://spls.lib.ok.us/event/closed-presidents-day/
CATEGORIES:Family
END:VEVENT
BEGIN:VEVENT
DTSTART;VALUE=DATE:20230227
DTEND;VALUE=DATE:20230228
DTSTAMP:20260420T173313
CREATED:20230131T183058Z
LAST-MODIFIED:20230131T183058Z
UID:5762-1677456000-1677542399@spls.lib.ok.us
SUMMARY:National Pokemon Day
DESCRIPTION:
URL:https://spls.lib.ok.us/event/national-pokemon-day/
CATEGORIES:Family
END:VEVENT
BEGIN:VEVENT
DTSTART;VALUE=DATE:20230305
DTEND;VALUE=DATE:20230312
DTSTAMP:20260420T173313
CREATED:20230302T222417Z
LAST-MODIFIED:20230302T222519Z
UID:5857-1677974400-1678579199@spls.lib.ok.us
SUMMARY:Read an eBook Week
DESCRIPTION:
URL:https://spls.lib.ok.us/event/read-an-ebook-week/
CATEGORIES:Family
END:VEVENT
BEGIN:VEVENT
DTSTART;VALUE=DATE:20230312
DTEND;VALUE=DATE:20230313
DTSTAMP:20260420T173313
CREATED:20230302T222634Z
LAST-MODIFIED:20230302T222634Z
UID:5866-1678579200-1678665599@spls.lib.ok.us
SUMMARY:National Plant a Flower Day
DESCRIPTION:
URL:https://spls.lib.ok.us/event/national-plant-a-flower-day/
CATEGORIES:Family
END:VEVENT
BEGIN:VEVENT
DTSTART;TZID=America/Chicago:20230313T130000
DTEND;TZID=America/Chicago:20230313T150000
DTSTAMP:20260420T173313
CREATED:20230301T221844Z
LAST-MODIFIED:20230307T215517Z
UID:5833-1678712400-1678719600@spls.lib.ok.us
SUMMARY:Spring Break Teen Mural @ 1 p.m.
DESCRIPTION:
URL:https://spls.lib.ok.us/event/spring-break-teen-mural-1-p-m/2023-03-13/
CATEGORIES:Ages 13-18,Family
END:VEVENT
BEGIN:VEVENT
DTSTART;VALUE=DATE:20230317
DTEND;VALUE=DATE:20230318
DTSTAMP:20260420T173313
CREATED:20230302T222745Z
LAST-MODIFIED:20230302T222745Z
UID:5869-1679011200-1679097599@spls.lib.ok.us
SUMMARY:Happy St. Patrick's Day!
DESCRIPTION:Don’t forget to wear green!
URL:https://spls.lib.ok.us/event/happy-st-patricks-day/
CATEGORIES:Family
END:VEVENT
BEGIN:VEVENT
DTSTART;VALUE=DATE:20230319
DTEND;VALUE=DATE:20230320
DTSTAMP:20260420T173313
CREATED:20230302T222844Z
LAST-MODIFIED:20230302T222844Z
UID:5872-1679184000-1679270399@spls.lib.ok.us
SUMMARY:International Read to Me Day
DESCRIPTION:
URL:https://spls.lib.ok.us/event/international-read-to-me-day/
CATEGORIES:Family
END:VEVENT
BEGIN:VEVENT
DTSTART;VALUE=DATE:20230320
DTEND;VALUE=DATE:20230321
DTSTAMP:20260420T173313
CREATED:20230302T222950Z
LAST-MODIFIED:20230302T222950Z
UID:5875-1679270400-1679356799@spls.lib.ok.us
SUMMARY:First Day of Spring!
DESCRIPTION:
URL:https://spls.lib.ok.us/event/first-day-of-spring/
CATEGORIES:Family
END:VEVENT
BEGIN:VEVENT
DTSTART;TZID=America/Chicago:20230322T100000
DTEND;TZID=America/Chicago:20230322T110000
DTSTAMP:20260420T173313
CREATED:20230301T210740Z
LAST-MODIFIED:20230301T210740Z
UID:5803-1679479200-1679482800@spls.lib.ok.us
SUMMARY:Bilingual Story Time & Craft @ 10 a.m.
DESCRIPTION:
URL:https://spls.lib.ok.us/event/bilingual-story-time-craft-10-a-m-4/
CATEGORIES:Family,Infants & Toddlers up to age 5,Literacy Event
END:VEVENT
BEGIN:VEVENT
DTSTART;VALUE=DATE:20230325
DTEND;VALUE=DATE:20230326
DTSTAMP:20260420T173313
CREATED:20230302T223103Z
LAST-MODIFIED:20230302T223103Z
UID:5878-1679702400-1679788799@spls.lib.ok.us
SUMMARY:International Waffle Day
DESCRIPTION:
URL:https://spls.lib.ok.us/event/international-waffle-day/
CATEGORIES:Family
END:VEVENT
BEGIN:VEVENT
DTSTART;TZID=America/Chicago:20230401T090000
DTEND;TZID=America/Chicago:20230401T120000
DTSTAMP:20260420T173313
CREATED:20230328T163907Z
LAST-MODIFIED:20230328T163907Z
UID:5966-1680339600-1680350400@spls.lib.ok.us
SUMMARY:"Grate" Spelling Bee @ 9 a.m. at WOSC
DESCRIPTION:
URL:https://spls.lib.ok.us/event/grate-spelling-bee-9-a-m-at-wosc/
CATEGORIES:Adults,Family,Literacy Event
END:VEVENT
BEGIN:VEVENT
DTSTART;TZID=America/Chicago:20230419T100000
DTEND;TZID=America/Chicago:20230419T110000
DTSTAMP:20260420T173313
CREATED:20230328T163416Z
LAST-MODIFIED:20230328T163416Z
UID:5915-1681898400-1681902000@spls.lib.ok.us
SUMMARY:Bilingual Story Time & Craft @ 10 a.m.
DESCRIPTION:
URL:https://spls.lib.ok.us/event/bilingual-story-time-craft-10-a-m-5/
CATEGORIES:Family,Infants & Toddlers up to age 5,Literacy Event
END:VEVENT
BEGIN:VEVENT
DTSTART;VALUE=DATE:20230423
DTEND;VALUE=DATE:20230430
DTSTAMP:20260420T173313
CREATED:20230328T164735Z
LAST-MODIFIED:20230328T164735Z
UID:5980-1682208000-1682812799@spls.lib.ok.us
SUMMARY:National Library Week
DESCRIPTION:
URL:https://spls.lib.ok.us/event/national-library-week/
CATEGORIES:Family
END:VEVENT
BEGIN:VEVENT
DTSTART;TZID=America/Chicago:20230506T140000
DTEND;TZID=America/Chicago:20230506T150000
DTSTAMP:20260420T173313
CREATED:20230501T174654Z
LAST-MODIFIED:20230501T174654Z
UID:6009-1683381600-1683385200@spls.lib.ok.us
SUMMARY:Mother's Day Craft @ 2 p.m.
DESCRIPTION:
URL:https://spls.lib.ok.us/event/mothers-day-craft-2-p-m/
CATEGORIES:Adults,Family
END:VEVENT
BEGIN:VEVENT
DTSTART;VALUE=DATE:20230514
DTEND;VALUE=DATE:20230515
DTSTAMP:20260420T173313
CREATED:20230501T193339Z
LAST-MODIFIED:20230501T193339Z
UID:6025-1684022400-1684108799@spls.lib.ok.us
SUMMARY:Happy Mother's Day!
DESCRIPTION:
URL:https://spls.lib.ok.us/event/happy-mothers-day-2/
CATEGORIES:Family
END:VEVENT
BEGIN:VEVENT
DTSTART;TZID=America/Chicago:20230517T100000
DTEND;TZID=America/Chicago:20230517T110000
DTSTAMP:20260420T173313
CREATED:20230502T151348Z
LAST-MODIFIED:20230502T151348Z
UID:6046-1684317600-1684321200@spls.lib.ok.us
SUMMARY:Bilingual Story Time & Craft @ 10 a.m.
DESCRIPTION:
URL:https://spls.lib.ok.us/event/bilingual-story-time-craft-10-a-m-6/
CATEGORIES:Family,Infants & Toddlers up to age 5,Literacy Event
END:VEVENT
BEGIN:VEVENT
DTSTART;VALUE=DATE:20230529
DTEND;VALUE=DATE:20230530
DTSTAMP:20260420T173313
CREATED:20230501T202412Z
LAST-MODIFIED:20230508T151756Z
UID:6039-1685318400-1685404799@spls.lib.ok.us
SUMMARY:Closed - Memorial Day
DESCRIPTION:
URL:https://spls.lib.ok.us/event/closed-memorial-day-2/
CATEGORIES:Family
END:VEVENT
END:VCALENDAR