BEGIN:VCALENDAR
VERSION:2.0
PRODID:-//Southern Prairie Library - ECPv6.15.14//NONSGML v1.0//EN
CALSCALE:GREGORIAN
METHOD:PUBLISH
X-WR-CALNAME:Southern Prairie Library
X-ORIGINAL-URL:https://spls.lib.ok.us
X-WR-CALDESC:Events for Southern Prairie Library
REFRESH-INTERVAL;VALUE=DURATION:PT1H
X-Robots-Tag:noindex
X-PUBLISHED-TTL:PT1H
BEGIN:VTIMEZONE
TZID:America/Chicago
BEGIN:DAYLIGHT
TZOFFSETFROM:-0600
TZOFFSETTO:-0500
TZNAME:CDT
DTSTART:20220313T080000
END:DAYLIGHT
BEGIN:STANDARD
TZOFFSETFROM:-0500
TZOFFSETTO:-0600
TZNAME:CST
DTSTART:20221106T070000
END:STANDARD
BEGIN:DAYLIGHT
TZOFFSETFROM:-0600
TZOFFSETTO:-0500
TZNAME:CDT
DTSTART:20230312T080000
END:DAYLIGHT
BEGIN:STANDARD
TZOFFSETFROM:-0500
TZOFFSETTO:-0600
TZNAME:CST
DTSTART:20231105T070000
END:STANDARD
BEGIN:DAYLIGHT
TZOFFSETFROM:-0600
TZOFFSETTO:-0500
TZNAME:CDT
DTSTART:20240310T080000
END:DAYLIGHT
BEGIN:STANDARD
TZOFFSETFROM:-0500
TZOFFSETTO:-0600
TZNAME:CST
DTSTART:20241103T070000
END:STANDARD
END:VTIMEZONE
BEGIN:VEVENT
DTSTART;TZID=America/Chicago:20230705T100000
DTEND;TZID=America/Chicago:20230705T110000
DTSTAMP:20260420T014403
CREATED:20230630T170146Z
LAST-MODIFIED:20230630T170206Z
UID:6179-1688551200-1688554800@spls.lib.ok.us
SUMMARY:Story Time & Craft @ 10 a.m.
DESCRIPTION:Bring your preschoolers to the library for a story time and craft. Every Wednesday at 10:00 AM we will explore a new theme!
URL:https://spls.lib.ok.us/event/story-time-craft-10-a-m/
CATEGORIES:Family,Infants & Toddlers up to age 5
ATTACH;FMTTYPE=image/png:https://spls.lib.ok.us/wp-content/uploads/2022/07/story-time-Facebook-Event-Cover-100-×-100-px.png
END:VEVENT
BEGIN:VEVENT
DTSTART;TZID=America/Chicago:20230706T140000
DTEND;TZID=America/Chicago:20230706T150000
DTSTAMP:20260420T014403
CREATED:20230630T171349Z
LAST-MODIFIED:20230630T171349Z
UID:6187-1688652000-1688655600@spls.lib.ok.us
SUMMARY:Sugar Free Allstars @ Altus Community Center @ 2 p.m.
DESCRIPTION:Get ready to pack the dance floor\, because here comes Sugar Free Allstars! This Grammy-featured\, family funk super duo has been listed as one of the Time magazine’s top 12 family music acts in America.
URL:https://spls.lib.ok.us/event/sugar-free-allstars-altus-community-center-2-p-m/
CATEGORIES:Family
END:VEVENT
BEGIN:VEVENT
DTSTART;TZID=America/Chicago:20230712T100000
DTEND;TZID=America/Chicago:20230712T110000
DTSTAMP:20260420T014403
CREATED:20230630T170438Z
LAST-MODIFIED:20230630T170438Z
UID:6181-1689156000-1689159600@spls.lib.ok.us
SUMMARY:Story Time & Craft @ 10 a.m.
DESCRIPTION:Bring your preschoolers to the library for a story time and craft. Every Wednesday at 10:00 AM we will explore a new theme!
URL:https://spls.lib.ok.us/event/story-time-craft-10-a-m-2/
CATEGORIES:Family,Infants & Toddlers up to age 5
ATTACH;FMTTYPE=image/png:https://spls.lib.ok.us/wp-content/uploads/2022/07/story-time-Facebook-Event-Cover-100-×-100-px.png
END:VEVENT
BEGIN:VEVENT
DTSTART;TZID=America/Chicago:20230713T140000
DTEND;TZID=America/Chicago:20230713T150000
DTSTAMP:20260420T014403
CREATED:20230630T171551Z
LAST-MODIFIED:20230630T171551Z
UID:6189-1689256800-1689260400@spls.lib.ok.us
SUMMARY:Monty Harper @ Altus Community Center @ 2 p.m.
DESCRIPTION:Monty Harper is a songwriter for hire\, teacher\, entertainer\, and recording artist. He performs original award-winning songs for kids and families at schools\, libraries\, and festivals throughout Oklahoma and the region.
URL:https://spls.lib.ok.us/event/monty-harper-altus-community-center-2-p-m/
CATEGORIES:Family
END:VEVENT
BEGIN:VEVENT
DTSTART;TZID=America/Chicago:20230715T140000
DTEND;TZID=America/Chicago:20230715T150000
DTSTAMP:20260420T014403
CREATED:20230630T165443Z
LAST-MODIFIED:20230630T165443Z
UID:6173-1689429600-1689433200@spls.lib.ok.us
SUMMARY:Lego Club @ 2 p.m.
DESCRIPTION:Future artists and engineers are invited to join us for Lego Club! Build to your hearts content. Your work will be displayed at the Altus Public Library.
URL:https://spls.lib.ok.us/event/lego-club-2-p-m-2/
CATEGORIES:Family
ATTACH;FMTTYPE=image/png:https://spls.lib.ok.us/wp-content/uploads/2022/11/LEGO-100-×-100-px.png
END:VEVENT
BEGIN:VEVENT
DTSTART;TZID=America/Chicago:20230719T100000
DTEND;TZID=America/Chicago:20230719T110000
DTSTAMP:20260420T014403
CREATED:20230630T170632Z
LAST-MODIFIED:20230630T170632Z
UID:6183-1689760800-1689764400@spls.lib.ok.us
SUMMARY:Story Time & Craft
DESCRIPTION:Bring your preschoolers to the library for a story time and craft. Every Wednesday at 10:00 AM we will explore a new theme!
URL:https://spls.lib.ok.us/event/story-time-craft/
CATEGORIES:Family,Infants & Toddlers up to age 5
ATTACH;FMTTYPE=image/png:https://spls.lib.ok.us/wp-content/uploads/2022/07/story-time-Facebook-Event-Cover-100-×-100-px.png
END:VEVENT
BEGIN:VEVENT
DTSTART;TZID=America/Chicago:20230720T140000
DTEND;TZID=America/Chicago:20230720T150000
DTSTAMP:20260420T014403
CREATED:20230630T171743Z
LAST-MODIFIED:20230630T171743Z
UID:6191-1689861600-1689865200@spls.lib.ok.us
SUMMARY:Extreme Animals @ Altus Community Center @ 2 p.m.
DESCRIPTION:Meet the most incredible and diverse group of fascinating and uniquely impressive animals that would love to have your undivided attention!
URL:https://spls.lib.ok.us/event/extreme-animals-altus-community-center-2-p-m/
CATEGORIES:Family
END:VEVENT
BEGIN:VEVENT
DTSTART;TZID=America/Chicago:20230726T100000
DTEND;TZID=America/Chicago:20230726T110000
DTSTAMP:20260420T014403
CREATED:20230630T170914Z
LAST-MODIFIED:20230630T170914Z
UID:6185-1690365600-1690369200@spls.lib.ok.us
SUMMARY:Story Time & Craft @ 10 a.m.
DESCRIPTION:Bring your preschoolers to the library for a story time and craft. Every Wednesday at 10:00 AM we will explore a new theme!
URL:https://spls.lib.ok.us/event/story-time-craft-10-a-m-3/
CATEGORIES:Family,Infants & Toddlers up to age 5
ATTACH;FMTTYPE=image/png:https://spls.lib.ok.us/wp-content/uploads/2022/07/story-time-Facebook-Event-Cover-100-×-100-px.png
END:VEVENT
BEGIN:VEVENT
DTSTART;TZID=America/Chicago:20230802T100000
DTEND;TZID=America/Chicago:20230802T230000
DTSTAMP:20260420T014403
CREATED:20230728T145604Z
LAST-MODIFIED:20230728T145929Z
UID:6210-1690970400-1691017200@spls.lib.ok.us
SUMMARY:Story Time & Craft @ 10 a.m.
DESCRIPTION:
URL:https://spls.lib.ok.us/event/story-time-craft-10-a-m-4/
CATEGORIES:Family,Infants & Toddlers up to age 5
ATTACH;FMTTYPE=image/png:https://spls.lib.ok.us/wp-content/uploads/2022/07/story-time-Facebook-Event-Cover-100-×-100-px.png
END:VEVENT
BEGIN:VEVENT
DTSTART;TZID=America/Chicago:20230809T100000
DTEND;TZID=America/Chicago:20230809T110000
DTSTAMP:20260420T014403
CREATED:20230728T150106Z
LAST-MODIFIED:20230728T152106Z
UID:6213-1691575200-1691578800@spls.lib.ok.us
SUMMARY:Story Time & Craft @ 10 a.m.
DESCRIPTION:
URL:https://spls.lib.ok.us/event/story-time-craft-10-a-m-5/
CATEGORIES:Family,Infants & Toddlers up to age 5
ATTACH;FMTTYPE=image/png:https://spls.lib.ok.us/wp-content/uploads/2022/07/story-time-Facebook-Event-Cover-100-×-100-px.png
END:VEVENT
BEGIN:VEVENT
DTSTART;TZID=America/Chicago:20230816T100000
DTEND;TZID=America/Chicago:20230816T110000
DTSTAMP:20260420T014403
CREATED:20230728T150459Z
LAST-MODIFIED:20230728T150459Z
UID:6215-1692180000-1692183600@spls.lib.ok.us
SUMMARY:Bilingual Story Time & Craft @ 10 a.m.
DESCRIPTION:
URL:https://spls.lib.ok.us/event/bilingual-story-time-craft-10-a-m-8/
CATEGORIES:Family,Infants & Toddlers up to age 5
ATTACH;FMTTYPE=image/png:https://spls.lib.ok.us/wp-content/uploads/2022/07/story-time-Facebook-Event-Cover-100-×-100-px.png
END:VEVENT
BEGIN:VEVENT
DTSTART;TZID=America/Chicago:20230823T100000
DTEND;TZID=America/Chicago:20230823T110000
DTSTAMP:20260420T014403
CREATED:20230728T151002Z
LAST-MODIFIED:20230728T151002Z
UID:6217-1692784800-1692788400@spls.lib.ok.us
SUMMARY:Story Time & Craft @ 10 a.m.
DESCRIPTION:
URL:https://spls.lib.ok.us/event/story-time-craft-10-a-m-6/
CATEGORIES:Family,Infants & Toddlers up to age 5
ATTACH;FMTTYPE=image/png:https://spls.lib.ok.us/wp-content/uploads/2022/07/story-time-Facebook-Event-Cover-100-×-100-px.png
END:VEVENT
BEGIN:VEVENT
DTSTART;TZID=America/Chicago:20230830T100000
DTEND;TZID=America/Chicago:20230830T110000
DTSTAMP:20260420T014403
CREATED:20230728T151112Z
LAST-MODIFIED:20230728T151340Z
UID:6219-1693389600-1693393200@spls.lib.ok.us
SUMMARY:Story Time & Craft @ 10 a.m.
DESCRIPTION:
URL:https://spls.lib.ok.us/event/story-time-craft-10-a-m-7/
CATEGORIES:Family,Infants & Toddlers up to age 5
ATTACH;FMTTYPE=image/png:https://spls.lib.ok.us/wp-content/uploads/2022/07/story-time-Facebook-Event-Cover-100-×-100-px.png
END:VEVENT
BEGIN:VEVENT
DTSTART;TZID=America/Chicago:20230902T140000
DTEND;TZID=America/Chicago:20230902T153000
DTSTAMP:20260420T014403
CREATED:20230828T144143Z
LAST-MODIFIED:20230828T144143Z
UID:6321-1693663200-1693668600@spls.lib.ok.us
SUMMARY:STEM Saturday @ 2 p.m.
DESCRIPTION:
URL:https://spls.lib.ok.us/event/stem-saturday-2-p-m-6/
CATEGORIES:Ages 8-18,Family
ATTACH;FMTTYPE=image/png:https://spls.lib.ok.us/wp-content/uploads/2022/11/STEM-Saturday-100-×-100-px.png
END:VEVENT
BEGIN:VEVENT
DTSTART;VALUE=DATE:20230904
DTEND;VALUE=DATE:20230905
DTSTAMP:20260420T014403
CREATED:20230828T142553Z
LAST-MODIFIED:20230828T142553Z
UID:6306-1693785600-1693871999@spls.lib.ok.us
SUMMARY:Closed - Labor Day
DESCRIPTION:
URL:https://spls.lib.ok.us/event/closed-labor-day-2/
CATEGORIES:Adults,Family
ATTACH;FMTTYPE=image/png:https://spls.lib.ok.us/wp-content/uploads/2023/08/labor-day.png
END:VEVENT
BEGIN:VEVENT
DTSTART;TZID=America/Chicago:20230906T100000
DTEND;TZID=America/Chicago:20230906T110000
DTSTAMP:20260420T014403
CREATED:20230828T142740Z
LAST-MODIFIED:20230828T142740Z
UID:6309-1693994400-1693998000@spls.lib.ok.us
SUMMARY:Story Time & Craft @ 10 a.m.
DESCRIPTION:
URL:https://spls.lib.ok.us/event/story-time-craft-10-a-m-8/
CATEGORIES:Family,Infants & Toddlers up to age 5
ATTACH;FMTTYPE=image/png:https://spls.lib.ok.us/wp-content/uploads/2022/07/story-time-Facebook-Event-Cover-100-×-100-px.png
END:VEVENT
BEGIN:VEVENT
DTSTART;TZID=America/Chicago:20230908T110000
DTEND;TZID=America/Chicago:20230908T120000
DTSTAMP:20260420T014403
CREATED:20230828T144022Z
LAST-MODIFIED:20230828T144022Z
UID:6319-1694170800-1694174400@spls.lib.ok.us
SUMMARY:Ya Ya Yarn @ 11 a.m.
DESCRIPTION:
URL:https://spls.lib.ok.us/event/ya-ya-yarn-11-a-m-5/
CATEGORIES:Adults,Family
END:VEVENT
BEGIN:VEVENT
DTSTART;TZID=America/Chicago:20230913T100000
DTEND;TZID=America/Chicago:20230913T110000
DTSTAMP:20260420T014403
CREATED:20230828T144300Z
LAST-MODIFIED:20230828T144300Z
UID:6323-1694599200-1694602800@spls.lib.ok.us
SUMMARY:Story Time & Craft @ 10 a.m.
DESCRIPTION:
URL:https://spls.lib.ok.us/event/story-time-craft-10-a-m-9/
CATEGORIES:Family,Infants & Toddlers up to age 5
ATTACH;FMTTYPE=image/png:https://spls.lib.ok.us/wp-content/uploads/2022/07/story-time-Facebook-Event-Cover-100-×-100-px.png
END:VEVENT
BEGIN:VEVENT
DTSTART;TZID=America/Chicago:20230916T140000
DTEND;TZID=America/Chicago:20230916T150000
DTSTAMP:20260420T014403
CREATED:20230828T144527Z
LAST-MODIFIED:20230828T144527Z
UID:6325-1694872800-1694876400@spls.lib.ok.us
SUMMARY:Lego Club @ 2 p.m.
DESCRIPTION:Future artists and engineers are invited to join us for Lego Club! Build to your hearts content. Your work will be displayed at the Altus Public Library.
URL:https://spls.lib.ok.us/event/lego-club-2-p-m-3/
CATEGORIES:Family
ATTACH;FMTTYPE=image/png:https://spls.lib.ok.us/wp-content/uploads/2022/11/LEGO-100-×-100-px.png
END:VEVENT
BEGIN:VEVENT
DTSTART;TZID=America/Chicago:20230920T100000
DTEND;TZID=America/Chicago:20230920T110000
DTSTAMP:20260420T014403
CREATED:20230828T144723Z
LAST-MODIFIED:20230828T144846Z
UID:6327-1695204000-1695207600@spls.lib.ok.us
SUMMARY:Bilingual Story Time & Craft
DESCRIPTION:
URL:https://spls.lib.ok.us/event/bilingual-story-time-craft/
CATEGORIES:Family,Infants & Toddlers up to age 5,Literacy Event
ATTACH;FMTTYPE=image/png:https://spls.lib.ok.us/wp-content/uploads/2022/07/story-time-Facebook-Event-Cover-100-×-100-px.png
END:VEVENT
BEGIN:VEVENT
DTSTART;TZID=America/Chicago:20230923T110000
DTEND;TZID=America/Chicago:20230923T120000
DTSTAMP:20260420T014403
CREATED:20230828T144825Z
LAST-MODIFIED:20230828T144825Z
UID:6329-1695466800-1695470400@spls.lib.ok.us
SUMMARY:Ya Ya Yarn @ 11 a.m.
DESCRIPTION:
URL:https://spls.lib.ok.us/event/ya-ya-yarn-11-a-m-6/
CATEGORIES:Adults,Family
END:VEVENT
BEGIN:VEVENT
DTSTART;TZID=America/Chicago:20230927T100000
DTEND;TZID=America/Chicago:20230927T110000
DTSTAMP:20260420T014403
CREATED:20230828T145104Z
LAST-MODIFIED:20230828T145104Z
UID:6331-1695808800-1695812400@spls.lib.ok.us
SUMMARY:Story Time & Craft @ 10 a.m.
DESCRIPTION:
URL:https://spls.lib.ok.us/event/story-time-craft-10-a-m-10/
CATEGORIES:Family,Infants & Toddlers up to age 5
ATTACH;FMTTYPE=image/png:https://spls.lib.ok.us/wp-content/uploads/2022/07/story-time-Facebook-Event-Cover-100-×-100-px.png
END:VEVENT
BEGIN:VEVENT
DTSTART;TZID=America/Chicago:20231004T100000
DTEND;TZID=America/Chicago:20231004T110000
DTSTAMP:20260420T014403
CREATED:20230928T141416Z
LAST-MODIFIED:20230928T141416Z
UID:6387-1696413600-1696417200@spls.lib.ok.us
SUMMARY:Story Time & Craft @ 10 a.m.
DESCRIPTION:
URL:https://spls.lib.ok.us/event/story-time-craft-10-a-m-11/
CATEGORIES:Family,Infants & Toddlers up to age 5
ATTACH;FMTTYPE=image/png:https://spls.lib.ok.us/wp-content/uploads/2022/07/story-time-Facebook-Event-Cover-100-×-100-px.png
END:VEVENT
BEGIN:VEVENT
DTSTART;TZID=America/Chicago:20231007T140000
DTEND;TZID=America/Chicago:20231007T153000
DTSTAMP:20260420T014403
CREATED:20230928T143221Z
LAST-MODIFIED:20230928T143221Z
UID:6402-1696687200-1696692600@spls.lib.ok.us
SUMMARY:STEM Saturday @ 2 p.m.
DESCRIPTION:
URL:https://spls.lib.ok.us/event/stem-saturday-2-p-m-7/
CATEGORIES:Ages 8-18,Family
ATTACH;FMTTYPE=image/png:https://spls.lib.ok.us/wp-content/uploads/2022/11/STEM-Saturday-100-×-100-px.png
END:VEVENT
BEGIN:VEVENT
DTSTART;VALUE=DATE:20231009
DTEND;VALUE=DATE:20231010
DTSTAMP:20260420T014403
CREATED:20230928T142656Z
LAST-MODIFIED:20230928T142656Z
UID:6395-1696809600-1696895999@spls.lib.ok.us
SUMMARY:Closed - Columbus Day
DESCRIPTION:
URL:https://spls.lib.ok.us/event/closed-columbus-day-2/
CATEGORIES:Family
ATTACH;FMTTYPE=image/jpeg:https://spls.lib.ok.us/wp-content/uploads/2023/09/columbusday.jpg
END:VEVENT
BEGIN:VEVENT
DTSTART;TZID=America/Chicago:20231010T183000
DTEND;TZID=America/Chicago:20231010T193000
DTSTAMP:20260420T014403
CREATED:20230928T142917Z
LAST-MODIFIED:20230928T142917Z
UID:6398-1696962600-1696966200@spls.lib.ok.us
SUMMARY:Color Me Calm @ 6:30 p.m.
DESCRIPTION:
URL:https://spls.lib.ok.us/event/color-me-calm-630-p-m-3/
CATEGORIES:Family
END:VEVENT
BEGIN:VEVENT
DTSTART;TZID=America/Chicago:20231011T100000
DTEND;TZID=America/Chicago:20231011T110000
DTSTAMP:20260420T014403
CREATED:20230928T141550Z
LAST-MODIFIED:20230928T141550Z
UID:6389-1697018400-1697022000@spls.lib.ok.us
SUMMARY:Story Time & Craft @ 10 a.m.
DESCRIPTION:
URL:https://spls.lib.ok.us/event/story-time-craft-10-a-m-12/
CATEGORIES:Family,Infants & Toddlers up to age 5
ATTACH;FMTTYPE=image/png:https://spls.lib.ok.us/wp-content/uploads/2022/07/story-time-Facebook-Event-Cover-100-×-100-px.png
END:VEVENT
BEGIN:VEVENT
DTSTART;TZID=America/Chicago:20231018T100000
DTEND;TZID=America/Chicago:20231018T110000
DTSTAMP:20260420T014403
CREATED:20230928T141714Z
LAST-MODIFIED:20230928T141714Z
UID:6391-1697623200-1697626800@spls.lib.ok.us
SUMMARY:Bilingual Story Time & Craft
DESCRIPTION:
URL:https://spls.lib.ok.us/event/bilingual-story-time-craft-2/
CATEGORIES:Family,Infants & Toddlers up to age 5,Literacy Event
ATTACH;FMTTYPE=image/png:https://spls.lib.ok.us/wp-content/uploads/2022/07/story-time-Facebook-Event-Cover-100-×-100-px.png
END:VEVENT
BEGIN:VEVENT
DTSTART;TZID=America/Chicago:20231021T140000
DTEND;TZID=America/Chicago:20231021T150000
DTSTAMP:20260420T014403
CREATED:20230928T143429Z
LAST-MODIFIED:20230928T143429Z
UID:6404-1697896800-1697900400@spls.lib.ok.us
SUMMARY:Lego Club @ 2 p.m.
DESCRIPTION:Future artists and engineers are invited to join us for Lego Club! Build to your hearts content. Your work will be displayed at the Altus Public Library.
URL:https://spls.lib.ok.us/event/lego-club-2-p-m-4/
CATEGORIES:Family
ATTACH;FMTTYPE=image/png:https://spls.lib.ok.us/wp-content/uploads/2022/11/LEGO-100-×-100-px.png
END:VEVENT
BEGIN:VEVENT
DTSTART;TZID=America/Chicago:20231025T100000
DTEND;TZID=America/Chicago:20231025T110000
DTSTAMP:20260420T014403
CREATED:20230928T141902Z
LAST-MODIFIED:20230928T141902Z
UID:6393-1698228000-1698231600@spls.lib.ok.us
SUMMARY:Story Time & Craft @ 10 a.m.
DESCRIPTION:
URL:https://spls.lib.ok.us/event/story-time-craft-10-a-m-13/
CATEGORIES:Family,Infants & Toddlers up to age 5
ATTACH;FMTTYPE=image/png:https://spls.lib.ok.us/wp-content/uploads/2022/07/story-time-Facebook-Event-Cover-100-×-100-px.png
END:VEVENT
END:VCALENDAR