BEGIN:VCALENDAR
VERSION:2.0
PRODID:-//Southern Prairie Library - ECPv6.15.14//NONSGML v1.0//EN
CALSCALE:GREGORIAN
METHOD:PUBLISH
X-ORIGINAL-URL:https://spls.lib.ok.us
X-WR-CALDESC:Events for Southern Prairie Library
REFRESH-INTERVAL;VALUE=DURATION:PT1H
X-Robots-Tag:noindex
X-PUBLISHED-TTL:PT1H
BEGIN:VTIMEZONE
TZID:America/Chicago
BEGIN:DAYLIGHT
TZOFFSETFROM:-0600
TZOFFSETTO:-0500
TZNAME:CDT
DTSTART:20250309T080000
END:DAYLIGHT
BEGIN:STANDARD
TZOFFSETFROM:-0500
TZOFFSETTO:-0600
TZNAME:CST
DTSTART:20251102T070000
END:STANDARD
BEGIN:DAYLIGHT
TZOFFSETFROM:-0600
TZOFFSETTO:-0500
TZNAME:CDT
DTSTART:20260308T080000
END:DAYLIGHT
BEGIN:STANDARD
TZOFFSETFROM:-0500
TZOFFSETTO:-0600
TZNAME:CST
DTSTART:20261101T070000
END:STANDARD
BEGIN:DAYLIGHT
TZOFFSETFROM:-0600
TZOFFSETTO:-0500
TZNAME:CDT
DTSTART:20270314T080000
END:DAYLIGHT
BEGIN:STANDARD
TZOFFSETFROM:-0500
TZOFFSETTO:-0600
TZNAME:CST
DTSTART:20271107T070000
END:STANDARD
END:VTIMEZONE
BEGIN:VEVENT
DTSTART;TZID=America/Chicago:20260220T160000
DTEND;TZID=America/Chicago:20260220T170000
DTSTAMP:20260422T162525
CREATED:20260203T202115Z
LAST-MODIFIED:20260203T202158Z
UID:9698-1771603200-1771606800@spls.lib.ok.us
SUMMARY:Family Fun Day @ 4 p.m.
DESCRIPTION:Family Fun Day: Science Night! \nKids and parents will be able to interact with different science experiments laid out at different tables. \nWe’ll have:\n-Dancing Rice\n-Engineering Challenges\n-Color Changing Invisible Ink\n-Paper Bridges\n-Marshmallow Catapults \nFriday\, February 20th\n4 PM – 5 PM\nAltus Public Library – 421 N. Hudson
URL:https://spls.lib.ok.us/event/family-fun-day-4-p-m-5/
CATEGORIES:Family
END:VEVENT
END:VCALENDAR