BEGIN:VCALENDAR
VERSION:2.0
PRODID:-//Southern Prairie Library - ECPv6.15.14//NONSGML v1.0//EN
CALSCALE:GREGORIAN
METHOD:PUBLISH
X-ORIGINAL-URL:https://spls.lib.ok.us
X-WR-CALDESC:Events for Southern Prairie Library
REFRESH-INTERVAL;VALUE=DURATION:PT1H
X-Robots-Tag:noindex
X-PUBLISHED-TTL:PT1H
BEGIN:VTIMEZONE
TZID:America/Chicago
BEGIN:DAYLIGHT
TZOFFSETFROM:-0600
TZOFFSETTO:-0500
TZNAME:CDT
DTSTART:20250309T080000
END:DAYLIGHT
BEGIN:STANDARD
TZOFFSETFROM:-0500
TZOFFSETTO:-0600
TZNAME:CST
DTSTART:20251102T070000
END:STANDARD
BEGIN:DAYLIGHT
TZOFFSETFROM:-0600
TZOFFSETTO:-0500
TZNAME:CDT
DTSTART:20260308T080000
END:DAYLIGHT
BEGIN:STANDARD
TZOFFSETFROM:-0500
TZOFFSETTO:-0600
TZNAME:CST
DTSTART:20261101T070000
END:STANDARD
BEGIN:DAYLIGHT
TZOFFSETFROM:-0600
TZOFFSETTO:-0500
TZNAME:CDT
DTSTART:20270314T080000
END:DAYLIGHT
BEGIN:STANDARD
TZOFFSETFROM:-0500
TZOFFSETTO:-0600
TZNAME:CST
DTSTART:20271107T070000
END:STANDARD
END:VTIMEZONE
BEGIN:VEVENT
DTSTART;TZID=America/Chicago:20260210T093000
DTEND;TZID=America/Chicago:20260210T113000
DTSTAMP:20260422T162523
CREATED:20260203T185922Z
LAST-MODIFIED:20260203T190023Z
UID:9684-1770715800-1770723000@spls.lib.ok.us
SUMMARY:Jackson County Health Department Community Outreach @ 9:30 a.m.
DESCRIPTION:Do you have questions about food assistance\, insurance\, local services or specialized help? Thanks to a partnership with the District 5 Southwest Oklahoma County Health Departments\, help is available! \nA Community Health Worker (CHW) can help you navigate your unique situation. Stop by the Altus Public Library\, 421 N. Hudson\, from 9:30 AM to 11:30 AM Tuesday\, February 10th! There will be a CHW here to help you find the right solutions to your specific needs. \nThis program is FREE and open to the public! Come see us!
URL:https://spls.lib.ok.us/event/jackson-county-health-department-community-outreach-12-p-m-9/
CATEGORIES:Family
END:VEVENT
END:VCALENDAR