BEGIN:VCALENDAR
VERSION:2.0
PRODID:-//Southern Prairie Library - ECPv6.15.14//NONSGML v1.0//EN
CALSCALE:GREGORIAN
METHOD:PUBLISH
X-ORIGINAL-URL:https://spls.lib.ok.us
X-WR-CALDESC:Events for Southern Prairie Library
REFRESH-INTERVAL;VALUE=DURATION:PT1H
X-Robots-Tag:noindex
X-PUBLISHED-TTL:PT1H
BEGIN:VTIMEZONE
TZID:America/Chicago
BEGIN:DAYLIGHT
TZOFFSETFROM:-0600
TZOFFSETTO:-0500
TZNAME:CDT
DTSTART:20240310T080000
END:DAYLIGHT
BEGIN:STANDARD
TZOFFSETFROM:-0500
TZOFFSETTO:-0600
TZNAME:CST
DTSTART:20241103T070000
END:STANDARD
BEGIN:DAYLIGHT
TZOFFSETFROM:-0600
TZOFFSETTO:-0500
TZNAME:CDT
DTSTART:20250309T080000
END:DAYLIGHT
BEGIN:STANDARD
TZOFFSETFROM:-0500
TZOFFSETTO:-0600
TZNAME:CST
DTSTART:20251102T070000
END:STANDARD
BEGIN:DAYLIGHT
TZOFFSETFROM:-0600
TZOFFSETTO:-0500
TZNAME:CDT
DTSTART:20260308T080000
END:DAYLIGHT
BEGIN:STANDARD
TZOFFSETFROM:-0500
TZOFFSETTO:-0600
TZNAME:CST
DTSTART:20261101T070000
END:STANDARD
END:VTIMEZONE
BEGIN:VEVENT
DTSTART;TZID=America/Chicago:20251114T160000
DTEND;TZID=America/Chicago:20251114T170000
DTSTAMP:20260423T044555
CREATED:20251031T204711Z
LAST-MODIFIED:20251031T204711Z
UID:9372-1763136000-1763139600@spls.lib.ok.us
SUMMARY:Family Fun Day @ 4 p.m.
DESCRIPTION:Family Fun Day at the Library!\n\n\n\nJoin us at the Altus Public Library for our next Family Fun Day on Thursday\, November 14th at 4 PM!\n\nThis month\, we’re getting creative and celebrating the season by decorating Turkey Tabletop Signs! We’ll provide all the materials — including the pieces and acrylic paint markers — so all you need to bring is your creativity and excitement.\n\n\n\n–Perfect for families of all ages!\n–All supplies provided\n–Limited to 20 sign-ups — so register soon!\n\n\n\nAltus Public Library – 421 N Hudson St.\n(580) 477-2890\n\n\n\nCome enjoy an afternoon of crafting\, laughter\, and family fun before the holiday season begins!
URL:https://spls.lib.ok.us/event/family-fun-day-4-p-m-3/
CATEGORIES:Family
END:VEVENT
END:VCALENDAR