BEGIN:VCALENDAR
VERSION:2.0
PRODID:-//Southern Prairie Library - ECPv6.15.14//NONSGML v1.0//EN
CALSCALE:GREGORIAN
METHOD:PUBLISH
X-ORIGINAL-URL:https://spls.lib.ok.us
X-WR-CALDESC:Events for Southern Prairie Library
REFRESH-INTERVAL;VALUE=DURATION:PT1H
X-Robots-Tag:noindex
X-PUBLISHED-TTL:PT1H
BEGIN:VTIMEZONE
TZID:America/Chicago
BEGIN:DAYLIGHT
TZOFFSETFROM:-0600
TZOFFSETTO:-0500
TZNAME:CDT
DTSTART:20240310T080000
END:DAYLIGHT
BEGIN:STANDARD
TZOFFSETFROM:-0500
TZOFFSETTO:-0600
TZNAME:CST
DTSTART:20241103T070000
END:STANDARD
BEGIN:DAYLIGHT
TZOFFSETFROM:-0600
TZOFFSETTO:-0500
TZNAME:CDT
DTSTART:20250309T080000
END:DAYLIGHT
BEGIN:STANDARD
TZOFFSETFROM:-0500
TZOFFSETTO:-0600
TZNAME:CST
DTSTART:20251102T070000
END:STANDARD
BEGIN:DAYLIGHT
TZOFFSETFROM:-0600
TZOFFSETTO:-0500
TZNAME:CDT
DTSTART:20260308T080000
END:DAYLIGHT
BEGIN:STANDARD
TZOFFSETFROM:-0500
TZOFFSETTO:-0600
TZNAME:CST
DTSTART:20261101T070000
END:STANDARD
END:VTIMEZONE
BEGIN:VEVENT
DTSTART;TZID=America/Chicago:20251107T153000
DTEND;TZID=America/Chicago:20251107T163000
DTSTAMP:20260423T044558
CREATED:20251031T204514Z
LAST-MODIFIED:20251031T204514Z
UID:9370-1762529400-1762533000@spls.lib.ok.us
SUMMARY:STEAM Day @ 3:30 p.m.
DESCRIPTION:Join Us for Our STEAM Showcase\n\n\n\nThe Altus Public Library invites you and your family to our STEAM Showcase on Friday\, November 7th from 3:30 – 4:30 PM!\n\n\n\nCome explore the exciting world of Science\, Technology\, Engineering\, Art\, and Math (STEAM) with hands-on activities and demonstrations. This event is open to the public\, and families are welcome to drop in anytime during the hour!\n\n\n\nWhat to Expect:\n–See demonstrations of our amazing STEAM tools and gadgets\n–Try out some of the equipment yourself\n–Learn about the cool resources your library offers!\n\n\n\nFeatured Equipment Includes:\n–Wireless VR Headset\n–3D Doodle Pens\n–Gaming Laptop\n–Button Maker\n–Nintendo Switch\n–And other fun STEAM Kits!\n\n\n\nAltus Public Library – 421 N Hudson St.\n(580) 477-2890\n\n\n\nBring the whole family and experience how fun learning can be!
URL:https://spls.lib.ok.us/event/steam-day-330-p-m/
CATEGORIES:Family
END:VEVENT
END:VCALENDAR