BEGIN:VCALENDAR
VERSION:2.0
PRODID:-//Southern Prairie Library - ECPv6.15.14//NONSGML v1.0//EN
CALSCALE:GREGORIAN
METHOD:PUBLISH
X-WR-CALNAME:Southern Prairie Library
X-ORIGINAL-URL:https://spls.lib.ok.us
X-WR-CALDESC:Events for Southern Prairie Library
REFRESH-INTERVAL;VALUE=DURATION:PT1H
X-Robots-Tag:noindex
X-PUBLISHED-TTL:PT1H
BEGIN:VTIMEZONE
TZID:America/Chicago
BEGIN:DAYLIGHT
TZOFFSETFROM:-0600
TZOFFSETTO:-0500
TZNAME:CDT
DTSTART:20240310T080000
END:DAYLIGHT
BEGIN:STANDARD
TZOFFSETFROM:-0500
TZOFFSETTO:-0600
TZNAME:CST
DTSTART:20241103T070000
END:STANDARD
BEGIN:DAYLIGHT
TZOFFSETFROM:-0600
TZOFFSETTO:-0500
TZNAME:CDT
DTSTART:20250309T080000
END:DAYLIGHT
BEGIN:STANDARD
TZOFFSETFROM:-0500
TZOFFSETTO:-0600
TZNAME:CST
DTSTART:20251102T070000
END:STANDARD
BEGIN:DAYLIGHT
TZOFFSETFROM:-0600
TZOFFSETTO:-0500
TZNAME:CDT
DTSTART:20260308T080000
END:DAYLIGHT
BEGIN:STANDARD
TZOFFSETFROM:-0500
TZOFFSETTO:-0600
TZNAME:CST
DTSTART:20261101T070000
END:STANDARD
END:VTIMEZONE
BEGIN:VEVENT
DTSTART;TZID=America/Chicago:20251103T110000
DTEND;TZID=America/Chicago:20251103T130000
DTSTAMP:20260423T044512
CREATED:20251031T202206Z
LAST-MODIFIED:20251031T202206Z
UID:9349-1762167600-1762174800@spls.lib.ok.us
SUMMARY:Silent Book Club @ 11 a.m.
DESCRIPTION:Shh… it’s time for Silent Book Club!\n\n\n\nTake a break from the noise and join us for a cozy afternoon of quiet reading at the Altus Public Library! Bring your current read\, pick something from your TBR pile\, or grab a new favorite from our shelves — it’s all about relaxing and enjoying some peaceful reading time together.\n\n\n\n–Monday\, November 3rd\n–11 AM – 1 PM\n–Altus Public Library\n\n\n\nNo pressure\, no discussion — just you\, your book\, and the comforting hum of pages turning.
URL:https://spls.lib.ok.us/event/silent-book-club-11-a-m-2/
CATEGORIES:Family
END:VEVENT
END:VCALENDAR