BEGIN:VCALENDAR
VERSION:2.0
PRODID:-//Southern Prairie Library - ECPv6.15.14//NONSGML v1.0//EN
CALSCALE:GREGORIAN
METHOD:PUBLISH
X-ORIGINAL-URL:https://spls.lib.ok.us
X-WR-CALDESC:Events for Southern Prairie Library
REFRESH-INTERVAL;VALUE=DURATION:PT1H
X-Robots-Tag:noindex
X-PUBLISHED-TTL:PT1H
BEGIN:VTIMEZONE
TZID:America/Chicago
BEGIN:DAYLIGHT
TZOFFSETFROM:-0600
TZOFFSETTO:-0500
TZNAME:CDT
DTSTART:20240310T080000
END:DAYLIGHT
BEGIN:STANDARD
TZOFFSETFROM:-0500
TZOFFSETTO:-0600
TZNAME:CST
DTSTART:20241103T070000
END:STANDARD
BEGIN:DAYLIGHT
TZOFFSETFROM:-0600
TZOFFSETTO:-0500
TZNAME:CDT
DTSTART:20250309T080000
END:DAYLIGHT
BEGIN:STANDARD
TZOFFSETFROM:-0500
TZOFFSETTO:-0600
TZNAME:CST
DTSTART:20251102T070000
END:STANDARD
BEGIN:DAYLIGHT
TZOFFSETFROM:-0600
TZOFFSETTO:-0500
TZNAME:CDT
DTSTART:20260308T080000
END:DAYLIGHT
BEGIN:STANDARD
TZOFFSETFROM:-0500
TZOFFSETTO:-0600
TZNAME:CST
DTSTART:20261101T070000
END:STANDARD
END:VTIMEZONE
BEGIN:VEVENT
DTSTART;TZID=America/Chicago:20250721T100000
DTEND;TZID=America/Chicago:20250721T110000
DTSTAMP:20260419T183822
CREATED:20250707T202412Z
LAST-MODIFIED:20250707T202638Z
UID:8926-1753092000-1753095600@spls.lib.ok.us
SUMMARY:Learning with STEM @ 10 a.m.
DESCRIPTION:Learning with STEM wasn’t just in June!\n\n\n\nMissed our June schedule? Didn’t see anything that interested you? Don’t worry—there’s so much more science fun ahead this July every Monday and Friday (except holidays)! Check out our full lineup of hands-on STEM activities happening all month long to close out the summer!\n\n\n\nSUMMER ACTIVITY SCHEDULE:\n–Monday\, July 7th – Glowing Bacteria\n–Friday\, July 11th – Play-Doh Bacteria\n–Monday\, July 14th – Enzyme Explorers Pt. 1\n–Friday\, July 18th – Enzyme Explorers Pt. 2\n–Monday\, July 21st – Oil Spill Simulation\n–Friday\, July 25th – Static Butterfly\n\n\n\nBring your curiosity and get ready to experiment\, discover\, and have fun with science!\n\n\n\nAltus Public Library – 421 N Hudson St.\n(580) 477-2890
URL:https://spls.lib.ok.us/event/learning-with-stem-10-a-m-12/
CATEGORIES:Family
END:VEVENT
BEGIN:VEVENT
DTSTART;TZID=America/Chicago:20250721T120000
DTEND;TZID=America/Chicago:20250721T133000
DTSTAMP:20260419T183822
CREATED:20250707T210750Z
LAST-MODIFIED:20250707T210750Z
UID:9007-1753099200-1753104600@spls.lib.ok.us
SUMMARY:Jackson County Health Department Community Outreach @ 12 p.m.
DESCRIPTION:Do you have questions about food assistance\, insurance\, local services or specialized help? Thanks to a partnership with the District 5 Southwest Oklahoma County Health Departments\, help is available! \nA Community Health Worker (CHW) can help you navigate your unique situation. Stop by the Altus Public Library\, 421 N. Hudson\, from 12:00 to 1:30 PM TODAY! There will be a CHW here to help you find the right solutions to your specific needs. \nThis program is FREE and open to the public! Come see us!
URL:https://spls.lib.ok.us/event/jackson-county-health-department-community-outreach-12-p-m-3/
CATEGORIES:Family
END:VEVENT
END:VCALENDAR