BEGIN:VCALENDAR
VERSION:2.0
PRODID:-//Southern Prairie Library - ECPv6.15.14//NONSGML v1.0//EN
CALSCALE:GREGORIAN
METHOD:PUBLISH
X-ORIGINAL-URL:https://spls.lib.ok.us
X-WR-CALDESC:Events for Southern Prairie Library
REFRESH-INTERVAL;VALUE=DURATION:PT1H
X-Robots-Tag:noindex
X-PUBLISHED-TTL:PT1H
BEGIN:VTIMEZONE
TZID:America/Chicago
BEGIN:DAYLIGHT
TZOFFSETFROM:-0600
TZOFFSETTO:-0500
TZNAME:CDT
DTSTART:20240310T080000
END:DAYLIGHT
BEGIN:STANDARD
TZOFFSETFROM:-0500
TZOFFSETTO:-0600
TZNAME:CST
DTSTART:20241103T070000
END:STANDARD
BEGIN:DAYLIGHT
TZOFFSETFROM:-0600
TZOFFSETTO:-0500
TZNAME:CDT
DTSTART:20250309T080000
END:DAYLIGHT
BEGIN:STANDARD
TZOFFSETFROM:-0500
TZOFFSETTO:-0600
TZNAME:CST
DTSTART:20251102T070000
END:STANDARD
BEGIN:DAYLIGHT
TZOFFSETFROM:-0600
TZOFFSETTO:-0500
TZNAME:CDT
DTSTART:20260308T080000
END:DAYLIGHT
BEGIN:STANDARD
TZOFFSETFROM:-0500
TZOFFSETTO:-0600
TZNAME:CST
DTSTART:20261101T070000
END:STANDARD
END:VTIMEZONE
BEGIN:VEVENT
DTSTART;TZID=America/Chicago:20250717T140000
DTEND;TZID=America/Chicago:20250717T150000
DTSTAMP:20260419T183755
CREATED:20250707T211456Z
LAST-MODIFIED:20250707T211456Z
UID:9017-1752760800-1752764400@spls.lib.ok.us
SUMMARY:Finer Arts of Oklahoma @ 2 p.m. @ the Altus Community Center
DESCRIPTION:Pow! Biff! Bam! Join Finer Arts as we journey into the history and stories of sequential art! Participants learn about panels\, onomatopoeia and how art and words come together and come alive on the comic’s page. Super Educational! Super Fun! Grab your cap and cowl and soar with Finer Arts!
URL:https://spls.lib.ok.us/event/finer-arts-of-oklahoma-2-p-m-the-altus-community-center/
CATEGORIES:Family
END:VEVENT
END:VCALENDAR