BEGIN:VCALENDAR
VERSION:2.0
PRODID:-//Southern Prairie Library - ECPv6.15.14//NONSGML v1.0//EN
CALSCALE:GREGORIAN
METHOD:PUBLISH
X-ORIGINAL-URL:https://spls.lib.ok.us
X-WR-CALDESC:Events for Southern Prairie Library
REFRESH-INTERVAL;VALUE=DURATION:PT1H
X-Robots-Tag:noindex
X-PUBLISHED-TTL:PT1H
BEGIN:VTIMEZONE
TZID:America/Chicago
BEGIN:DAYLIGHT
TZOFFSETFROM:-0600
TZOFFSETTO:-0500
TZNAME:CDT
DTSTART:20240310T080000
END:DAYLIGHT
BEGIN:STANDARD
TZOFFSETFROM:-0500
TZOFFSETTO:-0600
TZNAME:CST
DTSTART:20241103T070000
END:STANDARD
BEGIN:DAYLIGHT
TZOFFSETFROM:-0600
TZOFFSETTO:-0500
TZNAME:CDT
DTSTART:20250309T080000
END:DAYLIGHT
BEGIN:STANDARD
TZOFFSETFROM:-0500
TZOFFSETTO:-0600
TZNAME:CST
DTSTART:20251102T070000
END:STANDARD
BEGIN:DAYLIGHT
TZOFFSETFROM:-0600
TZOFFSETTO:-0500
TZNAME:CDT
DTSTART:20260308T080000
END:DAYLIGHT
BEGIN:STANDARD
TZOFFSETFROM:-0500
TZOFFSETTO:-0600
TZNAME:CST
DTSTART:20261101T070000
END:STANDARD
END:VTIMEZONE
BEGIN:VEVENT
DTSTART;TZID=America/Chicago:20250703T140000
DTEND;TZID=America/Chicago:20250703T150000
DTSTAMP:20260419T170753
CREATED:20250707T210925Z
LAST-MODIFIED:20250707T211241Z
UID:9009-1751551200-1751554800@spls.lib.ok.us
SUMMARY:Extreme Animals @ 2 p.m. @ the Altus Community Center
DESCRIPTION:Extreme Animals is coming to the Altus Public Library!\n\nJust a reminder before our program this afternoon!\n\n\n\nThis program is going to be a bit different as we will have two sessions: 2 PM & 4 PM. To ensure a fun and safe experience for both our guests and the animals though\, each session will be limited to 175 participants. We appreciate your understanding and cooperation as we help keep the event enjoyable for everyone—human and animal alike!\n\nArrive early to get your spot—we can’t wait to see you there!
URL:https://spls.lib.ok.us/event/extreme-animals-2-p-m/
CATEGORIES:Family
END:VEVENT
BEGIN:VEVENT
DTSTART;TZID=America/Chicago:20250703T160000
DTEND;TZID=America/Chicago:20250703T170000
DTSTAMP:20260419T170753
CREATED:20250707T210952Z
LAST-MODIFIED:20250707T211218Z
UID:9011-1751558400-1751562000@spls.lib.ok.us
SUMMARY:Extreme Animals @ 4 p.m. @ the Altus Community Center
DESCRIPTION:Extreme Animals is coming to the Altus Public Library!\n\nJust a reminder before our program this afternoon!\n\n\n\nThis program is going to be a bit different as we will have two sessions: 2 PM & 4 PM. To ensure a fun and safe experience for both our guests and the animals though\, each session will be limited to 175 participants. We appreciate your understanding and cooperation as we help keep the event enjoyable for everyone—human and animal alike!\n\nArrive early to get your spot—we can’t wait to see you there!
URL:https://spls.lib.ok.us/event/extreme-animals-4-p-m/
CATEGORIES:Family
END:VEVENT
END:VCALENDAR