BEGIN:VCALENDAR
VERSION:2.0
PRODID:-//Southern Prairie Library - ECPv6.15.14//NONSGML v1.0//EN
CALSCALE:GREGORIAN
METHOD:PUBLISH
X-ORIGINAL-URL:https://spls.lib.ok.us
X-WR-CALDESC:Events for Southern Prairie Library
REFRESH-INTERVAL;VALUE=DURATION:PT1H
X-Robots-Tag:noindex
X-PUBLISHED-TTL:PT1H
BEGIN:VTIMEZONE
TZID:America/Chicago
BEGIN:DAYLIGHT
TZOFFSETFROM:-0600
TZOFFSETTO:-0500
TZNAME:CDT
DTSTART:20240310T080000
END:DAYLIGHT
BEGIN:STANDARD
TZOFFSETFROM:-0500
TZOFFSETTO:-0600
TZNAME:CST
DTSTART:20241103T070000
END:STANDARD
BEGIN:DAYLIGHT
TZOFFSETFROM:-0600
TZOFFSETTO:-0500
TZNAME:CDT
DTSTART:20250309T080000
END:DAYLIGHT
BEGIN:STANDARD
TZOFFSETFROM:-0500
TZOFFSETTO:-0600
TZNAME:CST
DTSTART:20251102T070000
END:STANDARD
BEGIN:DAYLIGHT
TZOFFSETFROM:-0600
TZOFFSETTO:-0500
TZNAME:CDT
DTSTART:20260308T080000
END:DAYLIGHT
BEGIN:STANDARD
TZOFFSETFROM:-0500
TZOFFSETTO:-0600
TZNAME:CST
DTSTART:20261101T070000
END:STANDARD
END:VTIMEZONE
BEGIN:VEVENT
DTSTART;TZID=America/Chicago:20250702T110000
DTEND;TZID=America/Chicago:20250702T120000
DTSTAMP:20260419T165740
CREATED:20250707T204144Z
LAST-MODIFIED:20250707T204144Z
UID:8951-1751454000-1751457600@spls.lib.ok.us
SUMMARY:Story Time & Craft @ 11 a.m.
DESCRIPTION:Join us at the library this Wednesday at 11 a.m. for Story Time and Craft! \nThe theme for July 2nd is Art! The activity is colorful popsicle art! \nLet’s read together and get creative with fun activities!
URL:https://spls.lib.ok.us/event/story-time-craft-11-a-m-32/
CATEGORIES:Family,Infants & Toddlers up to age 5
END:VEVENT
BEGIN:VEVENT
DTSTART;TZID=America/Chicago:20250702T140000
DTEND;TZID=America/Chicago:20250702T150000
DTSTAMP:20260419T165740
CREATED:20250707T203050Z
LAST-MODIFIED:20250707T203050Z
UID:8939-1751464800-1751468400@spls.lib.ok.us
SUMMARY:STEM Wednesday @ 2 p.m.
DESCRIPTION:STEM Wednesday is Back!\n\n\n\nJoin us for an exciting STEM session where we’ll be diving into the world of Binary Code Bracelets!\n\n\n\nParticipants will create their own bracelets or necklaces featuring secret messages they’ve coded using Binary — the language of computers! It’s hands-on\, educational\, and a whole lot of fun!\n\n\n\n\n\nCome get crafty with code!
URL:https://spls.lib.ok.us/event/stem-wednesday-2-p-m/
CATEGORIES:Ages 8-18,Family
END:VEVENT
END:VCALENDAR