BEGIN:VCALENDAR
VERSION:2.0
PRODID:-//Southern Prairie Library - ECPv6.15.14//NONSGML v1.0//EN
CALSCALE:GREGORIAN
METHOD:PUBLISH
X-ORIGINAL-URL:https://spls.lib.ok.us
X-WR-CALDESC:Events for Southern Prairie Library
REFRESH-INTERVAL;VALUE=DURATION:PT1H
X-Robots-Tag:noindex
X-PUBLISHED-TTL:PT1H
BEGIN:VTIMEZONE
TZID:America/Chicago
BEGIN:DAYLIGHT
TZOFFSETFROM:-0600
TZOFFSETTO:-0500
TZNAME:CDT
DTSTART:20240310T080000
END:DAYLIGHT
BEGIN:STANDARD
TZOFFSETFROM:-0500
TZOFFSETTO:-0600
TZNAME:CST
DTSTART:20241103T070000
END:STANDARD
BEGIN:DAYLIGHT
TZOFFSETFROM:-0600
TZOFFSETTO:-0500
TZNAME:CDT
DTSTART:20250309T080000
END:DAYLIGHT
BEGIN:STANDARD
TZOFFSETFROM:-0500
TZOFFSETTO:-0600
TZNAME:CST
DTSTART:20251102T070000
END:STANDARD
BEGIN:DAYLIGHT
TZOFFSETFROM:-0600
TZOFFSETTO:-0500
TZNAME:CDT
DTSTART:20260308T080000
END:DAYLIGHT
BEGIN:STANDARD
TZOFFSETFROM:-0500
TZOFFSETTO:-0600
TZNAME:CST
DTSTART:20261101T070000
END:STANDARD
END:VTIMEZONE
BEGIN:VEVENT
DTSTART;TZID=America/Chicago:20250626T140000
DTEND;TZID=America/Chicago:20250626T150000
DTSTAMP:20260419T151702
CREATED:20250605T144356Z
LAST-MODIFIED:20250605T144356Z
UID:8770-1750946400-1750950000@spls.lib.ok.us
SUMMARY:Musician Monty Harper at the Altus Community Center @ 2 p.m.
DESCRIPTION:Please join us for musician Monty Harper on Thursday\, June 26th\, 2025!  \nThe Altus program will be at the Altus Community Center\, 401 Falcon Road\, at 2:00 p.m.  \nThe Hollis program will be at the Hollis Civic Center\, 208 W. Jones Street\, at 10:00 a.m.  \nThe programs are approximately 45 minutes long and are suitable for all ages. Please join us!!!
URL:https://spls.lib.ok.us/event/musician-monty-harper-at-the-altus-community-center-2-p-m/
CATEGORIES:Family
END:VEVENT
END:VCALENDAR