BEGIN:VCALENDAR
VERSION:2.0
PRODID:-//Southern Prairie Library - ECPv6.15.14//NONSGML v1.0//EN
CALSCALE:GREGORIAN
METHOD:PUBLISH
X-ORIGINAL-URL:https://spls.lib.ok.us
X-WR-CALDESC:Events for Southern Prairie Library
REFRESH-INTERVAL;VALUE=DURATION:PT1H
X-Robots-Tag:noindex
X-PUBLISHED-TTL:PT1H
BEGIN:VTIMEZONE
TZID:America/Chicago
BEGIN:DAYLIGHT
TZOFFSETFROM:-0600
TZOFFSETTO:-0500
TZNAME:CDT
DTSTART:20240310T080000
END:DAYLIGHT
BEGIN:STANDARD
TZOFFSETFROM:-0500
TZOFFSETTO:-0600
TZNAME:CST
DTSTART:20241103T070000
END:STANDARD
BEGIN:DAYLIGHT
TZOFFSETFROM:-0600
TZOFFSETTO:-0500
TZNAME:CDT
DTSTART:20250309T080000
END:DAYLIGHT
BEGIN:STANDARD
TZOFFSETFROM:-0500
TZOFFSETTO:-0600
TZNAME:CST
DTSTART:20251102T070000
END:STANDARD
BEGIN:DAYLIGHT
TZOFFSETFROM:-0600
TZOFFSETTO:-0500
TZNAME:CDT
DTSTART:20260308T080000
END:DAYLIGHT
BEGIN:STANDARD
TZOFFSETFROM:-0500
TZOFFSETTO:-0600
TZNAME:CST
DTSTART:20261101T070000
END:STANDARD
END:VTIMEZONE
BEGIN:VEVENT
DTSTART;TZID=America/Chicago:20250614T140000
DTEND;TZID=America/Chicago:20250614T150000
DTSTAMP:20260419T165738
CREATED:20250605T162246Z
LAST-MODIFIED:20250605T162259Z
UID:8834-1749909600-1749913200@spls.lib.ok.us
SUMMARY:Craft & Game Day @ 2 p.m.
DESCRIPTION:Join us for Craft & Game Day! \nKids have their choice of a fun craft or a fun game to play with others. It’s totally up to you what you do!
URL:https://spls.lib.ok.us/event/8834/
CATEGORIES:Family
END:VEVENT
END:VCALENDAR