BEGIN:VCALENDAR
VERSION:2.0
PRODID:-//Southern Prairie Library - ECPv6.15.14//NONSGML v1.0//EN
CALSCALE:GREGORIAN
METHOD:PUBLISH
X-ORIGINAL-URL:https://spls.lib.ok.us
X-WR-CALDESC:Events for Southern Prairie Library
REFRESH-INTERVAL;VALUE=DURATION:PT1H
X-Robots-Tag:noindex
X-PUBLISHED-TTL:PT1H
BEGIN:VTIMEZONE
TZID:America/Chicago
BEGIN:DAYLIGHT
TZOFFSETFROM:-0600
TZOFFSETTO:-0500
TZNAME:CDT
DTSTART:20240310T080000
END:DAYLIGHT
BEGIN:STANDARD
TZOFFSETFROM:-0500
TZOFFSETTO:-0600
TZNAME:CST
DTSTART:20241103T070000
END:STANDARD
BEGIN:DAYLIGHT
TZOFFSETFROM:-0600
TZOFFSETTO:-0500
TZNAME:CDT
DTSTART:20250309T080000
END:DAYLIGHT
BEGIN:STANDARD
TZOFFSETFROM:-0500
TZOFFSETTO:-0600
TZNAME:CST
DTSTART:20251102T070000
END:STANDARD
BEGIN:DAYLIGHT
TZOFFSETFROM:-0600
TZOFFSETTO:-0500
TZNAME:CDT
DTSTART:20260308T080000
END:DAYLIGHT
BEGIN:STANDARD
TZOFFSETFROM:-0500
TZOFFSETTO:-0600
TZNAME:CST
DTSTART:20261101T070000
END:STANDARD
END:VTIMEZONE
BEGIN:VEVENT
DTSTART;TZID=America/Chicago:20250604T110000
DTEND;TZID=America/Chicago:20250604T120000
DTSTAMP:20260419T151713
CREATED:20250605T145706Z
LAST-MODIFIED:20250605T145706Z
UID:8794-1749034800-1749038400@spls.lib.ok.us
SUMMARY:Story Time & Craft @ 11 a.m.
DESCRIPTION:Join us at the library this Wednesday at 11 a.m. for Story Time and Craft! \nThe theme for June 4th is Summer! The activity is making dotted ice cream! \nLet’s read together and get creative with fun activities!
URL:https://spls.lib.ok.us/event/story-time-craft-11-a-m-28/
CATEGORIES:Family,Infants & Toddlers up to age 5
END:VEVENT
BEGIN:VEVENT
DTSTART;TZID=America/Chicago:20250604T140000
DTEND;TZID=America/Chicago:20250604T150000
DTSTAMP:20260419T151713
CREATED:20250605T143742Z
LAST-MODIFIED:20250605T143742Z
UID:8764-1749045600-1749049200@spls.lib.ok.us
SUMMARY:STEAM Day @ 2 p.m.
DESCRIPTION:STEAM Day: Build an Atom! Get ready for a hands-on science adventure! Join us on Wednesday\, June 4th at 2 PM for our STEAM Day: Build an Atom program!Parents and kids are invited to explore the building blocks of matter in a fun and creative way — with play dough! Together\, we’ll shape protons\, neutrons\, and electrons\, discover how they come together to form atoms\, and learn about the Periodic Table of Elements along the way.Come spark your child’s love for science with us!
URL:https://spls.lib.ok.us/event/steam-day-2-p-m/
CATEGORIES:Family
END:VEVENT
END:VCALENDAR