BEGIN:VCALENDAR
VERSION:2.0
PRODID:-//Southern Prairie Library - ECPv6.15.14//NONSGML v1.0//EN
CALSCALE:GREGORIAN
METHOD:PUBLISH
X-ORIGINAL-URL:https://spls.lib.ok.us
X-WR-CALDESC:Events for Southern Prairie Library
REFRESH-INTERVAL;VALUE=DURATION:PT1H
X-Robots-Tag:noindex
X-PUBLISHED-TTL:PT1H
BEGIN:VTIMEZONE
TZID:America/Chicago
BEGIN:DAYLIGHT
TZOFFSETFROM:-0600
TZOFFSETTO:-0500
TZNAME:CDT
DTSTART:20240310T080000
END:DAYLIGHT
BEGIN:STANDARD
TZOFFSETFROM:-0500
TZOFFSETTO:-0600
TZNAME:CST
DTSTART:20241103T070000
END:STANDARD
BEGIN:DAYLIGHT
TZOFFSETFROM:-0600
TZOFFSETTO:-0500
TZNAME:CDT
DTSTART:20250309T080000
END:DAYLIGHT
BEGIN:STANDARD
TZOFFSETFROM:-0500
TZOFFSETTO:-0600
TZNAME:CST
DTSTART:20251102T070000
END:STANDARD
BEGIN:DAYLIGHT
TZOFFSETFROM:-0600
TZOFFSETTO:-0500
TZNAME:CDT
DTSTART:20260308T080000
END:DAYLIGHT
BEGIN:STANDARD
TZOFFSETFROM:-0500
TZOFFSETTO:-0600
TZNAME:CST
DTSTART:20261101T070000
END:STANDARD
END:VTIMEZONE
BEGIN:VEVENT
DTSTART;TZID=America/Chicago:20250415T160000
DTEND;TZID=America/Chicago:20250415T170000
DTSTAMP:20260419T100702
CREATED:20250404T145418Z
LAST-MODIFIED:20250404T145418Z
UID:8548-1744732800-1744736400@spls.lib.ok.us
SUMMARY:Tween Tuesday @ 4 p.m.
DESCRIPTION:Hey tweens! The countdown is on—Tween Tuesday is just two weeks away\, and we’ve got an action-packed afternoon of Minute to Win It challenges waiting for you! Get ready to test your skills\, race against the clock\, and tackle wild and wacky tasks before time runs out! \n\nBring your A-game\, a competitive spirit\, and get ready for lots of laughs and friendly competition! No registration required—just show up and be ready to have a blast!
URL:https://spls.lib.ok.us/event/tween-tuesday-4-p-m-6/
CATEGORIES:Ages 10-16,Family
END:VEVENT
END:VCALENDAR