BEGIN:VCALENDAR
VERSION:2.0
PRODID:-//Southern Prairie Library - ECPv6.15.14//NONSGML v1.0//EN
CALSCALE:GREGORIAN
METHOD:PUBLISH
X-WR-CALNAME:Southern Prairie Library
X-ORIGINAL-URL:https://spls.lib.ok.us
X-WR-CALDESC:Events for Southern Prairie Library
REFRESH-INTERVAL;VALUE=DURATION:PT1H
X-Robots-Tag:noindex
X-PUBLISHED-TTL:PT1H
BEGIN:VTIMEZONE
TZID:America/Chicago
BEGIN:DAYLIGHT
TZOFFSETFROM:-0600
TZOFFSETTO:-0500
TZNAME:CDT
DTSTART:20230312T080000
END:DAYLIGHT
BEGIN:STANDARD
TZOFFSETFROM:-0500
TZOFFSETTO:-0600
TZNAME:CST
DTSTART:20231105T070000
END:STANDARD
BEGIN:DAYLIGHT
TZOFFSETFROM:-0600
TZOFFSETTO:-0500
TZNAME:CDT
DTSTART:20240310T080000
END:DAYLIGHT
BEGIN:STANDARD
TZOFFSETFROM:-0500
TZOFFSETTO:-0600
TZNAME:CST
DTSTART:20241103T070000
END:STANDARD
BEGIN:DAYLIGHT
TZOFFSETFROM:-0600
TZOFFSETTO:-0500
TZNAME:CDT
DTSTART:20250309T080000
END:DAYLIGHT
BEGIN:STANDARD
TZOFFSETFROM:-0500
TZOFFSETTO:-0600
TZNAME:CST
DTSTART:20251102T070000
END:STANDARD
END:VTIMEZONE
BEGIN:VEVENT
DTSTART;TZID=America/Chicago:20240606T140000
DTEND;TZID=America/Chicago:20240606T150000
DTSTAMP:20260419T070556
CREATED:20240604T174526Z
LAST-MODIFIED:20240604T174526Z
UID:7649-1717682400-1717686000@spls.lib.ok.us
SUMMARY:Magician Jonathan Meyer @ 2 p.m. @ the Altus Community Center
DESCRIPTION:Please join us for an interactive magic show with professional magician Jonathan Meyer on June 6th\, 2024! \n\n\n\n\n\nThe Altus program will be at the Altus Community Center\, 401 Falcon Road\, at 2:00 p.m.\n\nThe program is approximately 45 minutes long and is suitable for all ages. Please join us!!!
URL:https://spls.lib.ok.us/event/magician-jonathan-meyer-2-p-m-the-altus-community-center/
CATEGORIES:Family
END:VEVENT
END:VCALENDAR